Workbook

Sheet NĐ31-Biểu 49
A1: ỦY BAN NHÂN DÂN
A2: XÃ TIÊN TIẾN
A7: QUYẾT TOÁN CÂN ĐỐI NGUỒN THU, CHI NGÂN SÁCH NGÂN SÁCH XÃ NĂM 2025
A8: =+'NĐ31- Biểu 48- cân đối 2025'!A5 -> (Kèm theo Quyết đinh số 892/QĐ-UBND ngày 07/4/2026 của UBND xã Đoàn Đào)
A9: =+'NĐ31- Biểu 48- cân đối 2025'!#REF! -> #REF!
D10: Đơn vị tính: Đồng
A11: Số TT | B11: Nội dung | C11: Dự toán | D11: Quyết toán | E11: So sánh (%)
A12: A | B12: B | C12: 1 | D12: 2 | E12: 3
A13: A | B13: NGÂN SÁCH CẤP XÃ
A14: I | B14: Nguồn thu ngân sách | C14: =C15+C16+C19+C20+C21 -> 0 | D14: =D15+D16+D19+D20+D21 -> 0 | E14: =D14/C14 -> #DIV/0!
A15: 1 | B15: Thu ngân sách được hưởng theo phân cấp | E15: =D15/C15 -> #DIV/0!
A16: 2 | B16: Thu bổ sung từ ngân sách cấp trên | C16: =SUM(C17:C18) -> 0 | D16: =SUM(D17:D18) -> 0 | E16: =D16/C16 -> #DIV/0!
A17: - | B17: Bổ sung cân đối ngân sách | E17: =D17/C17 -> #DIV/0!
A18: - | B18: Bổ sung có mục tiêu | E18: =D18/C18 -> #DIV/0!
A19: 3 | B19: Thu từ ngân sách cấp dưới nộp lên | D19: =+'TT342-Biểu 60-ok'!D22 -> 0
A20: 4 | B20: Thu kết dư
A21: 5 | B21: Thu chuyển nguồn từ năm trước chuyển sang
A22: II | B22: Chi ngân sách | C22: =C23+C24+C28+C27+C29 -> 0 | D22: =D23+D24+D28+D27+D29 -> 0 | E22: =D22/C22 -> #DIV/0! | F22: =+C22+C40 -> 0
A23: 1 | B23: Chi thuộc nhiệm vụ của ngân sách cấp huyện | E23: =D23/C23 -> #DIV/0!
A24: 2 | B24: Chi bổ sung cho ngân sách cấp dưới | C24: =SUM(C25:C26) -> 0 | D24: =SUM(D25:D26) -> 0
A25: - | B25: Chi bổ sung cân đối ngân sách
A26: - | B26: Chi bổ sung có mục tiêu
A27: 3 | B27: Chi nộp ngân sách cấp trên | D27: =+'TT342- Biểu 62-ok'!E55 -> 0
A28: 4 | B28: Chi chuyển nguồn sang năm sau
A29: 5 | B29: Các nhiệm vụ chi khác | D29: =+'TT342-Biểu 60-ok'!I21 -> 0
A30: III | B30: Chi trả nợ gốc từ nguồn bội thu, tăng thu, tiết kiệm, kết dư ngân sách cấp tỉnh
A31: IV | B31: Bội chi NSĐP/Kết dư NSĐP | C31: =C14-C22 -> 0 | D31: =D14-D22 -> 0
A32: B | B32: NGÂN SÁCH XÃ
A33: I | B33: Nguồn thu ngân sách | C33: =C34+C35+C38+C39 -> 0 | D33: =D34+D35+D38+D39 -> 0 | E33: =D33/C33 -> #DIV/0!
A34: 1 | B34: Thu ngân sách được hưởng theo phân cấp | E34: =D34/C34 -> #DIV/0!
A35: 2 | B35: Thu bổ sung từ ngân sách cấp trên | C35: =SUM(C36:C37) -> 0 | D35: =D36+D37 -> 0 | E35: =D35/C35 -> #DIV/0!
A36: - | B36: Thu bổ sung cân đối ngân sách | E36: =D36/C36 -> #DIV/0!
A37: - | B37: Thu bổ sung có mục tiêu
A38: 3 | B38: Thu kết dư | C38: 0
A39: 4 | B39: Thu chuyển nguồn từ năm trước chuyển sang | C39: 0
A40: II | B40: Chi ngân sách | C40: =C41+C42+C45+C46 -> 0 | D40: =D41+D42+D45+D46 -> 648522336728 | E40: =D40/C40 -> #DIV/0!
A41: 1 | B41: Chi thuộc nhiệm vụ của ngân sách cấp xã | C41: =C33 -> 0 | D41: =+'TT342-Biểu 60-ok'!J13+'TT342-Biểu 60-ok'!J15 -> 565861662944 | E41: =D41/C41 -> #DIV/0!
A42: 2 | B42: Chi bổ sung cho ngân sách cấp dưới | C42: 0 | D42: 0
A43: - | B43: Chi bổ sung cân đối ngân sách | C43: 0 | D43: =+'TT342- Biểu 62-ok'!H51 -> 0
A44: - | B44: Chi bổ sung có mục tiêu | C44: 0 | D44: =+'TT342- Biểu 62-ok'!H52 -> 0
...

Sheet NĐ31- Biểu 48- cân đối 2025
A4: QUYẾT TOÁN CÂN ĐỐI NGÂN SÁCH ĐỊA PHƯƠNG NĂM 2025
A5: (Kèm theo Quyết đinh số 892/QĐ-UBND ngày 07/4/2026 của UBND xã Đoàn Đào)
E6: Đơn vị: Đồng
A7: STT | B7: Nội dung | C7: Dự toán | D7: Quyết toán | E7: So sánh
E8: Tuyệt đối | F8: Tương đối (%)
A9: A | B9: B | C9: 1 | D9: 2 | E9: 3=2-1 | F9: 4=2/1
A10: A | B10: TỔNG NGUỒN THU NSĐP | C10: =C11+C14+C17+C18+C19 -> 124617474769 | D10: =D11+D14+D17+D18+D19 -> 330219727980 | E10: =D10-C10 -> 205602253211 | F10: =D10/C10 -> 2.649867
A11: I | B11: Thu NSĐP được hưởng theo phân cấp | C11: ='NĐ31- Biểu 50'!D11 -> 84041474769 | D11: ='NĐ31- Biểu 50'!F11 -> 142061545734 | E11: =D11-C11 -> 58020070965 | F11: =D11/C11 -> 1.6903743 | G11: =C11-'NĐ31- Biểu 50'!D10 -> -40576000000
A12: - | B12: Thu NSĐP hưởng 100% | C12: ='NĐ31- Biểu 50'!D34+'NĐ31- Biểu 50'!D45+'NĐ31- Biểu 50'!D37+'NĐ31- Biểu 50'!D43+'NĐ31- Biểu 50'!D64+'NĐ31- Biểu 50'!D65+'NĐ31- Biểu 50'!D59 -> 808000000 | D12: ='NĐ31- Biểu 50'!F34+'NĐ31- Biểu 50'!F45+'NĐ31- Biểu 50'!F37+'NĐ31- Biểu 50'!F43+'NĐ31- Biểu 50'!F59 -> 2327069557 | E12: =D12-C12 -> 1519069557 | F12: =D12/C12 -> 2.8800366
A13: - | B13: Thu NSĐP hưởng từ các khoản thu phân chia | C13: =C11-C12 -> 83233474769 | D13: =D11-D12 -> 139734476177 | E13: =D13-C13 -> 56501001408 | F13: =D13/C13 -> 1.6788255
A14: II | B14: Thu bổ sung từ ngân sách cấp trên | C14: =SUM(C15:C16) -> 40576000000 | D14: =SUM(D15:D16) -> 175837855259 | E14: =D14-C14 -> 135261855259 | F14: =D14/C14 -> 4.3335434 | G14: =D11-'NĐ31- Biểu 50'!F10 -> -188158182246
A15: 1 | B15: Thu bổ sung cân đối ngân sách | C15: ='NĐ31- Biểu 50'!D61 -> 28676000000 | D15: ='NĐ31- Biểu 50'!F61 -> 28676000000 | E15: =D15-C15 -> 0 | F15: =D15/C15 -> 1
A16: 2 | B16: Thu bổ sung có mục tiêu | C16: ='NĐ31- Biểu 50'!D62 -> 11900000000 | D16: ='NĐ31- Biểu 50'!F62 -> 147161855259 | E16: =D16-C16 -> 135261855259 | F16: =D16/C16 -> 12.366542 | G16: ='NĐ31- Biểu 50'!F60 -> 175837855259
A17: III | B17: Thu từ ngân sách cấp dưới nộp lên | E17: =D17-C17 -> 0
A18: IV | B18: Thu kết dư | C18: ='NĐ31- Biểu 50'!D64 -> 0 | D18: ='NĐ31- Biểu 50'!F64 -> 4717217296 | E18: =D18-C18 -> 4717217296
A19: V | B19: Thu chuyển nguồn từ năm trước chuyển sang | C19: ='NĐ31- Biểu 50'!D65 -> 0 | D19: ='NĐ31- Biểu 50'!F65 -> 7603109691 | E19: =D19-C19 -> 7603109691 | G19: =G14+G16 -> -12320326987
A20: B | B20: TỔNG CHI NSĐP | C20: =C21+C29+C32+C33 -> 112717474769 | D20: =D21+D29+D32+D33 -> 295880417617 | E20: =D20-C20 -> 183162942848 | F20: =D20/C20 -> 2.6249738
A21: I | B21: Tổng chi cân đối NSĐP | C21: =SUM(C22:C28) -> 112717474769 | D21: =SUM(D22:D28) -> 283122194899 | E21: =D21-C21 -> 170404720130 | F21: =D21/C21 -> 2.5117862 | G21: =D10-'NĐ31- Biểu 50'!F10 -> 0
A22: 1 | B22: Chi đầu tư phát triển | C22: ='NĐ31- Biểu 52- QT chi'!$C$14 -> 82285474769 | D22: ='NĐ31- Biểu 52- QT chi'!$D$14 -> 145253363756 | E22: =D22-C22 -> 62967888987 | F22: =D22/C22 -> 1.765237
A23: 2 | B23: Chi thường xuyên | C23: ='NĐ31- Biểu 52- QT chi'!$C$31 -> 29137000000 | D23: ='NĐ31- Biểu 52- QT chi'!$D$31 -> 137868831143 | E23: =D23-C23 -> 108731831143 | F23: =D23/C23 -> 4.7317442
A24: 3 | B24: Các nhiệm vụ chi khác | E24: =D24-C24 -> 0
A25: 4 | B25: Chi bổ sung quỹ dự trữ tài chính | E25: =D25-C25 -> 0
A26: 5 | B26: Dự phòng ngân sách | C26: ='NĐ31- Biểu 52- QT chi'!$C$46 -> 1295000000 | E26: =D26-C26 -> -1295000000 | F26: =D26/C26 -> 0
A27: 6 | B27: Chi tạo nguồn, điều chỉnh tiền lương | E27: =D27-C27 -> 0
A28: 7 | B28: Chi bổ sung mục tiêu từ ngân sách cấp trên | E28: =D28-C28 -> 0
A29: II | B29: Chi các chương trình mục tiêu | C29: =SUM(C30:C31) -> 0 | D29: =SUM(D30:D31) -> 0 | E29: =D29-C29 -> 0
A30: 1 | B30: Chi các chương trình mục tiêu quốc gia | E30: =D30-C30 -> 0
A31: 2 | B31: Chi các chương trình mục tiêu, nhiệm vụ | E31: =D31-C31 -> 0
A32: III | B32: Chi chuyển giao ngân sách | D32: ='NĐ31- Biểu 52- QT chi'!$D$12 -> 293381000 | E32: =D32-C32 -> 293381000
A33: IV | B33: Chi chuyển nguồn sang năm sau | D33: ='NĐ31- Biểu 52- QT chi'!D49 -> 12464841718 | E33: =D33-C33 -> 12464841718
A34: C | B34: BỘI CHI NSĐP/BỘI THU NSĐP/KẾT DƯ NSĐP | D34: =D10-D20 -> 34339310363 | E34: =D34-C34 -> 34339310363
A35: D | B35: CHI TRẢ NỢ GỐC CỦA NSĐP | E35: =D35-C35 -> 0
A36: I | B36: Từ nguồn vay để trả nợ gốc | E36: =D36-C36 -> 0
A37: II | B37: Từ nguồn bội thu, tăng thu, tiết kiệm chi, kết dư ngân sách cấp tỉnh | E37: =D37-C37 -> 0
A38: E | B38: TỔNG MỨC VAY CỦA NSĐP | E38: =D38-C38 -> 0
A39: I | B39: Vay để bù đắp bội chi | E39: =D39-C39 -> 0
A40: II | B40: Vay để trả nợ gốc | E40: =D40-C40 -> 0
A41: G | B41: TỔNG MỨC DƯ NỢ VAY CUỐI NĂM CỦA NSĐP | E41: =D41-C41 -> 0

Sheet NĐ31- Biểu 50
F1: Biểu mẫu số 50
A4: QUYẾT TOÁN NGUỒN THU NGÂN SÁCH NHÀ NƯỚC TRÊN ĐỊA BÀN THEO LĨNH VỰC NĂM 2025
A5: ='NĐ31- Biểu 48- cân đối 2025'!A5:F5 -> (Kèm theo Quyết đinh số 892/QĐ-UBND ngày 07/4/2026 của UBND xã Đoàn Đào)
F6: Đơn vị: Đồng
A7: STT | B7: Nội dung | C7: Dự toán | E7: Quyết toán | G7: So sánh (%)
C8: Tổng thu NSNN | D8: Thu NSĐP | E8: Tổng thu NSNN | F8: Thu NSĐP | G8: Tổng thu NSNN | H8: Thu NSĐP
A9: A | B9: B | C9: 1 | D9: 2 | E9: 3 | F9: 4 | G9: 5=3/1 | H9: 6=4/2
B10: TỔNG NGUỒN THU NSNN (A+B+C+D) | C10: =C11+C60+C63+C64+C65 -> 161304678241 | D10: =D11+D60+D63+D64+D65 -> 124617474769 | E10: =E11+E60+E63+E64+E65 -> 421117658070 | F10: =F11+F60+F63+F64+F65 -> 330219727980 | G10: =E10/C10 -> 2.6106971 | H10: =F10/D10 -> 2.649867
A11: A | B11: TỔNG THU CÂN ĐỐI NSNN | C11: =C12+C50+C51+C58+C59 -> 120728678241 | D11: =D12+D50+D51+D58+D59 -> 84041474769 | E11: =E12+E50+E51+E58+E59 -> 232959475824 | F11: =F12+F50+F51+F58+F59 -> 142061545734 | G11: =E11/C11 -> 1.9296117 | H11: =F11/D11 -> 1.6903743
A12: I | B12: Thu nội địa | C12: =C13+C17+C19+C23+C29+C30+C33+C34+C36+C37+C38+C39+C40+C41+C42+C43+C45+C47+C49 -> 120728678241 | D12: =D13+D17+D19+D23+D29+D30+D33+D34+D36+D37+D38+D39+D40+D41+D42+D43+D45+D47+D49 -> 84041474769 | E12: =E13+E17+E19+E23+E29+E30+E33+E34+E36+E37+E38+E39+E40+E41+E42+E43+E45+E47+E49 -> 232926111510 | F12: =F13+F17+F19+F23+F29+F30+F33+F34+F36+F37+F38+F39+F40+F41+F42+F43+F45+F47+F49 -> 142028181420 | G12: =E12/C12 -> 1.9293354 | H12: =F12/D12 -> 1.6899773
A13: 1 | B13: Thu từ khu vực DNNN do trung ương quản lý
A14: - | B14: Thuế giá trị gia tăng
A15: - | B15: Thuế tài nguyên
A16: - | B16: Thuế thu nhập doanh nghiệp
A17: 2 | B17: Thu từ khu vực DNNN do địa phương quản lý
A18: - | B18: Thuế giá trị gia tăng + Thuế TNDN
A19: 3 | B19: Thu từ khu vực DN có vốn đầu tư nước ngoài
A20: - | B20: Thuế giá trị gia tăng + Thuế TNDN
A21: - | B21: Thuế tài nguyên
A22: - | B22: Tiền thuê mặt đất, mặt nước
A23: 4 | B23: Thu từ khu vực kinh tế ngoài quốc doanh | C23: =SUM(C24:C28) -> 590000000 | D23: =SUM(D24:D28) -> 236000000 | E23: =SUM(E24:E28) -> 6709596011 | F23: =SUM(F24:F28) -> 748634751 | G23: =E23/C23 -> 11.372197 | H23: =F23/D23 -> 3.1721811
A24: - | B24: Thuế giá trị gia tăng | C24: 590000000 | D24: 236000000 | E24: 6574728289 | F24: 741874711 | G24: =E24/C24 -> 11.143607 | H24: =F24/D24 -> 3.1435369
A25: - | B25: Thuế thu nhập doanh nghiệp | E25: 127969722 | F25: 0
A26: - | B26: Thuế tiêu thụ đặc biệt | E26: 6898000 | F26: 6760040
A27: - | B27: Thuế tài nguyên
A28: - | B28: Lệ phí môn bài
A29: 5 | B29: Thuế thu nhập cá nhân | C29: 840000000 | D29: 365000000 | E29: 7404993254 | F29: 2839277614 | G29: =E29/C29 -> 8.8154682 | H29: =F29/D29 -> 7.7788428
A30: 6 | B30: Thuế bảo vệ môi trường
A31: - | B31: Thuế BVMT thu từ hàng hóa SXKD trong nước
A32: - | B32: Thuế BVMT thu từ hàng hóa nhập khẩu
A33: 7 | B33: Lệ phí trước bạ | C33: 530000000 | D33: 265000000 | E33: 6533000112 | F33: 1489193724 | G33: =E33/C33 -> 12.326415 | H33: =F33/D33 -> 5.619599
A34: 8 | B34: Thu phí, lệ phí | C34: 78000000 | D34: 78000000 | E34: 281561800 | F34: 133104800 | G34: =E34/C34 -> 3.6097667 | H34: =F34/D34 -> 1.7064718
B35: Trong đó thu phí, lệ phí do xã quản lý | C35: 78000000 | D35: 78000000 | E35: 140104800 | F35: 133104800 | G35: =E35/C35 -> 1.7962154 | H35: =F35/D35 -> 1.7064718
A36: 9 | B36: Thuế sử dụng đất nông nghiệp
A37: 10 | B37: Thuế sử dụng đất phi nông nghiệp | C37: 355000000 | D37: 355000000 | E37: 485665085 | F37: 485665085 | G37: =E37/C37 -> 1.3680707 | H37: =F37/D37 -> 1.3680707
A38: 11 | B38: Tiền cho thuê đất, thuê mặt nước | C38: 410000000 | D38: 82000000 | E38: 562642038 | F38: 112528408 | G38: =E38/C38 -> 1.3722977 | H38: =F38/D38 -> 1.3722977
A39: 12 | B39: Thu tiền sử dụng đất | C39: 117550678241 | D39: 82285474769 | E39: 209090161000 | F39: 134544841680 | G39: =E39/C39 -> 1.7787236 | H39: =F39/D39 -> 1.6350983
A40: 13 | B40: Tiền cho thuê và tiền bán nhà ở thuộc sở hữu nhà nước
A41: 14 | B41: Thu từ hoạt động xổ số kiến thiết
A42: 15 | B42: Thu tiền cấp quyền khai thác khoáng sản
...

Sheet NĐ31- Biểu 51- QT chi-lĩnh vưc
C1: Biểu mẫu số 51
A4: QUYẾT TOÁN CHI NGÂN SÁCH ĐỊA PHƯƠNG THEO LĨNH VỰC NĂM 2025
A5: =+'NĐ31- Biểu 48- cân đối 2025'!A5 -> (Kèm theo Quyết đinh số 892/QĐ-UBND ngày 07/4/2026 của UBND xã Đoàn Đào)
D6: Đơn vị tính: Đồng
A7: STT | B7: Nội dung | C7: Dự toán | D7: Quyết toán | E7: So sánh (%)
A8: A | B8: B | C8: 1 | D8: 2 | E8: 3=2/1
B9: TỔNG CHI NGÂN SÁCH ĐỊA PHƯƠNG | C9: =C10+C31+C34 -> 124617474769 | D9: =D10+D31+D34 -> 295880417617 | E9: =D9/C9 -> 2.3743092
A10: A | B10: CHI CÂN ĐỐI NGÂN SÁCH ĐỊA PHƯƠNG | C10: =C11+C21+C25+C26+C27+C28+C29+C30 -> 124617474769 | D10: =D11+D21+D25+D26+D27+D28+D29+D30 -> 283415575899 | E10: =D10/C10 -> 2.2742844
A11: I | B11: Chi đầu tư phát triển | C11: =C12+C19+C20 -> 82285474769 | D11: =D12+D19+D20 -> 145253363756 | E11: =D11/C11 -> 1.765237
A12: 1 | B12: Chi đầu tư cho các dự án | C12: =82285474769 -> 82285474769 | D12: ='NĐ31- Biểu 52- QT chi'!$D$14 -> 145253363756 | E12: =D12/C12 -> 1.765237
B13: Trong đó: Chia theo lĩnh vực
A14: - | B14: Chi giáo dục - đào tạo và dạy nghề | C14: 21988046000 | D14: ='NĐ31- Biểu 52- QT chi'!$D$16 -> 22704744311 | E14: =D14/C14 -> 1.0325949
A15: - | B15: Chi khoa học và công nghệ
B16: Trong đó: Chia theo nguồn vốn
A17: - | B17: Chi đầu tư từ nguồn thu tiền sử dụng đất | C17: 82285474769 | D17: ='NĐ31- Biểu 52- QT chi'!$D$14 -> 145253363756 | E17: =D17/C17 -> 1.765237
A18: - | B18: Chi đầu tư từ nguồn thu xổ số kiến thiết
A19: 2 | B19: Chi đầu tư và hỗ trợ vốn cho các doanh nghiệp cung cấp sản phẩm, dịch vụ công ích do Nhà nước đặt hàng, các tổ chức kinh tế, các tổ chức tài chính của địa phương theo quy định của pháp luật
A20: 3 | B20: Chi đầu tư phát triển khác
A21: II | B21: Chi thường xuyên | C21: 29137000000 | D21: ='NĐ31- Biểu 52- QT chi'!$D$31 -> 137868831143 | E21: =D21/C21 -> 4.7317442
B22: Trong đó:
A23: 1 | B23: Chi giáo dục- đào tạo và dạy nghề | C23: 35000000 | D23: ='NĐ31- Biểu 52- QT chi'!$D$32 -> 63521594392 | E23: =D23/C23 -> 1814.9027
A24: 2 | B24: Chi khoa học và công nghệ
A25: III | B25: Chi nộp ngân sách cấp trên | D25: ='NĐ31- Biểu 52- QT chi'!D12 -> 293381000
A26: IV | B26: Chi bổ sung quỹ dự trữ tài chính
A27: V | B27: Dự phòng ngân sách | C27: 1295000000
A28: VI | B28: Chi tạo nguồn, điều chỉnh tiền lương
A29: VII | B29: Chi bổ sung mục tiêu từ ngân sách cấp trên | C29: 11900000000
A30: VIII | B30: Các nhiệm vụ chi khác
A31: B | B31: CHI CÁC CHƯƠNG TRÌNH MỤC TIÊU | C31: =C32+C33 -> 0
A32: I | B32: Chi các chương trình mục tiêu quốc gia
A33: II | B33: Chi các chương trình mục tiêu, nhiệm vụ
A34: C | B34: CHI CHUYỂN NGUỒN SANG NĂM SAU | D34: ='NĐ31- Biểu 52- QT chi'!D49 -> 12464841718

Sheet NĐ31- Biểu 52- QT chi
A5: QUYẾT TOÁN CHI NGÂN SÁCH XÃ THEO LĨNH VỰC NĂM 2025
A6: =+'NĐ31- Biểu 48- cân đối 2025'!A5 -> (Kèm theo Quyết đinh số 892/QĐ-UBND ngày 07/4/2026 của UBND xã Đoàn Đào)
E7: Đơn vị: Đồng
A8: STT | B8: Nội dung | C8: Dự toán | D8: Quyết toán | E8: So sánh
E9: Tuyệt đối | F9: Tương đối (%)
A10: A | B10: B | C10: 1 | D10: 2 | E10: 3=2-1 | F10: 4=2/1
B11: TỔNG CHI NSĐP | C11: =C12+C13+C49 -> 112717474769 | D11: =D12+D13+D49 -> 295880417617 | E11: =D11-C11 -> 183162942848 | F11: =D11/C11 -> 2.6249738
A12: A | B12: CHI CHUYỂN GIAO NGÂN SÁCH | D12: =293381000 -> 293381000 | E12: =D12-C12 -> 293381000
A13: B | B13: CHI NGÂN SÁCH XÃ THEO LĨNH VỰC | C13: =C14+C31+C44+C45+C46+C47+C48 -> 112717474769 | D13: =D14+D31+D44+D45+D46+D47+D48 -> 283122194899 | E13: =D13-C13 -> 170404720130 | F13: =D13/C13 -> 2.5117862
A14: I | B14: Chi đầu tư phát triển | C14: =C15+C29+C30 -> 82285474769 | D14: =D15+D29+D30 -> 145253363756 | E14: =D14-C14 -> 62967888987 | F14: =D14/C14 -> 1.765237
A15: 1 | B15: Chi đầu tư cho các dự án | C15: =SUM(C16:C28) -> 82285474769 | D15: =SUM(D16:D28) -> 145253363756 | E15: =D15-C15 -> 62967888987 | F15: =D15/C15 -> 1.765237
A16: - | B16: Chi giáo dục - đào tạo và dạy nghề | C16: 21988046000 | D16: 22704744311 | E16: =D16-C16 -> 716698311 | F16: =D16/C16 -> 1.0325949
A17: - | B17: Chi khoa học và công nghệ | E17: =D17-C17 -> 0
A18: - | B18: Chi quốc phòng | E18: =D18-C18 -> 0
A19: - | B19: Chi an ninh và trật tự an toàn xã hội | C19: 641464000 | D19: 1535270677 | E19: =D19-C19 -> 893806677 | F19: =D19/C19 -> 2.3933856
A20: - | B20: Chi y tế, dân số và gia đình | E20: =D20-C20 -> 0
A21: - | B21: Chi văn hóa thông tin | C21: 5464909000 | D21: 14363059682 | E21: =D21-C21 -> 8898150682 | F21: =D21/C21 -> 2.628234
A22: - | B22: Chi phát thanh, truyền hình, thông tấn | C22: 1000000000 | E22: =D22-C22 -> -1000000000 | F22: =D22/C22 -> 0
A23: - | B23: Chi thể dục thể thao | E23: =D23-C23 -> 0
A24: - | B24: Chi bảo vệ môi trường | E24: =D24-C24 -> 0
A25: - | B25: Chi các hoạt động kinh tế | C25: 46010071769 | D25: 105598555086 | E25: =D25-C25 -> 59588483317 | F25: =D25/C25 -> 2.2951182
A26: - | B26: Chi hoạt động của cơ quan quản lý nhà nước, đảng, đoàn thể | D26: 1001734000 | E26: =D26-C26 -> 1001734000
A27: - | B27: Chi bảo đảm xã hội | E27: =D27-C27 -> 0
A28: - | B28: Chi đầu tư khác | C28: =7180984000 -> 7180984000 | D28: 50000000 | E28: =D28-C28 -> -7130984000 | F28: =D28/C28 -> 0.0069628341
A29: 2 | B29: Chi đầu tư và hỗ trợ vốn cho các doanh nghiệp cung cấp sản phẩm, dịch vụ công ích do Nhà nước đặt hàng, các tổ chức kinh tế, các tổ chức tài chính của địa phương theo quy định của pháp luật | E29: =D29-C29 -> 0
A30: 3 | B30: Chi đầu tư phát triển khác | E30: =D30-C30 -> 0
A31: II | B31: Chi thường xuyên | C31: =SUM(C32:C43) -> 29137000000 | D31: =SUM(D32:D43) -> 137868831143 | E31: =D31-C31 -> 108731831143 | F31: =D31/C31 -> 4.7317442
A32: - | B32: Chi giáo dục - đào tạo và dạy nghề | C32: 35000000 | D32: 63521594392 | E32: =D32-C32 -> 63486594392 | F32: =D32/C32 -> 1814.9027
A33: - | B33: Chi khoa học và công nghệ (2) | E33: =D33-C33 -> 0
A34: - | B34: Chi quốc phòng | C34: 708596000 | D34: 671881547 | E34: =D34-C34 -> -36714453 | F34: =D34/C34 -> 0.94818704
A35: - | B35: Chi an ninh và trật tự an toàn xã hội | C35: 1135120000 | D35: 1386319098 | E35: =D35-C35 -> 251199098 | F35: =D35/C35 -> 1.2212974
A36: - | B36: Chi y tế, dân số và gia đình | C36: 219231200 | D36: 10045593430 | E36: =D36-C36 -> 9826362230 | F36: =D36/C36 -> 45.821915
A37: - | B37: Chi văn hóa thông tin+ thể dục thể thao | C37: 1840000000 | D37: =1987372490+266871600 -> 2254244090 | E37: =D37-C37 -> 414244090 | F37: =D37/C37 -> 1.2251327
A38: - | B38: Chi phát thanh, truyền hình, thông tấn | C38: 170928000 | D38: 302896000 | E38: =D38-C38 -> 131968000 | F38: =D38/C38 -> 1.7720678
A39: - | B39: Chi bảo vệ môi trường | C39: 470000000 | D39: 2608494007 | E39: =D39-C39 -> 2138494007 | F39: =D39/C39 -> 5.5499872
A40: - | B40: Chi các hoạt động kinh tế | C40: 2670000000 | D40: 4949961000 | E40: =D40-C40 -> 2279961000 | F40: =D40/C40 -> 1.853918
A41: - | B41: Chi hoạt động của cơ quan quản lý nhà nước, đảng, đoàn thể | C41: 21001473200 | D41: 40387497761 | E41: =D41-C41 -> 19386024561 | F41: =D41/C41 -> 1.9230793
A42: - | B42: Chi bảo đảm xã hội | C42: 886651600 | D42: 11740349818 | E42: =D42-C42 -> 10853698218 | F42: =D42/C42 -> 13.241221
A43: - | B43: Chi thường xuyên khác | E43: =D43-C43 -> 0
A44: III | B44: Chi trả nợ lãi các khoản do chính quyền địa phương vay | E44: =D44-C44 -> 0
...

Sheet NĐ31- Biểu 53
A1: ỦY BAN NHÂN DÂN | H1: Biểu mẫu số 53
A2: HUYỆN PHÙ CỪ
A4: UBND HUYỆN PHÙ CỪ | H4: Biểu mẫu số 53
A5: PHÒNG TÀI CHÍNH- KẾ HOẠCH
A7: QUYẾT TOÁN CHI NGÂN SÁCH ĐỊA PHƯƠNG, CHI NGÂN SÁCH CẤP HUYỆN VÀ CHI NGÂN SÁCH XÃ THEO CƠ CẤU CHI NĂM 2024
A8: =+'NĐ31- Biểu 48- cân đối 2025'!A5 -> (Kèm theo Quyết đinh số 892/QĐ-UBND ngày 07/4/2026 của UBND xã Đoàn Đào)
A9: =+'NĐ31- Biểu 48- cân đối 2025'!#REF! -> #REF!
I10: Đơn vị: Đồng
A11: STT | B11: Nội dung | C11: Dự toán năm 2024 | D11: Bao gồm | F11: Quyết toán năm 2024 | G11: Bao gồm | I11: So sánh (%)
D12: Ngân sách cấp huyện | E12: Ngân sách xã | G12: Ngân sách cấp huyện | H12: Ngân sách xã | I12: Ngân sách địa phương | J12: Ngân sách cấp huyện | K12: Ngân sách xã
A13: A | B13: B | C13: 1=2+3 | D13: 2 | E13: 3 | F13: 4=5+6 | G13: 5 | H13: 6 | I13: 7=4/1 | J13: 8=5/2 | K13: 9=6/3
B14: TỔNG CHI NSĐP | C14: =D14+E14 -> 951741307195 | D14: =D15 -> 680417307195 | E14: =E15 -> 271324000000 | F14: =G14+H14 -> 1539769419835 | G14: ='[1]TT-342- Biểu số 62- XONG'!G12 -> 1093620650447 | H14: ='[1]TT-342- Biểu số 62- XONG'!H12 -> 446148769388 | I14: =F14/C14 -> 1.6178445 | J14: =G14/D14 -> 1.6072793 | K14: =H14/E14 -> 1.6443395
A15: A | B15: CHI CÂN ĐỐI NSĐP | C15: =D15+E15 -> 951741307195 | D15: =D16+D26+D30+D31+D32+D33+D34 -> 680417307195 | E15: =E16+E26+E30+E31+E32+E33+E34 -> 271324000000 | F15: =F16+F26+F30+F31+F32+F33+F34 -> 1263125438461 | G15: =G16+G26+G30+G31+G32+G33 -> 697663775517 | H15: =H16+H26+H30+H31+H32+H33 -> 565461662944 | I15: =F15/C15 -> 1.3271731 | J15: =G15/D15 -> 1.0253469 | K15: =H15/E15 -> 2.0840827
A16: I | B16: Chi đầu tư phát triển | C16: =D16+E16 -> 456493307195 | D16: =+'TT342- Biểu 62-ok'!M14 -> 278715307195 | E16: =+'TT342- Biểu 62-ok'!N14 -> 177778000000 | F16: =F17+F24+F25 -> 729017056530 | G16: =G17+G24+G25 -> 274638415170 | H16: =H17+H24+H25 -> 454378641360 | I16: =F16/C16 -> 1.596994 | J16: =G16/D16 -> 0.98537256 | K16: =H16/E16 -> 2.5558767
A17: 1 | B17: Chi đầu tư cho các dự án | C17: =D17+E17 -> 454693307195 | D17: =+'TT342- Biểu 62-ok'!M15 -> 276915307195 | E17: =+'TT342- Biểu 62-ok'!N15 -> 177778000000 | F17: =G17+H17 -> 727217056530 | G17: =+'TT342- Biểu 62-ok'!G15 -> 272838415170 | H17: =+'TT342- Biểu 62-ok'!H15 -> 454378641360 | I17: =F17/C17 -> 1.5993573 | J17: =G17/D17 -> 0.98527748 | K17: =H17/E17 -> 2.5558767
B18: Trong đó: Chia theo lĩnh vực | C18: =D18+E18 -> 0 | F18: =G18+H18 -> 0
A19: - | B19: Chi giáo dục - đào tạo và dạy nghề | C19: =+D19+E19 -> 69900000000 | D19: =+'TT342- Biểu 62-ok'!M18 -> 49900000000 | E19: =+'TT342- Biểu 62-ok'!N18 -> 20000000000 | F19: =G19+H19 -> 76598153040 | G19: =+'TT342- Biểu 62-ok'!G18 -> 49424486844 | H19: =+'TT342- Biểu 62-ok'!H18 -> 27173666196 | I19: =F19/C19 -> 1.0958248 | J19: =G19/D19 -> 0.99047068 | K19: =H19/E19 -> 1.3586833
A20: - | B20: Chi khoa học và công nghệ | C20: =D20+E20 -> 0 | F20: =G20+H20 -> 0
B21: Trong đó: Chia theo nguồn vốn | C21: =D21+E21 -> 0 | F21: =G21+H21 -> 0
A22: - | B22: Chi đầu tư từ nguồn thu tiền sử dụng đất | C22: =+'NĐ31- Biểu 51- QT chi-lĩnh vưc'!C17 -> 82285474769 | D22: =+C22-E22 -> -95492525231 | E22: =+E17 -> 177778000000 | F22: =G22+H22 -> 646079139736 | G22: 254488415170 | H22: 391590724566 | I22: =F22/C22 -> 7.8516791 | J22: =G22/D22 -> -2.6650087 | K22: =+H22/E22 -> 2.2026951
A23: - | B23: Chi đầu tư từ nguồn thu xổ số kiến thiết | C23: =D23+E23 -> 0 | F23: =G23+H23 -> 0
A24: 2 | B24: Chi đầu tư và hỗ trợ vốn cho các doanh nghiệp cung cấp sản phẩm, dịch vụ công ích do Nhà nước đặt hàng, các tổ chức kinh tế, các tổ chức tài chính của địa phương theo quy định của pháp luật | C24: =D24+E24 -> 0 | F24: =G24+H24 -> 0
A25: 3 | B25: Chi đầu tư phát triển khác | C25: =D25+E25 -> 0 | D25: =+'TT342- Biểu 62-ok'!M31 -> 0 | F25: =G25+H25 -> 1800000000 | G25: =+'TT342- Biểu 62-ok'!G30 -> 1800000000 | I25: 1 | J25: 1
A26: II | B26: Chi thường xuyên | C26: =D26+E26 -> 468089000000 | D26: =+'TT342- Biểu 62-ok'!K32 -> 380310000000 | E26: =+'TT342- Biểu 62-ok'!L32 -> 87779000000 | F26: =G26+H26 -> 534108381931 | G26: =+'TT342- Biểu 62-ok'!G32 -> 423025360347 | H26: =+'TT342- Biểu 62-ok'!H32 -> 111083021584 | I26: =F26/C26 -> 1.1410402 | J26: =G26/D26 -> 1.1123172 | K26: =H26/E26 -> 1.2654852
B27: Trong đó: | C27: =D27+E27 -> 0 | F27: =G27+H27 -> 0
A28: 1 | B28: Chi giáo dục - đào tạo và dạy nghề | C28: =D28+E28 -> 218032000000 | D28: =+'TT342- Biểu 62-ok'!K35 -> 217847000000 | E28: =+'TT342- Biểu 62-ok'!L35 -> 185000000 | F28: =G28+H28 -> 230999981448 | G28: =+'TT342- Biểu 62-ok'!G35 -> 230807591448 | H28: =+'TT342- Biểu 62-ok'!H35 -> 192390000 | I28: =F28/C28 -> 1.0594774 | J28: =G28/D28 -> 1.059494 | K28: =H28/E28 -> 1.0399459
A29: 2 | B29: Chi khoa học và công nghệ | C29: =D29+E29 -> 120000000 | D29: =+'TT342- Biểu 62-ok'!K36 -> 120000000 | F29: =G29+H29 -> 111225000 | G29: =+'TT342- Biểu 62-ok'!G36 -> 111225000 | I29: =F29/C29 -> 0.926875 | J29: =G29/D29 -> 0.926875
A30: III | B30: Chi trả nợ lãi các khoản do chính quyền địa phương vay | C30: =D30+E30 -> 0 | F30: =G30+H30 -> 0
A31: IV | B31: Chi bổ sung quỹ dự trữ tài chính | C31: =D31+E31 -> 0 | F31: =G31+H31 -> 0
A32: V | B32: Dự phòng ngân sách | C32: =D32+E32 -> 27159000000 | D32: =+'TT342- Biểu 62-ok'!K47 -> 21392000000 | E32: =+'TT342- Biểu 62-ok'!L47 -> 5767000000 | F32: =G32+H32 -> 0
A33: VI | B33: Chi tạo nguồn, điều chỉnh tiền lương | C33: =D33+E33 -> 0 | F33: =G33+H33 -> 0
A34: VII | B34: Chi bổ sung mục tiêu từ ngân sách cấp trên | C34: =D34+E34 -> 0 | D34: ='[1]TT-342- Biểu số 62- XONG'!K49 -> 0 | E34: 0 | F34: ='[1]TT-342- Biểu số 62- XONG'!G49 -> 0
A35: B | B35: CHI CÁC CHƯƠNG TRÌNH MỤC TIÊU | C35: =D35+E35 -> 0 | F35: =G35+H35 -> 0 | G35: =G36+G37 -> 0
A36: I | B36: Chi các chương trình mục tiêu quốc gia | C36: =D36+E36 -> 0
A37: II | B37: Chi các chương trình mục tiêu, nhiệm vụ | C37: =D37+E37 -> 0 | F37: =G37+H37 -> 0
A38: C | B38: CHI CHUYỂN NGUỒN SANG NĂM SAU | C38: =D38+E38 -> 0 | F38: =G38+H38 -> 171333479503 | G38: =+'TT342- Biểu 62-ok'!G48 -> 88672805719 | H38: =+'TT342- Biểu 62-ok'!H48 -> 82660673784
G39: =+'NĐ31- Biểu 48- cân đối 2025'!C42 -> 0
G40: TM. ỦY BAN NHÂN DÂN
G41: CHỦ TỊCH
G47: =+'NĐ31- Biểu 52- QT chi'!C54 -> 0

Sheet NĐ31- Biểu 54- QT chi-cq
L1: Biểu mẫu số 54
L2: (Ban hành kèm theo NĐ số 31/2017/NĐ-CP ngày 23/3/2017 của Chính phủ)
A4: QUYẾT TOÁN CHI NGÂN SÁCH XÃ CHO TỪNG CƠ QUAN, TỔ CHỨC THEO LĨNH VỰC NĂM 2025
A5: =+'NĐ31- Biểu 53'!A8 -> (Kèm theo Quyết đinh số 892/QĐ-UBND ngày 07/4/2026 của UBND xã Đoàn Đào)
A6: Đơn vị tính: Đồng
A7: STT | B7: Tên đơn vị | C7: Dự toán (1) | H7: Quyết toán | M7: So sánh
C8: Tổng số | D8: Chi đầu tư phát triển (không kể CT MTQG) | F8: Chi thường xuyên (không kể chương trình MTQG) | G8: Chi chương trình MTQG | H8: Tổng số | I8: Chi đầu tư phát triển (không kể CT MTQG) | J8: Chi thường xuyên (không kể chương trình MTQG) | K8: Chi chương trình MTQG | L8: Chi chuyển nguồn sang ngân sách năm sau | M8: Tổng số | N8: Chi đầu tư phát triển | O8: Chi thường xuyên | P8: Chi chương trình MTQG
D9: Dự toán đầu năm | E9: Dự toán điều chỉnh
A10: A | B10: B | C10: 1 | E10: 2 | F10: 3 | H10: 7 | I10: 8 | J10: 9 | K10: 12 | L10: 15 | M10: 16 | N10: 17 | O10: 18 | P10: 19
B11: TỔNG CỘNG | C11: =C12+C109 -> 320663794140 | D11: =D12+D109 -> 82285474769 | E11: =E12+E109 -> 174244173863 | F11: =F12+F109 -> 146419620277 | G11: =G12+G109 -> 0 | H11: =H12+H109 -> 291106449813 | I11: =I12+I109 -> 145253363756 | J11: =J12+J109 -> 137868831143 | ... L11: =L12+L109 -> 7984254914 | N11: =I11/E11 -> 0.83361963
A12: A | B12: CHI ĐẦU TƯ PHÁT TRIỂN | C12: =C13+C16+C28+C38+C40+C102+C105+C107 -> 174244173863 | D12: ='NĐ31- Biểu 52- QT chi'!C14 -> 82285474769 | E12: =E13+E16+E28+E38+E40+E102+E105+E107 -> 174244173863 | F12: =F13+F16+F28+F38+F40+F102+F105+F107 -> 0 | G12: =G13+G16+G28+G38+G40+G102+G105+G107 -> 0 | H12: =H13+H16+H28+H38+H40+H102+H105+H107 -> 145253363756 | I12: =I13+I16+I28+I38+I40+I102+I105+I107 -> 145253363756 | N12: =I12/E12 -> 0.83361963
A13: I | B13: An ninh và trật tư, an toàn xã hội | C13: =E13+F13 -> 1.5952707e+09 | E13: =SUM(E14:E15) -> 1.5952707e+09 | H13: =I13+J13 -> 1535270677 | I13: =SUM(I14:I15) -> 1535270677 | N13: =I13/E13 -> 0.96238883
A14: 1 | B14: Xây dựng trụ sở làm việc công an xã Phan Sào Nam, huyện Phù Cừ | C14: =E14+F14 -> 641464000 | E14: 641464000 | H14: =I14+J14 -> 581464000 | I14: 581464000 | N14: =I14/E14 -> 0.90646396
A15: 2 | B15: Xây dựng trụ sở làm việc công an xã Đoàn Đào huyện Phù Cừ | C15: =E15+F15 -> 9.5380668e+08 | E15: 9.5380668e+08 | H15: =I15+J15 -> 953806677 | I15: 953806677 | N15: =I15/E15 -> 1
A16: II | B16: Giáo dục, đào tạo, dạy nghề | C16: =E16+F16 -> 24838470388 | E16: =SUM(E17:E27) -> 24838470388 | H16: =I16+J16 -> 22704744311 | I16: =SUM(I17:I27) -> 22704744311 | N16: =I16/E16 -> 0.91409591
A17: 1 | B17: Sửa chữa nhà lớp học Trường mầm non xã Minh Hoàng, huyện Phù Cừ | C17: =E17+F17 -> 7070000 | E17: 7070000 | H17: =I17+J17 -> 2160000 | I17: 2160000 | N17: =I17/E17 -> 0.30551627
A18: 2 | B18: Các hạng mục phụ trợ Trường tiểu học & THCS Minh Hoàng | C18: =E18+F18 -> 166974200 | E18: 166974200 | H18: =I18+J18 -> 0 | N18: =I18/E18 -> 0
A19: 3 | B19: Trường Mầm non Minh Hoàng hạng mục: Xây dựng nhà ăn và các hạng mục phụ trợ | C19: =E19+F19 -> 218814344 | E19: 218814344 | H19: =I19+J19 -> 127414344 | I19: 127414344 | N19: =I19/E19 -> 0.58229429
A20: 4 | B20: Trường Mầm non Minh Hoàng hạng mục: San lấp mở rộng sân trường, các hạng mục phụ trợ | C20: =E20+F20 -> 188214844 | E20: 188214844 | H20: =I20+J20 -> 138690844 | I20: 138690844 | N20: =I20/E20 -> 0.73687516
A21: 5 | B21: Nhà lớp học 3 tầng 4 phòng và các phòng chức năng Trường Mầm non Phan Sào Nam | C21: =E21+F21 -> 8.426967e+09 | E21: 8.426967e+09 | H21: =I21+J21 -> 8426966000 | I21: 8426966000 | N21: =I21/E21 -> 0.99999988
A22: 6 | B22: Xây dựng nhà lớp học và các phòng chức năng 03 tầng trường tiểu học Phan Sào Nam | C22: =E22+F22 -> 2787960000 | E22: 2787960000 | H22: =I22+J22 -> 2787959000 | I22: 2787959000 | N22: =I22/E22 -> 0.99999964
A23: 7 | B23: Nhà lớp học 02 tầng 06 phòng trường Mầm non xã Phan Sào Nam | C23: =E23+F23 -> 276928000 | E23: 276928000 | H23: =I23+J23 -> 276927422 | I23: 276927422 | N23: =I23/E23 -> 0.99999791
A24: 8 | B24: Xây dựng nhà đa năng, phòng học, phòng chức năng, nâng cấp nhà hiệu bộ và các hạng mục phụ trợ - trường THCS Phan Sào Nam | C24: =E24+F24 -> 10352905000 | E24: 10352905000 | H24: =I24+J24 -> 8644331301 | I24: 8644331301 | N24: =I24/E24 -> 0.83496674
A25: 9 | B25: Xây dựng nhà đa năng trường tiểu học xã Phan Sào Nam | C25: =E25+F25 -> 552769000 | E25: 552769000 | H25: =I25+J25 -> 552769000 | I25: 552769000 | N25: =I25/E25 -> 1
A26: 10 | B26: Xây dựng nhà vệ sinh tại trường Tiểu học và trung học cơ sở xã Phan Sào Nam | C26: =E26+F26 -> 800000000 | E26: 800000000 | H26: =I26+J26 -> 764197400 | I26: 764197400 | N26: =I26/E26 -> 0.95524675
A27: 11 | B27: Cải tạo sửa chữa nhà hiệu bộ, nhà vệ sinh trường Mầm non xã Phan Sào Nam | C27: =E27+F27 -> 1.059868e+09 | E27: 1.059868e+09 | H27: =I27+J27 -> 983329000 | I27: 983329000 | N27: =I27/E27 -> 0.9277844
A28: III | B28: Văn hóa- thông tin | C28: =E28+F28 -> 14455757000 | E28: =SUM(E29:E37) -> 14455757000 | H28: =I28+J28 -> 14363059682 | I28: =SUM(I29:I37) -> 14363059682 | N28: =I28/E28 -> 0.99358752
A29: 1 | B29: Nhà văn hoá Ngọc Trúc- xã Minh Hoàng | C29: =E29+F29 -> 1221619000 | E29: 1221619000 | H29: =I29+J29 -> 1202443000 | I29: 1202443000 | N29: =I29/E29 -> 0.9843028
A30: 2 | B30: Nhà văn hoá thôn Ải Quan- xã Minh Hoàng | C30: =E30+F30 -> 1043867000 | E30: 1043867000 | H30: =I30+J30 -> 1043559000 | I30: 1043559000 | N30: =I30/E30 -> 0.99970494
A31: 3 | B31: Xây dựng sân vận động thôn Quế Lâm | C31: =E31+F31 -> 4320000 | E31: 4320000 | H31: =I31+J31 -> 4320000 | I31: 4320000 | N31: =I31/E31 -> 1
A32: 4 | B32: Xây dựng sân vận động thôn Hoàng Tranh | C32: =E32+F32 -> 4320000 | E32: 4320000 | H32: =I32+J32 -> 4320000 | I32: 4320000 | N32: =I32/E32 -> 1
A33: 5 | B33: Xây dựng sân vận động thôn Ngọc Trúc | C33: =E33+F33 -> 4320000 | E33: 4320000 | H33: =I33+J33 -> 4320000 | I33: 4320000 | N33: =I33/E33 -> 1
A34: 6 | B34: Xây mới nhà văn hóa thôn Đoàn Đào, xã Đoàn Đào | C34: =E34+F34 -> 4263126000 | E34: 4263126000 | H34: =I34+J34 -> 4263126000 | I34: 4263126000 | N34: =I34/E34 -> 1
A35: 7 | B35: Xây dựng nhà văn hoá thôn Phú Mãn và các hạng mục phụ trợ | C35: =E35+F35 -> 4714909000 | E35: 4714909000 | H35: =I35+J35 -> 4714908682 | I35: 4714908682 | N35: =I35/E35 -> 0.99999993
A36: 8 | B36: Xây dựng ao bơi trung tâm cho thanh thiếu niên xã Phan Sào Nam | C36: =E36+F36 -> 2185961000 | E36: 2185961000 | H36: =I36+J36 -> 2185961000 | I36: 2185961000 | N36: =I36/E36 -> 1
A37: 9 | B37: Xây dựng nhà vệ sinh tại nhà văn hoá thôn Ba Đông, thôn Trà Bồ và tại chợ chè thôn Trà Bồ | C37: =E37+F37 -> 1013315000 | E37: 1013315000 | H37: =I37+J37 -> 940102000 | I37: 940102000 | N37: =I37/E37 -> 0.92774902
A38: IV | B38: Lĩnh vực phát thành, truyền hình | C38: =E38+F38 -> 1000000000 | E38: =SUM(E39) -> 1000000000 | H38: =I38+J38 -> 0 | I38: =SUM(I39) -> 0 | N38: =I38/E38 -> 0
A39: 1 | B39: Cải tạo, nâng cấp hệ thống loa truyền thanh xã Phan Sào Nam | C39: =E39+F39 -> 1000000000 | E39: 1000000000 | H39: =I39+J39 -> 0 | N39: =I39/E39 -> 0
A40: V | B40: Lĩnh vực Kinh tế | C40: =E40+F40 -> 129302941798 | E40: =E41+E95 -> 129302941798 | H40: =I40+J40 -> 105598555086 | I40: =I41+I95 -> 105598555086 | N40: =I40/E40 -> 0.81667558
A41: * | B41: Giao thông vận tải | C41: =E41+F41 -> 106434958798 | E41: =SUM(E42:E94) -> 106434958798 | H41: =I41+J41 -> 85374183505 | I41: =SUM(I42:I94) -> 85374183505 | N41: =I41/E41 -> 0.8021254
...

Sheet NĐ31- Biểu 55
Q1: Biểu mẫu số 55
A4: QUYẾT TOÁN CHI ĐẦU TƯ PHÁT TRIỂN CỦA NGÂN SÁCH CẤP XÃ CHO TỪNG CƠ QUAN, TỔ CHỨC THEO LĨNH VỰC NĂM 2025
A5: ='NĐ31- Biểu 54- QT chi-cq'!A5:P5 -> (Kèm theo Quyết đinh số 892/QĐ-UBND ngày 07/4/2026 của UBND xã Đoàn Đào)
S6: Đơn vị: Đồng
A7: STT | B7: Tên đơn vị | C7: Dự toán đầu năm | D7: Dự toán điều chỉnh, bổ sung | E7: Quyết toán | F7: Chi giáo dục - đào tạo và dạy nghề | G7: Chi khoa học và công nghệ | H7: Chi quốc phòng | I7: Chi an ninh và trật tự an toàn xã hội | J7: Chi y tế, dân số và gia đình | K7: Chi văn hóa thông tin | L7: Chi phát thanh, truyền hình, thông tấn | M7: Chi thể dục thể thao | N7: Chi bảo vệ môi trường | O7: Chi các hoạt động kinh tế | P7: Trong đó | S7: Chi hoạt động của cơ quan quản lý nhà nước, đảng, đoàn thể | T7: Chi bảo đảm xã hội | U7: Chi đầu tư khác | V7: So sánh (%)
P8: Chi giao thông, vận tải | Q8: Chi nông nghiệp, lâm nghiệp, thủy lợi, thủy sản | R8: Các hoạt động kinh tế khác
A9: A | B9: B | C9: 1 | E9: 2 | F9: 3 | G9: 4 | H9: 5 | I9: 6 | J9: 7 | K9: 8 | L9: 9 | M9: 10 | N9: 11 | O9: 12 | P9: 13 | Q9: 14 | S9: 15 | T9: 16 | U9: 17 | V9: 18=2/1
B10: Xã Đoàn Đào | C10: ='NĐ31- Biểu 52- QT chi'!C14 -> 82285474769 | D10: ='NĐ31- Biểu 54- QT chi-cq'!E12 -> 174244173863 | E10: =F10+G10+H10+I10+J10+K10+L10+M10+N10+O10+S10+T10+U10 -> 145253363756 | F10: ='NĐ31- Biểu 52- QT chi'!D16 -> 22704744311 | G10: 0 | H10: =+'[2]TT342- Biểu 62-ok'!H16 -> 0 | I10: ='NĐ31- Biểu 52- QT chi'!D19 -> 1535270677 | J10: =+'[2]TT342- Biểu 62-ok'!H20 -> 0 | K10: ='NĐ31- Biểu 52- QT chi'!D21 -> 14363059682 | L10: =+'[2]TT342- Biểu 62-ok'!E22 -> 0 | O10: ='NĐ31- Biểu 52- QT chi'!D25 -> 105598555086 | P10: 85374183505 | S10: ='NĐ31- Biểu 52- QT chi'!D26 -> 1001734000 | T10: =+'[2]TT342- Biểu 62-ok'!E27 -> 0 | U10: ='NĐ31- Biểu 52- QT chi'!D28 -> 50000000 | V10: =E10/C10 -> 1.765237
O12: =+'[2]NĐ31- Biểu 54'!L198 -> #REF!
O13: TM. ỦY BAN NHÂN DÂN
O14: CHỦ TỊCH
O21: =+'[2]NĐ31- Biểu 54'!L208 -> Doãn Quốc Hoàn
C42: =+'[3]TT342-Biểu số 60- xong'!G27:J27 -> #VALUE!

Sheet NĐ31- Biểu 56-QT chi TX-cq
P1: Biểu số 56
A4: QUYẾT TOÁN CHI THƯỜNG XUYÊN CỦA NGÂN SÁCH XÃ CHO TỪNG CƠ QUAN, TỔ CHỨC THEO LĨNH VỰC NĂM 2025
A5: =+'NĐ31- Biểu 54- QT chi-cq'!A5 -> (Kèm theo Quyết đinh số 892/QĐ-UBND ngày 07/4/2026 của UBND xã Đoàn Đào)
Q6: Đơn vị: Đồng
A7: STT | B7: Tên đơn vị | C7: Dự toán | D7: Quyết toán | E7: Chi giáo dục - đào tạo và dạy nghề | F7: Chi khoa học và công nghệ | G7: Chi quốc phòng | H7: Chi an ninh và trật tự an toàn xã hội | I7: Chi y tế, dân số và gia đình | J7: Chi văn hóa thông tin | K7: Chi phát thanh, truyền hình, thông tấn | L7: Chi thể dục thể thao | M7: Chi bảo vệ môi trường | N7: Chi các hoạt động kinh tế | O7: Trong đó | Q7: Chi hoạt động của cơ quan quản lý nhà nước, đảng, đoàn thể | R7: Chi bảo đảm xã hội | S7: Các khoản chi khác | T7: So sánh (%)
O8: Chi giao thông | P8: Chi nông nghiệp, lâm nghiệp, thủy lợi, thủy sản
A9: A | B9: B | C9: 1 | D9: 2 | E9: 3 | F9: 4 | G9: 5 | H9: 6 | I9: 7 | J9: 8 | K9: 9 | L9: 10 | M9: 11 | N9: 12 | O9: 13 | P9: 14 | Q9: 15 | R9: 16 | S9: 17 | T9: 18= 2/1
B10: TỔNG CỘNG | C10: =C11+C15 -> 146419620277 | D10: =D11+D15 -> 137868831143 | E10: =E11+E15 -> 63521594392 | F10: =F11+F15 -> 0 | G10: =G11+G15 -> 671881547 | H10: =H11+H15 -> 1386319098 | I10: =I11+I15 -> 10045593430 | J10: =J11+J15 -> 1987372490 | ... S10: =S11+S15 -> 0
A11: I | B11: Khối Cơ quan QLNN, Đảng, đoàn thể | C11: =SUM(C12:C14) -> 81203251232 | D11: =SUM(D12:D14) -> 73526499661 | E11: =SUM(E12:E14) -> 25800000 | F11: =SUM(F12:F14) -> 0 | G11: =SUM(G12:G14) -> 671881547 | H11: =SUM(H12:H14) -> 1386319098 | I11: =SUM(I12:I14) -> 10045593430 | J11: =SUM(J12:J14) -> 1588440000 | ... S11: =SUM(S12:S14) -> 0
A12: 1 | B12: Văn phòng Đảng uỷ | C12: 7809781227 | D12: =6101414134 -> 6101414134 | N12: =SUM(O12:P12) -> 0 | Q12: =D12 -> 6101414134 | U12: =C12-D12 -> 1708367093
A13: 2 | B13: Mặt trận tổ quốc | C13: 3444903109 | D13: 3440366024 | N13: =SUM(O13:P13) -> 0 | Q13: =D13 -> 3440366024 | U13: =C13-D13 -> 4537085
A14: 3 | B14: Văn phòng HĐND và UBND | C14: 69948566896 | D14: 63984719503 | E14: 25800000 | G14: =633587547+38294000 -> 671881547 | H14: =1172844098+213475000 -> 1386319098 | I14: =4137000000+3851642680+5159700+1851159450+200631600 -> 10045593430 | J14: =1491110000+22260000+75070000 -> 1588440000 | K14: 122163000 | M14: =2045508447+562985560 -> 2608494007 | N14: =SUM(O14:P14) -> 4949961000 | O14: =2492106000+49788000+1416970000 -> 3958864000 | P14: =70000000+142603000+260620000+484749000+33125000 -> 991097000 | Q14: =7311775575+10000000+14958984668+420423500+1014736910+411440500+3774485812+1080114750+1863755888 -> 30845717603 | R14: =986226400+6216834700+12000000+773328718+751760000+2260200000+302000000+438000000 -> 11740349818
A15: II | B15: Khối đơn vị sự nghiệp | C15: =SUM(C16:C23) -> 65216369045 | D15: =SUM(D16:D23) -> 64342331482 | E15: =SUM(E16:E23) -> 63495794392 | F15: =SUM(F16:F23) -> 0 | G15: =SUM(G16:G23) -> 0 | H15: =SUM(H16:H23) -> 0 | I15: =SUM(I16:I23) -> 0 | J15: =SUM(J16:J23) -> 398932490 | ... S15: =SUM(S16:S23) -> 0
A16: 1 | B16: Trung tâm dịch vụ tổng hợp | C16: 846537090 | D16: 846537090 | J16: =18130000+226688570+118340000+35773920 -> 398932490 | K16: =65733000+115000000 -> 180733000 | L16: =240000000+26871600 -> 266871600
A17: 2 | B17: Trường Mầm non Minh Hoàng | C17: 7815297185 | D17: 7727297187 | E17: =D17 -> 7727297187
A18: 3 | B18: Trường Mầm non Đoàn Đào | C18: 9244811432 | D18: 9126361933 | E18: =D18 -> 9126361933
A19: 4 | B19: Trường Mầm non Phan Sào Nam | C19: 5587270962 | D19: 5457485672 | E19: =D19 -> 5457485672
A20: 5 | B20: Trường Tiểu học Đoàn Đào | C20: 11947391538 | D20: 11775462402 | E20: =D20 -> 11775462402
A21: 6 | B21: Trường THCS Đoàn Đào | C21: 7797993224 | D21: 7647507991 | E21: =D21 -> 7647507991
A22: 7 | B22: Trường TH & THCS Minh Hoàng | C22: 11340171174 | D22: 11167311551 | E22: =D22 -> 11167311551
A23: 8 | B23: Trường TH & THCS Phan Sào Nam | C23: 10636896440 | D23: 10594367656 | E23: =D23 -> 10594367656

Sheet NĐ31- Biểu 57-QT chi TX-nguồn
H1: Biểu mẫu số 57
H2: (Ban hành kèm theo NĐ số 31/2017/NĐ-CP ngày 23/3/2017 của Chính phủ)
A4: TỔNG HỢP QUYẾT TOÁN CHI THƯỜNG XUYÊN NGÂN SÁCH CẤP XÃ CỦA TỪNG CƠ QUAN, TỔ CHỨC THEO NGUỒN VỐN NĂM 2025
A5: =+'NĐ31- Biểu 54- QT chi-cq'!A5 -> (Kèm theo Quyết đinh số 892/QĐ-UBND ngày 07/4/2026 của UBND xã Đoàn Đào)
I6: Đơn vị tính: Đồng
A7: STT | B7: Tên đơn vị | C7: Dự toán được sử dụng trong năm | D7: Trong đó | G7: Thực hiện trong năm | H7: Dự toán còn lại | I7: Trong đó
D8: Dự toán năm trước chuyển sang | E8: Dự toán giao đầu năm | F8: Bổ sung trong năm (nếu có) | I8: Chuyển nguồn | J8: Nộp trả NS cấp trên | K8: Kết dư 2025
A9: A | B9: B | C9: 1=2+3-4 | D9: 2 | E9: 3 | F9: 4 | G9: 6 | H9: 7 | I9: 8 | J9: 10 | K9: 11
B10: TỔNG CỘNG | C10: =C11+C15 -> 146419620277 | D10: =D11+D15 -> 0 | E10: =E11+E15 -> 61502362347 | F10: =F11+F15 -> 84917257930 | G10: =G11+G15 -> 137868831143 | H10: =H11+H15 -> 8550789134 | I10: =I11+I15 -> 7984254914 | J10: =J11+J15 -> 450878304 | K10: =K11+K15 -> 115655916
A11: I | B11: Khối Cơ quan QLNN, Đảng, đoàn thể | C11: =SUM(C12:C14) -> 81203251232 | D11: =SUM(D12:D14) -> 0 | E11: =SUM(E12:E14) -> 60905379257 | F11: =SUM(F12:F14) -> 20297871975 | G11: =SUM(G12:G14) -> 73526499661 | H11: =SUM(H12:H14) -> 7676751571 | I11: =SUM(I12:I14) -> 7116277351 | J11: =SUM(J12:J14) -> 445458304 | K11: =SUM(K12:K14) -> 115015916
A12: 1 | B12: Văn phòng Đảng uỷ | C12: =E12+F12 -> 7809781227 | E12: 4882845815 | F12: =2976262412-49327000 -> 2926935412 | G12: =7789007880-1687593746 -> 6101414134 | H12: =C12-G12 -> 1708367093 | I12: 1687593746 | J12: =H12-I12 -> 20773347 | K12: =H12-I12-J12 -> 0
A13: 2 | B13: Mặt trận tổ quốc | C13: 3444903109 | E13: 2379909109 | F13: =C13-E13 -> 1064994000 | G13: 3440366024 | H13: =C13-G13 -> 4537085 | I13: 4168000 | J13: 358501 | K13: =H13-I13-J13 -> 10584
A14: 3 | B14: Văn phòng HĐND và UBND | C14: 69948566896 | E14: 53642624333 | F14: =C14-E14 -> 16305942563 | G14: 63984719503 | H14: =C14-G14 -> 5963847393 | I14: 5424515605 | J14: 424326456 | K14: =H14-I14-J14 -> 115005332
A15: II | B15: Khối đơn vị sự nghiệp | C15: =SUM(C16:C23) -> 65216369045 | D15: =SUM(D16:D23) -> 0 | E15: =SUM(E16:E23) -> 596983090 | F15: =SUM(F16:F23) -> 64619385955 | G15: =SUM(G16:G23) -> 64342331482 | H15: =SUM(H16:H23) -> 874037563 | I15: =SUM(I16:I23) -> 867977563 | J15: =SUM(J16:J23) -> 5420000 | K15: =H15-I15-J15 -> 640000
A16: 1 | B16: Trung tâm dịch vụ tổng hợp | C16: 846537090 | E16: 596983090 | F16: =C16-E16 -> 249554000 | G16: 846537090 | H16: =C16-G16 -> 0 | K16: =H16-I16-J16 -> 0
A17: 2 | B17: Trường Mầm non Minh Hoàng | C17: =SUM(D17:F17) -> 7815297185 | F17: 7815297185 | G17: 7727297187 | H17: =C17-G17 -> 87999998 | I17: 87999998 | K17: =H17-I17-J17 -> 0
A18: 3 | B18: Trường Mầm non Đoàn Đào | C18: =SUM(D18:F18) -> 9244811432 | F18: 9244811432 | G18: 9126361933 | H18: =C18-G18 -> 118449499 | I18: 118449499 | K18: =H18-I18-J18 -> 0
A19: 4 | B19: Trường Mầm non Phan Sào Nam | C19: =SUM(D19:F19) -> 5587270962 | F19: 5587270962 | G19: 5457485672 | H19: =C19-G19 -> 129785290 | I19: 129145290 | K19: =H19-I19-J19 -> 640000
A20: 5 | B20: Trường Tiểu học Đoàn Đào | C20: =SUM(D20:F20) -> 11947391538 | F20: 11947391538 | G20: 11775462402 | H20: =C20-G20 -> 171929136 | I20: =H20 -> 171929136 | K20: =H20-I20-J20 -> 0
A21: 6 | B21: Trường THCS Đoàn Đào | C21: =SUM(D21:F21) -> 7797993224 | F21: 7797993224 | G21: 7647507991 | H21: =C21-G21 -> 150485233 | I21: =143665233+5620000 -> 149285233 | J21: 1200000 | K21: =H21-I21-J21 -> 0
A22: 7 | B22: Trường TH & THCS Minh Hoàng | C22: =SUM(D22:F22) -> 11340171174 | F22: 11340171174 | G22: 11167311551 | H22: =C22-G22 -> 172859623 | I22: 168639623 | J22: 4220000 | K22: =H22-I22-J22 -> 0
A23: 8 | B23: Trường TH & THCS Phan Sào Nam | C23: =SUM(D23:F23) -> 10636896440 | F23: 10636896440 | G23: 10594367656 | H23: =C23-G23 -> 42528784 | I23: =36428784+6100000 -> 42528784 | K23: =H23-I23-J23 -> 0

Sheet NĐ31- Biểu 58
A1: ỦY BAN NHÂN DÂN | S1: Biểu mẫu số 58
A2: HUYỆN PHÙ CỪ
A4: QUYẾT TOÁN CHI NGÂN SÁCH ĐỊA PHƯƠNG TỪNG HUYỆN, XÃ NĂM 2024
A5: =+'NĐ31- Biểu 54- QT chi-cq'!A5 -> (Kèm theo Quyết đinh số 892/QĐ-UBND ngày 07/4/2026 của UBND xã Đoàn Đào)
A6: =+'NĐ31- Biểu 54- QT chi-cq'!#REF! -> #REF!
U7: Đơn vị: Đồng
A8: STT | B8: Tên đơn vị | C8: Dự toán | H8: Quyết toán | U8: So sánh (%)
C9: Tổng số | D9: Chi đầu tư phát triển | E9: Chi thường xuyên | F9: Dự phòng | G9: Bổ sung mục tiêu từ ngân sách cấp tỉnh | H9: Tổng số | I9: Chi đầu tư phát triển | L9: Chi thường xuyên | O9: Chi CTMTQG | R9: Các nhiệm vụ chi khác | S9: Chi chuyển giao ngân sách | T9: Chi chuyển nguồn sang năm sau | U9: Tổng số | V9: Chi đầu tư phát triển | W9: Chi thường xuyên
I10: Tổng số | J10: Trong đó | L10: Tổng số | M10: Trong đó | O10: Tổng số | P10: Trong đó
J11: Chi giáo dục đào tạo dạy nghề | K11: Chi khoa học và công nghệ | M11: Chi giáo dục đào tạo dạy nghề | N11: Chi khoa học và công nghệ | P11: Chi đầu tư phát triển | Q11: Chi thường xuyên
A12: A | B12: B | C12: 1 | D12: 2 | E12: 3 | F12: 5 | H12: 6 | I12: 7 | J12: 8 | K12: 9 | L12: 10 | M12: 11 | N12: 12 | O12: 13 | P12: 14 | Q12: 15 | S12: 16 | T12: 17 | U12: 18= 6/1 | V12: 19= 7/2 | W12: 20=10/3
B13: TỔNG SỐ | C13: =+C14+C15 -> 384041474769 | D13: =+D14+D15 -> 260063474769 | E13: =+E14+E15 -> 116916000000 | F13: =+F14+F15 -> 7062000000 | G13: =+G14+G15 -> 0 | H13: =+H14+H15 -> 944402754345 | I13: =+I14+I15 -> 600032005116 | J13: =+J14+J15 -> 49878410507 | ... T13: =+T14+T15 -> 95125515502 | U13: =+H13/C13 -> 2.4591166 | V13: =+I13/D13 -> 2.3072521 | W13: =+L13/E13 -> 2.1293224
A14: I | B14: Ngân sách cấp huyện | C14: =SUM(D14:G14) -> 112717474769 | D14: =+'NĐ31- Biểu 52- QT chi'!C14 -> 82285474769 | E14: =+'NĐ31- Biểu 52- QT chi'!C31 -> 29137000000 | F14: =+'NĐ31- Biểu 52- QT chi'!C46 -> 1295000000 | G14: =+'NĐ31- Biểu 52- QT chi'!C12 -> 0 | H14: =I14+L14+O14+T14+S14+R14 -> 295880417617 | I14: =+'NĐ31- Biểu 52- QT chi'!D14 -> 145253363756 | J14: =+'NĐ31- Biểu 52- QT chi'!D16 -> 22704744311 | L14: =+'NĐ31- Biểu 52- QT chi'!D31 -> 137868831143 | M14: =+'NĐ31- Biểu 52- QT chi'!D32 -> 63521594392 | N14: =+'NĐ31- Biểu 52- QT chi'!D33 -> 0 | O14: =P14+Q14 -> 0 | S14: =+'NĐ31- Biểu 52- QT chi'!D12 -> 293381000 | T14: =+'NĐ31- Biểu 52- QT chi'!D49 -> 12464841718 | U14: =H14/C14 -> 2.6249738 | V14: =I14/D14 -> 1.765237 | W14: =L14/E14 -> 4.7317442
A15: II | B15: Xã, thị trấn | C15: =SUM(C16:C28) -> 271324000000 | D15: =SUM(D16:D28) -> 177778000000 | E15: =SUM(E16:E28) -> 87779000000 | F15: =SUM(F16:F28) -> 5767000000 | H15: =I15+L15+O15+T15+S15+R15 -> 648522336728 | I15: =SUM(I16:I28) -> 454778641360 | J15: =SUM(J16:J28) -> 27173666196 | K15: =SUM(K16:K28) -> 0 | L15: =SUM(L16:L28) -> 111083021584 | M15: =SUM(M16:M28) -> 192390000 | N15: =SUM(N16:N28) -> 0 | O15: =SUM(O16:O28) -> 0 | P15: =SUM(P16:P28) -> 0 | ... T15: =SUM(T16:T28) -> 82660673784 | U15: =H15/C15 -> 2.3902137 | V15: =I15/D15 -> 2.5581267 | W15: =L15/E15 -> 1.2654852
A16: 1 | B16: Xã Minh Hoàng | C16: =+D16+E16+F16+G16 -> 6024000000 | D16: 0 | E16: 5680000000 | F16: 344000000 | H16: =I16+L16+O16+T16+S16+R16 -> 12808994729 | I16: 4989688397 | L16: 7427553137 | M16: 0 | T16: 391753195 | U16: =+H16/C16 -> 2.1263271 | W16: =+L16/E16 -> 1.3076678
A17: 2 | B17: Xã Đoàn Đào | C17: =+D17+E17+F17+G17 -> 10212000000 | D17: 2535000000 | E17: 7227000000 | F17: 450000000 | H17: =I17+L17+O17+T17+S17+R17 -> 42717239625 | I17: 27761490300 | L17: 9332298606 | T17: 5623450719 | U17: =+H17/C17 -> 4.1830434 | V17: =+I17/D17 -> 10.951278 | W17: =+L17/E17 -> 1.2913102
A18: 3 | B18: Xã Phan Sào Nam | C18: =+D18+E18+F18+G18 -> 43789000000 | D18: 36700000000 | E18: 6689000000 | F18: 400000000 | H18: =I18+L18+O18+T18+S18+R18 -> 65166683563 | I18: 55055445131 | J18: 470872000 | L18: 8523332655 | M18: 49000000 | T18: 1587905777 | U18: =+H18/C18 -> 1.4881976 | V18: =+I18/D18 -> 1.5001484 | W18: =+L18/E18 -> 1.2742312
A19: 4 | B19: Xã Minh Tân | C19: =+D19+E19+F19+G19 -> 8233000000 | D19: 800000000 | E19: 6913000000 | F19: 520000000 | H19: =I19+L19+O19+T19+S19+R19 -> 39191574294 | I19: 20272157913 | L19: 8387644583 | T19: 10531771798 | U19: =+H19/C19 -> 4.760303 | V19: =+I19/D19 -> 25.340197 | W19: =+L19/E19 -> 1.2133147
A20: 5 | B20: Thị trấn Trần Cao | C20: =+D20+E20+F20+G20 -> 14007000000 | D20: 7491000000 | E20: 6146000000 | F20: 370000000 | H20: =I20+L20+O20+T20+S20+R20 -> 46629706291 | I20: 30714308000 | J20: 296271000 | L20: 7867634922 | M20: 99500000 | T20: 8047763369 | U20: =+H20/C20 -> 3.3290288 | V20: =+I20/D20 -> 4.1001613 | W20: =+L20/E20 -> 1.2801228
A21: 6 | B21: Xã Tống Phan | C21: =+D21+E21+F21+G21 -> 66043000000 | D21: 59040000000 | E21: 6503000000 | F21: 500000000 | H21: =I21+L21+O21+T21+S21+R21 -> 152258422049 | I21: 116547617853 | J21: 23193625800 | L21: 9007797300 | T21: 26703006896 | U21: =+H21/C21 -> 2.3054438 | V21: =+I21/D21 -> 1.974045 | W21: =+L21/E21 -> 1.3851757
A22: 7 | B22: Xã Quang Hưng | C22: =+D22+E22+F22+G22 -> 8363000000 | D22: 800000000 | E22: 6943000000 | F22: 620000000 | H22: =I22+L22+O22+T22+S22+R22 -> 18356992343 | I22: 6928223379 | J22: 1115000 | L22: 8724588625 | T22: 2704180339 | U22: =+H22/C22 -> 2.1950248 | V22: =+I22/D22 -> 8.6602792 | W22: =+L22/E22 -> 1.2566021
A23: 8 | B23: Xã Đình Cao | C23: =+D23+E23+F23+G23 -> 20328000000 | D23: 11512000000 | E23: 8316000000 | F23: 500000000 | H23: =I23+L23+O23+T23+S23+R23 -> 166151030708 | I23: 150658255702 | J23: 2224010000 | L23: 10958676414 | M23: 43890000 | T23: 4534098592 | U23: =+H23/C23 -> 8.173506 | V23: =+I23/D23 -> 13.087062 | W23: =+L23/E23 -> 1.3177822
A24: 9 | B24: Xã Nhật Quang | C24: =+D24+E24+F24+G24 -> 16603000000 | D24: 11040000000 | E24: 5243000000 | F24: 320000000 | H24: =I24+L24+O24+T24+S24+R24 -> 9568691342 | I24: 2461516137 | L24: 6695499713 | T24: 411675492 | U24: =+H24/C24 -> 0.57632303 | V24: =+I24/D24 -> 0.22296342 | W24: =+L24/E24 -> 1.277036
A25: 10 | B25: Xã Tiên Tiến | C25: =+D25+E25+F25+G25 -> 22906000000 | D25: 11600000000 | E25: 10666000000 | F25: 640000000 | H25: =I25+L25+O25+T25+S25+R25 -> 22693387199 | I25: 7733867852 | L25: 11964195764 | T25: 2995323583 | U25: =+H25/C25 -> 0.99071803 | V25: =+I25/D25 -> 0.66671275 | W25: =+L25/E25 -> 1.1217135
A26: 11 | B26: Xã Tam Đa | C26: =+D26+E26+F26+G26 -> 5734000000 | D26: 0 | E26: 5401000000 | F26: 333000000 | H26: =I26+L26+O26+T26+S26+R26 -> 14182577317 | I26: 3853753000 | L26: 6616661814 | T26: 3712162503 | U26: =+H26/C26 -> 2.4734177 | W26: =+L26/E26 -> 1.2250809
A27: 12 | B27: Xã Nguyên Hòa | C27: =+D27+E27+F27+G27 -> 20607000000 | D27: 15000000000 | E27: 5287000000 | F27: 320000000 | H27: =I27+L27+O27+T27+S27+R27 -> 14920991281 | I27: 4867976000 | L27: 6781827937 | T27: 3271187344 | U27: =+H27/C27 -> 0.72407392 | V27: =+I27/D27 -> 0.32453173 | W27: =+L27/E27 -> 1.2827365
A28: 13 | B28: Xã Tống Trân | C28: =+D28+E28+F28+G28 -> 28475000000 | D28: 21260000000 | E28: 6765000000 | F28: 450000000 | H28: =I28+L28+O28+T28+S28+R28 -> 43876045987 | I28: 22934341696 | J28: 987772396 | L28: 8795310114 | T28: 12146394177 | U28: =+H28/C28 -> 1.540862 | V28: =+I28/D28 -> 1.0787555 | W28: =+L28/E28 -> 1.3001198
N30: =+'NĐ31- Biểu 57-QT chi TX-nguồn'!#REF! -> #REF!
N31: TM. ỦY BAN NHÂN DÂN
N32: CHỦ TỊCH
N39: =+'NĐ31- Biểu 57-QT chi TX-nguồn'!#REF! -> #REF!

Sheet NĐ31- Biểu 59
A1: ỦY BAN NHÂN DÂN | U1: Biểu mẫu số 59
A2: HUYỆN PHÙ CỪ
A4: QUYẾT TOÁN CHI BỔ SUNG TỪ NGÂN SÁCH CẤP HUYỆN CHO NGÂN SÁCH TỪNG XÃ NĂM 2024
A5: =+'NĐ31- Biểu 54- QT chi-cq'!A5 -> (Kèm theo Quyết đinh số 892/QĐ-UBND ngày 07/4/2026 của UBND xã Đoàn Đào)
A6: =+'NĐ31- Biểu 54- QT chi-cq'!#REF! -> #REF!
X7: Đơn vị: Đồng
A8: Số TT | B8: Tên đơn vị | C8: Dự toán | K8: Quyết toán | S8: So sách (%)
C9: Tổng số | D9: Bổ sung cân đối ngân sách | E9: Bổ sung có mục tiêu | K9: Tổng số | L9: Bổ sung cân đối ngân sách | M9: Bổ sung có mục tiêu | S9: Tổng số | T9: Bổ sung cân đối ngân sách | U9: Bổ sung có mục tiêu
E10: Tổng số | F10: Gồm | H10: Vốn đầu tư để thực hiện các CTMT, nhiệm vụ | I10: Vốn sự nghiệp thực hiện các chế độ, chính sách | J10: Vốn thực hiện các CTMT quốc gia | M10: Tổng số | N10: Gồm | P10: Vốn đầu tư để thực hiện các CTMT, nhiệm vụ | Q10: Vốn sự nghiệp thực hiện các chế độ, chính sách | R10: Vốn thực hiện các CTMT quốc gia | U10: Tổng số | V10: Gồm | X10: Vốn đầu tư để thực hiện các CTMT, nhiệm vụ | Y10: Vốn sự nghiệp thực hiện các chế độ, chính sách | Z10: Vốn thực hiện các CTMT quốc gia
F11: Vốn ngoài nước | G11: Vốn trong nước | N11: Vốn ngoài nước | O11: Vốn trong nước | V11: Vốn ngoài nước | W11: Vốn trong nước
A12: A | B12: B | C12: 1 | D12: 2 | E12: 3=4+5 | F12: 4 | G12: 5 | H12: 6 | I12: 7 | J12: 8 | K12: 9 | L12: 10 | M12: 11=12+13 | N12: 12 | O12: 13 | P12: 14 | Q12: 15 | R12: 16 | S12: 17=9/1 | T12: 18=10/2 | U12: 19=11/3 | V12: 20=12/4 | W12: 21=13/5 | X12: 22=14/6 | Y12: 23=15/7 | Z12: 24=16/8
B13: TỔNG SỐ | C13: =SUM(C14:C26) -> 83736000000 | D13: =SUM(D14:D26) -> 83736000000 | E13: =SUM(E14:E26) -> 0 | F13: =SUM(F14:F26) -> 0 | G13: =SUM(G14:G26) -> 0 | H13: =SUM(H14:H26) -> 0 | I13: =SUM(I14:I26) -> 0 | J13: =SUM(J14:J26) -> 0 | ... R13: =SUM(R14:R26) -> 0 | S13: =+K13/C13 -> 1.97455 | T13: =L13/D13 -> 1
A14: 1 | B14: Xã Minh Hoàng | C14: =D14+E14 -> 5806000000 | D14: 5806000000 | E14: =F14+G14 -> 0 | K14: =L14+M14 -> 10141202397 | L14: 5806000000 | M14: =SUM(N14:R14) -> 4335202397 | O14: 4335202397 | S14: =K14/C14 -> 1.7466763 | T14: =L14/D14 -> 1
A15: 2 | B15: Xã Đoàn Đào | C15: =D15+E15 -> 6692000000 | D15: 6692000000 | E15: =F15+G15 -> 0 | K15: =L15+M15 -> 17776777283 | L15: 6692000000 | M15: =SUM(N15:R15) -> 11084777283 | O15: 11084777283 | S15: =K15/C15 -> 2.6564222 | T15: =L15/D15 -> 1
A16: 3 | B16: Xã Phan Sào Nam | C16: =D16+E16 -> 6441500000 | D16: 6441500000 | E16: =F16+G16 -> 0 | K16: =L16+M16 -> 10388655000 | L16: 6441500000 | M16: =SUM(N16:R16) -> 3947155000 | O16: 3947155000 | S16: =K16/C16 -> 1.6127695 | T16: =L16/D16 -> 1
A17: 4 | B17: Xã Minh Tân | C17: =D17+E17 -> 6609000000 | D17: 6609000000 | E17: =F17+G17 -> 0 | K17: =L17+M17 -> 13724936000 | L17: 6609000000 | M17: =SUM(N17:R17) -> 7115936000 | O17: 7115936000 | S17: =K17/C17 -> 2.0767039 | T17: =L17/D17 -> 1
A18: 5 | B18: Thị trấn Trần Cao | C18: =D18+E18 -> 4059000000 | D18: 4059000000 | E18: =F18+G18 -> 0 | K18: =L18+M18 -> 9525123000 | L18: 4059000000 | M18: =SUM(N18:R18) -> 5466123000 | O18: 5466123000 | S18: =K18/C18 -> 2.3466674 | T18: =L18/D18 -> 1
A19: 6 | B19: Xã Tống Phan | C19: =D19+E19 -> 6190000000 | D19: 6190000000 | E19: =F19+G19 -> 0 | K19: =L19+M19 -> 12256127829 | L19: 6190000000 | M19: =SUM(N19:R19) -> 6066127829 | O19: 6066127829 | S19: =K19/C19 -> 1.9799883 | T19: =L19/D19 -> 1
A20: 7 | B20: Xã Quang Hưng | C20: =D20+E20 -> 7127500000 | D20: 7127500000 | E20: =F20+G20 -> 0 | K20: =L20+M20 -> 12892206000 | L20: 7127500000 | M20: =SUM(N20:R20) -> 5764706000 | O20: 5764706000 | S20: =K20/C20 -> 1.8087978 | T20: =L20/D20 -> 1
A21: 8 | B21: Xã Đình Cao | C21: =D21+E21 -> 7838000000 | D21: 7838000000 | E21: =F21+G21 -> 0 | K21: =L21+M21 -> 16511152545 | L21: 7838000000 | M21: =SUM(N21:R21) -> 8673152545 | O21: 8673152545 | S21: =K21/C21 -> 2.1065517 | T21: =L21/D21 -> 1
A22: 9 | B22: Xã Nhật Quang | C22: =D22+E22 -> 5289500000 | D22: 5289500000 | E22: =F22+G22 -> 0 | K22: =L22+M22 -> 9946955000 | L22: 5289500000 | M22: =SUM(N22:R22) -> 4657455000 | O22: 4657455000 | S22: =K22/C22 -> 1.8805095 | T22: =L22/D22 -> 1
A23: 10 | B23: Xã Tiên Tiến | C23: =D23+E23 -> 10671000000 | D23: 10671000000 | E23: =F23+G23 -> 0 | K23: =L23+M23 -> 17739822800 | L23: 10671000000 | M23: =SUM(N23:R23) -> 7068822800 | O23: 7068822800 | S23: =K23/C23 -> 1.662433 | T23: =L23/D23 -> 1
A24: 11 | B24: Xã Tam Đa | C24: =D24+E24 -> 5375000000 | D24: 5375000000 | E24: =F24+G24 -> 0 | K24: =L24+M24 -> 11780006100 | L24: 5375000000 | M24: =SUM(N24:R24) -> 6405006100 | O24: 6405006100 | S24: =K24/C24 -> 2.191629 | T24: =L24/D24 -> 1
A25: 12 | B25: Xã Nguyên Hòa | C25: =D25+E25 -> 4989000000 | D25: 4989000000 | E25: =F25+G25 -> 0 | K25: =L25+M25 -> 10273754800 | L25: 4989000000 | M25: =SUM(N25:R25) -> 5284754800 | O25: 5284754800 | S25: =K25/C25 -> 2.0592814 | T25: =L25/D25 -> 1
A26: 13 | B26: Xã Tống Trân | C26: =D26+E26 -> 6648500000 | D26: 6648500000 | E26: =F26+G26 -> 0 | K26: =L26+M26 -> 12384198800 | L26: 6648500000 | M26: =SUM(N26:R26) -> 5735698800 | O26: 5735698800 | S26: =K26/C26 -> 1.8627057 | T26: =L26/D26 -> 1
Q28: =+'NĐ31- Biểu 58'!N30 -> #REF!
Q29: TM. ỦY BAN NHÂN DÂN
Q30: CHỦ TỊCH
Q38: =+'NĐ31- Biểu 58'!N39 -> #REF!

Sheet NĐ31- Biểu số 58
S1: Biểu mẫu số 58
A4: QUYẾT TOÁN CHI NGÂN SÁCH ĐỊA PHƯƠNG TỪNG XÃ NĂM 2025
A5: ='NĐ31- Biểu 57-QT chi TX-nguồn'!A5:K5 -> (Kèm theo Quyết đinh số 892/QĐ-UBND ngày 07/4/2026 của UBND xã Đoàn Đào)
U6: Đơn vị: Đồng
A7: STT | B7: Tên đơn vị | C7: Dự toán | H7: Quyết toán | U7: So sánh (%)
C8: Tổng số | D8: Chi đầu tư phát triển | E8: Chi thường xuyên | F8: Dự phòng | G8: Bổ sung mục tiêu từ ngân sách cấp tỉnh | H8: Tổng số | I8: Chi đầu tư phát triển | L8: Chi thường xuyên | O8: Chi CTMTQG | R8: Các nhiệm vụ chi khác | S8: Chi chuyển giao ngân sách | T8: Chi chuyển nguồn sang năm sau | U8: Tổng số | V8: Chi đầu tư phát triển | W8: Chi thường xuyên
I9: Tổng số | J9: Trong đó | L9: Tổng số | M9: Trong đó | O9: Tổng số | P9: Trong đó
J10: Chi giáo dục đào tạo dạy nghề | K10: Chi khoa học và công nghệ | M10: Chi giáo dục đào tạo dạy nghề | N10: Chi khoa học và công nghệ | P10: Chi đầu tư phát triển | Q10: Chi thường xuyên
A11: A | B11: B | C11: 1 | D11: 2 | E11: 3 | F11: 5 | H11: 6 | I11: 7 | J11: 8 | K11: 9 | L11: 10 | M11: 11 | N11: 12 | O11: 13 | P11: 14 | Q11: 15 | S11: 16 | T11: 17 | U11: 18= 6/1 | V11: 19= 7/2 | W11: 20=10/3
A12: 1 | B12: Xã Đoàn Đào | C12: =+D12+E12+F12+G12 -> 124617474769 | D12: ='NĐ31- Biểu 55'!C10 -> 82285474769 | E12: 29137000000 | F12: 1295000000 | G12: 11900000000 | H12: =I12+L12+O12+T12+S12+R12 -> 295880417617 | I12: ='NĐ31- Biểu 54- QT chi-cq'!I12 -> 145253363756 | J12: ='NĐ31- Biểu 54- QT chi-cq'!I16 -> 22704744311 | L12: ='NĐ31- Biểu 52- QT chi'!D31 -> 137868831143 | M12: ='NĐ31- Biểu 52- QT chi'!D32 -> 63521594392 | N12: 0 | S12: ='NĐ31- Biểu 52- QT chi'!D12 -> 293381000 | T12: ='NĐ31- Biểu 52- QT chi'!D49 -> 12464841718 | U12: =+H12/C12 -> 2.3743092 | V12: =+I12/D12 -> 1.765237 | W12: =+L12/E12 -> 4.7317442

Sheet NĐ 31- Biểu 59
U1: Biểu mẫu số 59
A4: QUYẾT TOÁN CHI BỔ SUNG TỪ NGÂN SÁCH CẤP TỈNH CHO NGÂN SÁCH TỪNG XÃ NĂM 2025
A5: ='NĐ31- Biểu số 58'!A5:W5 -> (Kèm theo Quyết đinh số 892/QĐ-UBND ngày 07/4/2026 của UBND xã Đoàn Đào)
X6: Đơn vị: Đồng
A7: STT | B7: Tên đơn vị | C7: Dự toán | K7: Quyết toán | S7: So sách (%)
C8: Tổng số | D8: Bổ sung cân đối ngân sách | E8: Bổ sung có mục tiêu | K8: Tổng số | L8: Bổ sung cân đối ngân sách | M8: Bổ sung có mục tiêu | S8: Tổng số | T8: Bổ sung cân đối ngân sách | U8: Bổ sung có mục tiêu
E9: Tổng số | F9: Gồm | H9: Vốn đầu tư để thực hiện các CTMT, nhiệm vụ | I9: Vốn sự nghiệp thực hiện các chế độ, chính sách | J9: Vốn thực hiện các CTMT quốc gia | M9: Tổng số | N9: Gồm | P9: Vốn đầu tư để thực hiện các CTMT, nhiệm vụ | Q9: Vốn sự nghiệp thực hiện các chế độ, chính sách | R9: Vốn thực hiện các CTMT quốc gia | U9: Tổng số | V9: Gồm | X9: Vốn đầu tư để thực hiện các CTMT, nhiệm vụ | Y9: Vốn sự nghiệp thực hiện các chế độ, chính sách | Z9: Vốn thực hiện các CTMT quốc gia
F10: Vốn ngoài nước | G10: Vốn trong nước | N10: Vốn ngoài nước | O10: Vốn trong nước | V10: Vốn ngoài nước | W10: Vốn trong nước
A11: A | B11: B | C11: 1 | D11: 2 | E11: 3=4+5 | F11: 4 | G11: 5 | H11: 6 | I11: 7 | J11: 8 | K11: 9 | L11: 10 | M11: 11=12+13 | N11: 12 | O11: 13 | P11: 14 | Q11: 15 | R11: 16 | S11: 17=9/1 | T11: 18=10/2 | U11: 19=11/3 | V11: 20=12/4 | W11: 21=13/5 | X11: 22=14/6 | Y11: 23=15/7 | Z11: 24=16/8
A12: 1 | B12: Xã Đoàn Đào | C12: =D12+E12 -> 40576000000 | D12: 28676000000 | E12: =F12+G12 -> 11900000000 | G12: 11900000000 | K12: =L12+M12 -> 175837855259 | L12: =D12 -> 28676000000 | M12: =SUM(N12:R12) -> 147161855259 | O12: 147161855259 | S12: =K12/C12 -> 4.3335434 | T12: =L12/D12 -> 1 | W12: =+O12/G12 -> 12.366542

Sheet NĐ 31- Biểu 60
F1: Biểu mẫu số 60
A4: QUYẾT TOÁN THU NGÂN SÁCH XÃ NĂM 2025
A5: ='NĐ 31- Biểu 59'!A5:Z5 -> (Kèm theo Quyết đinh số 892/QĐ-UBND ngày 07/4/2026 của UBND xã Đoàn Đào)
G6: Đơn vị: Đồng
A7: STT | B7: Tên đơn vị | C7: Tổng thu NSĐP | D7: Trong đó
D8: Thu NSĐP hưởng theo phân cấp | E8: Số bổ sung từ ngân sách cấp trên/từ cấp dưới nộp lên | F8: Số bổ sung thực hiện cải cách tiền lương | G8: Thu chuyển nguồn từ năm trước chuyển sang | H8: Thu từ kết dư năm trước
A9: A | B9: B | C9: 1 | D9: 2 | E9: 3 | F9: 4 | G9: 5 | H9: 6
A10: 1 | B10: Xã Đoàn Đào | C10: =SUM(D10:H10) -> 330219727980 | D10: ='NĐ31- Biểu 48- cân đối 2025'!D11 -> 142061545734 | E10: ='NĐ31- Biểu 48- cân đối 2025'!D14 -> 175837855259 | G10: ='NĐ31- Biểu 48- cân đối 2025'!D19 -> 7603109691 | H10: ='NĐ31- Biểu 48- cân đối 2025'!D18 -> 4717217296

Sheet TT342-Biểu 60-ok
A1: ỦY BAN NHÂN DÂN | H1: Mẫu biểu số 60
A2: HUYỆN PHÙ CỪ
A3: UBND HUYỆN PHÙ CỪ | H3: Mẫu biểu số 60
A4: PHÒNG TÀI CHÍNH- KH
A5: CÂN ĐỐI QUYẾT TOÁN NGÂN SÁCH ĐỊA PHƯƠNG NĂM 2024
A6: (Kèm theo Báo cáo số 25/BC-TCKH ngày 26/02/2025 của phòng Tài chính- Kế hoạch huyện)
A7: (Kèm theo Báo cáo số 228/BC-UBND ngày 13/5/2025 của UBND huyện Phù Cừ)
I8: Đơn vị tính: Đồng
