Workbook

Sheet NĐ31-Biểu 49
A1: ỦY BAN NHÂN DÂN
A2: XÃ TIÊN TIẾN
A7: QUYẾT TOÁN CÂN ĐỐI NGUỒN THU, CHI NGÂN SÁCH NGÂN SÁCH XÃ NĂM 2025
A8: =+'NĐ31- Biểu 48- cân đối 2025'!A5 -> (Kèm theo Quyết đinh số 892/QĐ-UBND ngày 07/4/2026 của UBND xã Đoàn Đào)
A9: =+'NĐ31- Biểu 48- cân đối 2025'!#REF! -> #REF!
D10: Đơn vị tính: Đồng
A11: Số TT | B11: Nội dung | C11: Dự toán | D11: Quyết toán | E11: So sánh (%)
A12: A | B12: B | C12: 1 | D12: 2 | E12: 3
A13: A | B13: NGÂN SÁCH CẤP XÃ
A14: I | B14: Nguồn thu ngân sách | C14: =C15+C16+C19+C20+C21 -> 0 | D14: =D15+D16+D19+D20+D21 -> 0 | E14: =D14/C14 -> #DIV/0!
A15: 1 | B15: Thu ngân sách được hưởng theo phân cấp | E15: =D15/C15 -> #DIV/0!
A16: 2 | B16: Thu bổ sung từ ngân sách cấp trên | C16: =SUM(C17:C18) -> 0 | D16: =SUM(D17:D18) -> 0 | E16: =D16/C16 -> #DIV/0!
A17: - | B17: Bổ sung cân đối ngân sách | E17: =D17/C17 -> #DIV/0!
A18: - | B18: Bổ sung có mục tiêu | E18: =D18/C18 -> #DIV/0!
A19: 3 | B19: Thu từ ngân sách cấp dưới nộp lên | D19: =+'TT342-Biểu 60-ok'!D22 -> 0
A20: 4 | B20: Thu kết dư
A21: 5 | B21: Thu chuyển nguồn từ năm trước chuyển sang
A22: II | B22: Chi ngân sách | C22: =C23+C24+C28+C27+C29 -> 0 | D22: =D23+D24+D28+D27+D29 -> 0 | E22: =D22/C22 -> #DIV/0! | F22: =+C22+C40 -> 0
A23: 1 | B23: Chi thuộc nhiệm vụ của ngân sách cấp huyện | E23: =D23/C23 -> #DIV/0!
A24: 2 | B24: Chi bổ sung cho ngân sách cấp dưới | C24: =SUM(C25:C26) -> 0 | D24: =SUM(D25:D26) -> 0
A25: - | B25: Chi bổ sung cân đối ngân sách
A26: - | B26: Chi bổ sung có mục tiêu
A27: 3 | B27: Chi nộp ngân sách cấp trên | D27: =+'TT342- Biểu 62-ok'!E55 -> 0
A28: 4 | B28: Chi chuyển nguồn sang năm sau
A29: 5 | B29: Các nhiệm vụ chi khác | D29: =+'TT342-Biểu 60-ok'!I21 -> 0
A30: III | B30: Chi trả nợ gốc từ nguồn bội thu, tăng thu, tiết kiệm, kết dư ngân sách cấp tỉnh
A31: IV | B31: Bội chi NSĐP/Kết dư NSĐP | C31: =C14-C22 -> 0 | D31: =D14-D22 -> 0
A32: B | B32: NGÂN SÁCH XÃ
A33: I | B33: Nguồn thu ngân sách | C33: =C34+C35+C38+C39 -> 0 | D33: =D34+D35+D38+D39 -> 0 | E33: =D33/C33 -> #DIV/0!
A34: 1 | B34: Thu ngân sách được hưởng theo phân cấp | E34: =D34/C34 -> #DIV/0!
A35: 2 | B35: Thu bổ sung từ ngân sách cấp trên | C35: =SUM(C36:C37) -> 0 | D35: =D36+D37 -> 0 | E35: =D35/C35 -> #DIV/0!
A36: - | B36: Thu bổ sung cân đối ngân sách | E36: =D36/C36 -> #DIV/0!
A37: - | B37: Thu bổ sung có mục tiêu
A38: 3 | B38: Thu kết dư | C38: 0
A39: 4 | B39: Thu chuyển nguồn từ năm trước chuyển sang | C39: 0
A40: II | B40: Chi ngân sách | C40: =C41+C42+C45+C46 -> 0 | D40: =D41+D42+D45+D46 -> 648522336728 | E40: =D40/C40 -> #DIV/0!
A41: 1 | B41: Chi thuộc nhiệm vụ của ngân sách cấp xã | C41: =C33 -> 0 | D41: =+'TT342-Biểu 60-ok'!J13+'TT342-Biểu 60-ok'!J15 -> 565861662944 | E41: =D41/C41 -> #DIV/0!
A42: 2 | B42: Chi bổ sung cho ngân sách cấp dưới | C42: 0 | D42: 0
A43: - | B43: Chi bổ sung cân đối ngân sách | C43: 0 | D43: =+'TT342- Biểu 62-ok'!H51 -> 0
A44: - | B44: Chi bổ sung có mục tiêu | C44: 0 | D44: =+'TT342- Biểu 62-ok'!H52 -> 0
A45: 3 | B45: Chi chuyển nguồn sang năm sau | D45: =+'TT342-Biểu 60-ok'!J20 -> 82660673784
A46: 4 | B46: Các nhiệm vụ chi khác | D46: =+'TT342-Biểu 60-ok'!J21 -> 0
A47: III | B47: Kết dư | C47: =C33-C40 -> 0 | D47: =D33-D40 -> -648522336728
C48: =+'NĐ31- Biểu 48- cân đối 2025'!C42 -> 0
C49: TM. ỦY BAN NHÂN DÂN
C50: CHỦ TỊCH
C56: =+'NĐ31- Biểu 48- cân đối 2025'!#REF! -> #REF!

Sheet NĐ31- Biểu 48- cân đối 2025
A4: QUYẾT TOÁN CÂN ĐỐI NGÂN SÁCH ĐỊA PHƯƠNG NĂM 2025
A5: (Kèm theo Quyết đinh số 892/QĐ-UBND ngày 07/4/2026 của UBND xã Đoàn Đào)
E6: Đơn vị: Đồng
A7: STT | B7: Nội dung | C7: Dự toán | D7: Quyết toán | E7: So sánh
E8: Tuyệt đối | F8: Tương đối (%)
A9: A | B9: B | C9: 1 | D9: 2 | E9: 3=2-1 | F9: 4=2/1
A10: A | B10: TỔNG NGUỒN THU NSĐP | C10: =C11+C14+C17+C18+C19 -> 124617474769 | D10: =D11+D14+D17+D18+D19 -> 330219727980 | E10: =D10-C10 -> 205602253211 | F10: =D10/C10 -> 2.649867
A11: I | B11: Thu NSĐP được hưởng theo phân cấp | C11: ='NĐ31- Biểu 50'!D11 -> 84041474769 | D11: ='NĐ31- Biểu 50'!F11 -> 142061545734 | E11: =D11-C11 -> 58020070965 | F11: =D11/C11 -> 1.6903743 | G11: =C11-'NĐ31- Biểu 50'!D10 -> -40576000000
A12: - | B12: Thu NSĐP hưởng 100% | C12: ='NĐ31- Biểu 50'!D34+'NĐ31- Biểu 50'!D45+'NĐ31- Biểu 50'!D37+'NĐ31- Biểu 50'!D43+'NĐ31- Biểu 50'!D64+'NĐ31- Biểu 50'!D65+'NĐ31- Biểu 50'!D59 -> 808000000 | D12: ='NĐ31- Biểu 50'!F34+'NĐ31- Biểu 50'!F45+'NĐ31- Biểu 50'!F37+'NĐ31- Biểu 50'!F43+'NĐ31- Biểu 50'!F59 -> 2327069557 | E12: =D12-C12 -> 1519069557 | F12: =D12/C12 -> 2.8800366
A13: - | B13: Thu NSĐP hưởng từ các khoản thu phân chia | C13: =C11-C12 -> 83233474769 | D13: =D11-D12 -> 139734476177 | E13: =D13-C13 -> 56501001408 | F13: =D13/C13 -> 1.6788255
A14: II | B14: Thu bổ sung từ ngân sách cấp trên | C14: =SUM(C15:C16) -> 40576000000 | D14: =SUM(D15:D16) -> 175837855259 | E14: =D14-C14 -> 135261855259 | F14: =D14/C14 -> 4.3335434 | G14: =D11-'NĐ31- Biểu 50'!F10 -> -188158182246
A15: 1 | B15: Thu bổ sung cân đối ngân sách | C15: ='NĐ31- Biểu 50'!D61 -> 28676000000 | D15: ='NĐ31- Biểu 50'!F61 -> 28676000000 | E15: =D15-C15 -> 0 | F15: =D15/C15 -> 1
A16: 2 | B16: Thu bổ sung có mục tiêu | C16: ='NĐ31- Biểu 50'!D62 -> 11900000000 | D16: ='NĐ31- Biểu 50'!F62 -> 147161855259 | E16: =D16-C16 -> 135261855259 | F16: =D16/C16 -> 12.366542 | G16: ='NĐ31- Biểu 50'!F60 -> 175837855259
A17: III | B17: Thu từ ngân sách cấp dưới nộp lên | E17: =D17-C17 -> 0
A18: IV | B18: Thu kết dư | C18: ='NĐ31- Biểu 50'!D64 -> 0 | D18: ='NĐ31- Biểu 50'!F64 -> 4717217296 | E18: =D18-C18 -> 4717217296
A19: V | B19: Thu chuyển nguồn từ năm trước chuyển sang | C19: ='NĐ31- Biểu 50'!D65 -> 0 | D19: ='NĐ31- Biểu 50'!F65 -> 7603109691 | E19: =D19-C19 -> 7603109691 | G19: =G14+G16 -> -12320326987
A20: B | B20: TỔNG CHI NSĐP | C20: =C21+C29+C32+C33 -> 112717474769 | D20: =D21+D29+D32+D33 -> 295880417617 | E20: =D20-C20 -> 183162942848 | F20: =D20/C20 -> 2.6249738
A21: I | B21: Tổng chi cân đối NSĐP | C21: =SUM(C22:C28) -> 112717474769 | D21: =SUM(D22:D28) -> 283122194899 | E21: =D21-C21 -> 170404720130 | F21: =D21/C21 -> 2.5117862 | G21: =D10-'NĐ31- Biểu 50'!F10 -> 0
A22: 1 | B22: Chi đầu tư phát triển | C22: ='NĐ31- Biểu 52- QT chi'!$C$14 -> 82285474769 | D22: ='NĐ31- Biểu 52- QT chi'!$D$14 -> 145253363756 | E22: =D22-C22 -> 62967888987 | F22: =D22/C22 -> 1.765237
A23: 2 | B23: Chi thường xuyên | C23: ='NĐ31- Biểu 52- QT chi'!$C$31 -> 29137000000 | D23: ='NĐ31- Biểu 52- QT chi'!$D$31 -> 137868831143 | E23: =D23-C23 -> 108731831143 | F23: =D23/C23 -> 4.7317442
A24: 3 | B24: Các nhiệm vụ chi khác | E24: =D24-C24 -> 0
A25: 4 | B25: Chi bổ sung quỹ dự trữ tài chính | E25: =D25-C25 -> 0
A26: 5 | B26: Dự phòng ngân sách | C26: ='NĐ31- Biểu 52- QT chi'!$C$46 -> 1295000000 | E26: =D26-C26 -> -1295000000 | F26: =D26/C26 -> 0
A27: 6 | B27: Chi tạo nguồn, điều chỉnh tiền lương | E27: =D27-C27 -> 0
A28: 7 | B28: Chi bổ sung mục tiêu từ ngân sách cấp trên | E28: =D28-C28 -> 0
A29: II | B29: Chi các chương trình mục tiêu | C29: =SUM(C30:C31) -> 0 | D29: =SUM(D30:D31) -> 0 | E29: =D29-C29 -> 0
A30: 1 | B30: Chi các chương trình mục tiêu quốc gia | E30: =D30-C30 -> 0
A31: 2 | B31: Chi các chương trình mục tiêu, nhiệm vụ | E31: =D31-C31 -> 0
A32: III | B32: Chi chuyển giao ngân sách | D32: ='NĐ31- Biểu 52- QT chi'!$D$12 -> 293381000 | E32: =D32-C32 -> 293381000
A33: IV | B33: Chi chuyển nguồn sang năm sau | D33: ='NĐ31- Biểu 52- QT chi'!D49 -> 12464841718 | E33: =D33-C33 -> 12464841718
A34: C | B34: BỘI CHI NSĐP/BỘI THU NSĐP/KẾT DƯ NSĐP | D34: =D10-D20 -> 34339310363 | E34: =D34-C34 -> 34339310363
A35: D | B35: CHI TRẢ NỢ GỐC CỦA NSĐP | E35: =D35-C35 -> 0
A36: I | B36: Từ nguồn vay để trả nợ gốc | E36: =D36-C36 -> 0
A37: II | B37: Từ nguồn bội thu, tăng thu, tiết kiệm chi, kết dư ngân sách cấp tỉnh | E37: =D37-C37 -> 0
A38: E | B38: TỔNG MỨC VAY CỦA NSĐP | E38: =D38-C38 -> 0
A39: I | B39: Vay để bù đắp bội chi | E39: =D39-C39 -> 0
A40: II | B40: Vay để trả nợ gốc | E40: =D40-C40 -> 0
A41: G | B41: TỔNG MỨC DƯ NỢ VAY CUỐI NĂM CỦA NSĐP | E41: =D41-C41 -> 0

Sheet NĐ31- Biểu 50
F1: Biểu mẫu số 50
A4: QUYẾT TOÁN NGUỒN THU NGÂN SÁCH NHÀ NƯỚC TRÊN ĐỊA BÀN THEO LĨNH VỰC NĂM 2025
A5: ='NĐ31- Biểu 48- cân đối 2025'!A5:F5 -> (Kèm theo Quyết đinh số 892/QĐ-UBND ngày 07/4/2026 của UBND xã Đoàn Đào)
F6: Đơn vị: Đồng
A7: STT | B7: Nội dung | C7: Dự toán | E7: Quyết toán | G7: So sánh (%)
C8: Tổng thu NSNN | D8: Thu NSĐP | E8: Tổng thu NSNN | F8: Thu NSĐP | G8: Tổng thu NSNN | H8: Thu NSĐP
A9: A | B9: B | C9: 1 | D9: 2 | E9: 3 | F9: 4 | G9: 5=3/1 | H9: 6=4/2
B10: TỔNG NGUỒN THU NSNN (A+B+C+D) | C10: =C11+C60+C63+C64+C65 -> 161304678241 | D10: =D11+D60+D63+D64+D65 -> 124617474769 | E10: =E11+E60+E63+E64+E65 -> 421117658070 | F10: =F11+F60+F63+F64+F65 -> 330219727980 | G10: =E10/C10 -> 2.6106971 | H10: =F10/D10 -> 2.649867
A11: A | B11: TỔNG THU CÂN ĐỐI NSNN | C11: =C12+C50+C51+C58+C59 -> 120728678241 | D11: =D12+D50+D51+D58+D59 -> 84041474769 | E11: =E12+E50+E51+E58+E59 -> 232959475824 | F11: =F12+F50+F51+F58+F59 -> 142061545734 | G11: =E11/C11 -> 1.9296117 | H11: =F11/D11 -> 1.6903743
A12: I | B12: Thu nội địa | C12: =C13+C17+C19+C23+C29+C30+C33+C34+C36+C37+C38+C39+C40+C41+C42+C43+C45+C47+C49 -> 120728678241 | D12: =D13+D17+D19+D23+D29+D30+D33+D34+D36+D37+D38+D39+D40+D41+D42+D43+D45+D47+D49 -> 84041474769 | E12: =E13+E17+E19+E23+E29+E30+E33+E34+E36+E37+E38+E39+E40+E41+E42+E43+E45+E47+E49 -> 232926111510 | F12: =F13+F17+F19+F23+F29+F30+F33+F34+F36+F37+F38+F39+F40+F41+F42+F43+F45+F47+F49 -> 142028181420 | G12: =E12/C12 -> 1.9293354 | H12: =F12/D12 -> 1.6899773
A13: 1 | B13: Thu từ khu vực DNNN do trung ương quản lý
A14: - | B14: Thuế giá trị gia tăng
A15: - | B15: Thuế tài nguyên
A16: - | B16: Thuế thu nhập doanh nghiệp
A17: 2 | B17: Thu từ khu vực DNNN do địa phương quản lý
A18: - | B18: Thuế giá trị gia tăng + Thuế TNDN
A19: 3 | B19: Thu từ khu vực DN có vốn đầu tư nước ngoài
A20: - | B20: Thuế giá trị gia tăng + Thuế TNDN
A21: - | B21: Thuế tài nguyên
A22: - | B22: Tiền thuê mặt đất, mặt nước
A23: 4 | B23: Thu từ khu vực kinh tế ngoài quốc doanh | C23: =SUM(C24:C28) -> 590000000 | D23: =SUM(D24:D28) -> 236000000 | E23: =SUM(E24:E28) -> 6709596011 | F23: =SUM(F24:F28) -> 748634751 | G23: =E23/C23 -> 11.372197 | H23: =F23/D23 -> 3.1721811
A24: - | B24: Thuế giá trị gia tăng | C24: 590000000 | D24: 236000000 | E24: 6574728289 | F24: 741874711 | G24: =E24/C24 -> 11.143607 | H24: =F24/D24 -> 3.1435369
A25: - | B25: Thuế thu nhập doanh nghiệp | E25: 127969722 | F25: 0
A26: - | B26: Thuế tiêu thụ đặc biệt | E26: 6898000 | F26: 6760040
A27: - | B27: Thuế tài nguyên
A28: - | B28: Lệ phí môn bài
A29: 5 | B29: Thuế thu nhập cá nhân | C29: 840000000 | D29: 365000000 | E29: 7404993254 | F29: 2839277614 | G29: =E29/C29 -> 8.8154682 | H29: =F29/D29 -> 7.7788428
A30: 6 | B30: Thuế bảo vệ môi trường
A31: - | B31: Thuế BVMT thu từ hàng hóa SXKD trong nước
A32: - | B32: Thuế BVMT thu từ hàng hóa nhập khẩu
A33: 7 | B33: Lệ phí trước bạ | C33: 530000000 | D33: 265000000 | E33: 6533000112 | F33: 1489193724 | G33: =E33/C33 -> 12.326415 | H33: =F33/D33 -> 5.619599
A34: 8 | B34: Thu phí, lệ phí | C34: 78000000 | D34: 78000000 | E34: 281561800 | F34: 133104800 | G34: =E34/C34 -> 3.6097667 | H34: =F34/D34 -> 1.7064718
B35: Trong đó thu phí, lệ phí do xã quản lý | C35: 78000000 | D35: 78000000 | E35: 140104800 | F35: 133104800 | G35: =E35/C35 -> 1.7962154 | H35: =F35/D35 -> 1.7064718
A36: 9 | B36: Thuế sử dụng đất nông nghiệp
A37: 10 | B37: Thuế sử dụng đất phi nông nghiệp | C37: 355000000 | D37: 355000000 | E37: 485665085 | F37: 485665085 | G37: =E37/C37 -> 1.3680707 | H37: =F37/D37 -> 1.3680707
A38: 11 | B38: Tiền cho thuê đất, thuê mặt nước | C38: 410000000 | D38: 82000000 | E38: 562642038 | F38: 112528408 | G38: =E38/C38 -> 1.3722977 | H38: =F38/D38 -> 1.3722977
A39: 12 | B39: Thu tiền sử dụng đất | C39: 117550678241 | D39: 82285474769 | E39: 209090161000 | F39: 134544841680 | G39: =E39/C39 -> 1.7787236 | H39: =F39/D39 -> 1.6350983
A40: 13 | B40: Tiền cho thuê và tiền bán nhà ở thuộc sở hữu nhà nước
A41: 14 | B41: Thu từ hoạt động xổ số kiến thiết
A42: 15 | B42: Thu tiền cấp quyền khai thác khoáng sản
A43: 16 | B43: Thu khác ngân sách | C43: 105000000 | D43: 105000000 | E43: 490151810 | F43: 306594958 | G43: =E43/C43 -> 4.6681125 | H43: =F43/D43 -> 2.919952
B44: Trong đó các khoản thu khác của NS xã
A45: 17 | B45: Thu từ quỹ đất công ích, hoa lợi công sản khác | C45: 270000000 | D45: 270000000 | E45: 1368340400 | F45: 1368340400 | G45: =E45/C45 -> 5.0679274 | H45: =F45/D45 -> 5.0679274
B46: Trong đó: Đền bù khi nhà nước thu hồi đất | E46: 1083096000 | F46: 1083096000
A47: 18 | B47: Thu hồi vốn, thu cổ tức
B48: Lợi nhuận được chia của NN và lợi nhuận sau thuế còn lại sau khi trích lập các quỹ của doanh nghiệp NN
A49: 19 | B49: Chênh lệch thu chi Ngân hàng Nhà nước
A50: II | B50: Thu từ dầu thô
A51: III | B51: Thu từ hoạt động xuất nhập khẩu
A52: 1 | B52: Thuế xuất khẩu
A53: 2 | B53: Thuế nhập khẩu
A54: 3 | B54: Thuế tiêu thụ đặc biệt thu từ hàng hóa nhập khẩu
A55: 4 | B55: Thuế bảo vệ môi trường thu từ hàng hóa nhập khẩu
A56: 5 | B56: Thuế giá trị gia tăng thu từ hàng hóa nhập khẩu
A57: 6 | B57: Thu khác
A58: IV | B58: Thu viện trợ
A59: V | B59: Các khoản huy động, đóng góp | E59: 33364314 | F59: 33364314
A60: B | B60: THU BỔ SUNG TỪ NGÂN SÁCH CẤP TRÊN | C60: =SUM(C61:C62) -> 40576000000 | D60: =SUM(D61:D62) -> 40576000000 | E60: =SUM(E61:E62) -> 175837855259 | F60: =SUM(F61:F62) -> 175837855259 | G60: =E60/C60 -> 4.3335434 | H60: =F60/D60 -> 4.3335434
B61: - Bổ sung cân đối | C61: 28676000000 | D61: 28676000000 | E61: 28676000000 | F61: 28676000000 | G61: =E61/C61 -> 1 | H61: =F61/D61 -> 1
B62: - Bổ sung có mục tiêu | C62: 11900000000 | D62: 11900000000 | E62: 147161855259 | F62: =E62 -> 147161855259 | G62: =E62/C62 -> 12.366542 | H62: =F62/D62 -> 12.366542
A63: C | B63: THU TỪ NGÂN SÁCH CẤP DƯỚI NỘP LÊN
A64: D | B64: THU KẾT DƯ NĂM TRƯỚC | E64: 4717217296 | F64: 4717217296
A65: E | B65: THU CHUYỂN NGUỒN | E65: 7603109691 | F65: 7603109691

Sheet NĐ31- Biểu 51- QT chi-lĩnh vưc
C1: Biểu mẫu số 51
A4: QUYẾT TOÁN CHI NGÂN SÁCH ĐỊA PHƯƠNG THEO LĨNH VỰC NĂM 2025
A5: =+'NĐ31- Biểu 48- cân đối 2025'!A5 -> (Kèm theo Quyết đinh số 892/QĐ-UBND ngày 07/4/2026 của UBND xã Đoàn Đào)
D6: Đơn vị tính: Đồng
A7: STT | B7: Nội dung | C7: Dự toán | D7: Quyết toán | E7: So sánh (%)
A8: A | B8: B | C8: 1 | D8: 2 | E8: 3=2/1
B9: TỔNG CHI NGÂN SÁCH ĐỊA PHƯƠNG | C9: =C10+C31+C34 -> 124617474769 | D9: =D10+D31+D34 -> 295880417617 | E9: =D9/C9 -> 2.3743092
A10: A | B10: CHI CÂN ĐỐI NGÂN SÁCH ĐỊA PHƯƠNG | C10: =C11+C21+C25+C26+C27+C28+C29+C30 -> 124617474769 | D10: =D11+D21+D25+D26+D27+D28+D29+D30 -> 283415575899 | E10: =D10/C10 -> 2.2742844
A11: I | B11: Chi đầu tư phát triển | C11: =C12+C19+C20 -> 82285474769 | D11: =D12+D19+D20 -> 145253363756 | E11: =D11/C11 -> 1.765237
A12: 1 | B12: Chi đầu tư cho các dự án | C12: =82285474769 -> 82285474769 | D12: ='NĐ31- Biểu 52- QT chi'!$D$14 -> 145253363756 | E12: =D12/C12 -> 1.765237
B13: Trong đó: Chia theo lĩnh vực
A14: - | B14: Chi giáo dục - đào tạo và dạy nghề | C14: 21988046000 | D14: ='NĐ31- Biểu 52- QT chi'!$D$16 -> 22704744311 | E14: =D14/C14 -> 1.0325949
A15: - | B15: Chi khoa học và công nghệ
B16: Trong đó: Chia theo nguồn vốn
A17: - | B17: Chi đầu tư từ nguồn thu tiền sử dụng đất | C17: 82285474769 | D17: ='NĐ31- Biểu 52- QT chi'!$D$14 -> 145253363756 | E17: =D17/C17 -> 1.765237
A18: - | B18: Chi đầu tư từ nguồn thu xổ số kiến thiết
A19: 2 | B19: Chi đầu tư và hỗ trợ vốn cho các doanh nghiệp cung cấp sản phẩm, dịch vụ công ích do Nhà nước đặt hàng, các tổ chức kinh tế, các tổ chức tài chính của địa phương theo quy định của pháp luật
A20: 3 | B20: Chi đầu tư phát triển khác
A21: II | B21: Chi thường xuyên | C21: 29137000000 | D21: ='NĐ31- Biểu 52- QT chi'!$D$31 -> 137868831143 | E21: =D21/C21 -> 4.7317442
B22: Trong đó:
A23: 1 | B23: Chi giáo dục- đào tạo và dạy nghề | C23: 35000000 | D23: ='NĐ31- Biểu 52- QT chi'!$D$32 -> 63521594392 | E23: =D23/C23 -> 1814.9027
A24: 2 | B24: Chi khoa học và công nghệ
A25: III | B25: Chi nộp ngân sách cấp trên | D25: ='NĐ31- Biểu 52- QT chi'!D12 -> 293381000
A26: IV | B26: Chi bổ sung quỹ dự trữ tài chính
A27: V | B27: Dự phòng ngân sách | C27: 1295000000
A28: VI | B28: Chi tạo nguồn, điều chỉnh tiền lương
A29: VII | B29: Chi bổ sung mục tiêu từ ngân sách cấp trên | C29: 11900000000
A30: VIII | B30: Các nhiệm vụ chi khác
A31: B | B31: CHI CÁC CHƯƠNG TRÌNH MỤC TIÊU | C31: =C32+C33 -> 0
A32: I | B32: Chi các chương trình mục tiêu quốc gia
A33: II | B33: Chi các chương trình mục tiêu, nhiệm vụ
A34: C | B34: CHI CHUYỂN NGUỒN SANG NĂM SAU | D34: ='NĐ31- Biểu 52- QT chi'!D49 -> 12464841718

Sheet NĐ31- Biểu 52- QT chi
A5: QUYẾT TOÁN CHI NGÂN SÁCH XÃ THEO LĨNH VỰC NĂM 2025
A6: =+'NĐ31- Biểu 48- cân đối 2025'!A5 -> (Kèm theo Quyết đinh số 892/QĐ-UBND ngày 07/4/2026 của UBND xã Đoàn Đào)
E7: Đơn vị: Đồng
A8: STT | B8: Nội dung | C8: Dự toán | D8: Quyết toán | E8: So sánh
E9: Tuyệt đối | F9: Tương đối (%)
A10: A | B10: B | C10: 1 | D10: 2 | E10: 3=2-1 | F10: 4=2/1
B11: TỔNG CHI NSĐP | C11: =C12+C13+C49 -> 112717474769 | D11: =D12+D13+D49 -> 295880417617 | E11: =D11-C11 -> 183162942848 | F11: =D11/C11 -> 2.6249738
A12: A | B12: CHI CHUYỂN GIAO NGÂN SÁCH | D12: =293381000 -> 293381000 | E12: =D12-C12 -> 293381000
A13: B | B13: CHI NGÂN SÁCH XÃ THEO LĨNH VỰC | C13: =C14+C31+C44+C45+C46+C47+C48 -> 112717474769 | D13: =D14+D31+D44+D45+D46+D47+D48 -> 283122194899 | E13: =D13-C13 -> 170404720130 | F13: =D13/C13 -> 2.5117862
A14: I | B14: Chi đầu tư phát triển | C14: =C15+C29+C30 -> 82285474769 | D14: =D15+D29+D30 -> 145253363756 | E14: =D14-C14 -> 62967888987 | F14: =D14/C14 -> 1.765237
A15: 1 | B15: Chi đầu tư cho các dự án | C15: =SUM(C16:C28) -> 82285474769 | D15: =SUM(D16:D28) -> 145253363756 | E15: =D15-C15 -> 62967888987 | F15: =D15/C15 -> 1.765237
A16: - | B16: Chi giáo dục - đào tạo và dạy nghề | C16: 21988046000 | D16: 22704744311 | E16: =D16-C16 -> 716698311 | F16: =D16/C16 -> 1.0325949
A17: - | B17: Chi khoa học và công nghệ | E17: =D17-C17 -> 0
A18: - | B18: Chi quốc phòng | E18: =D18-C18 -> 0
A19: - | B19: Chi an ninh và trật tự an toàn xã hội | C19: 641464000 | D19: 1535270677 | E19: =D19-C19 -> 893806677 | F19: =D19/C19 -> 2.3933856
A20: - | B20: Chi y tế, dân số và gia đình | E20: =D20-C20 -> 0
A21: - | B21: Chi văn hóa thông tin | C21: 5464909000 | D21: 14363059682 | E21: =D21-C21 -> 8898150682 | F21: =D21/C21 -> 2.628234
A22: - | B22: Chi phát thanh, truyền hình, thông tấn | C22: 1000000000 | E22: =D22-C22 -> -1000000000 | F22: =D22/C22 -> 0
A23: - | B23: Chi thể dục thể thao | E23: =D23-C23 -> 0
A24: - | B24: Chi bảo vệ môi trường | E24: =D24-C24 -> 0
A25: - | B25: Chi các hoạt động kinh tế | C25: 46010071769 | D25: 105598555086 | E25: =D25-C25 -> 59588483317 | F25: =D25/C25 -> 2.2951182
A26: - | B26: Chi hoạt động của cơ quan quản lý nhà nước, đảng, đoàn thể | D26: 1001734000 | E26: =D26-C26 -> 1001734000
A27: - | B27: Chi bảo đảm xã hội | E27: =D27-C27 -> 0
A28: - | B28: Chi đầu tư khác | C28: =7180984000 -> 7180984000 | D28: 50000000 | E28: =D28-C28 -> -7130984000 | F28: =D28/C28 -> 0.0069628341
A29: 2 | B29: Chi đầu tư và hỗ trợ vốn cho các doanh nghiệp cung cấp sản phẩm, dịch vụ công ích do Nhà nước đặt hàng, các tổ chức kinh tế, các tổ chức tài chính của địa phương theo quy định của pháp luật | E29: =D29-C29 -> 0
A30: 3 | B30: Chi đầu tư phát triển khác | E30: =D30-C30 -> 0
A31: II | B31: Chi thường xuyên | C31: =SUM(C32:C43) -> 29137000000 | D31: =SUM(D32:D43) -> 137868831143 | E31: =D31-C31 -> 108731831143 | F31: =D31/C31 -> 4.7317442
A32: - | B32: Chi giáo dục - đào tạo và dạy nghề | C32: 35000000 | D32: 63521594392 | E32: =D32-C32 -> 63486594392 | F32: =D32/C32 -> 1814.9027
A33: - | B33: Chi khoa học và công nghệ (2) | E33: =D33-C33 -> 0
A34: - | B34: Chi quốc phòng | C34: 708596000 | D34: 671881547 | E34: =D34-C34 -> -36714453 | F34: =D34/C34 -> 0.94818704
A35: - | B35: Chi an ninh và trật tự an toàn xã hội | C35: 1135120000 | D35: 1386319098 | E35: =D35-C35 -> 251199098 | F35: =D35/C35 -> 1.2212974
A36: - | B36: Chi y tế, dân số và gia đình | C36: 219231200 | D36: 10045593430 | E36: =D36-C36 -> 9826362230 | F36: =D36/C36 -> 45.821915
A37: - | B37: Chi văn hóa thông tin+ thể dục thể thao | C37: 1840000000 | D37: =1987372490+266871600 -> 2254244090 | E37: =D37-C37 -> 414244090 | F37: =D37/C37 -> 1.2251327
A38: - | B38: Chi phát thanh, truyền hình, thông tấn | C38: 170928000 | D38: 302896000 | E38: =D38-C38 -> 131968000 | F38: =D38/C38 -> 1.7720678
A39: - | B39: Chi bảo vệ môi trường | C39: 470000000 | D39: 2608494007 | E39: =D39-C39 -> 2138494007 | F39: =D39/C39 -> 5.5499872
A40: - | B40: Chi các hoạt động kinh tế | C40: 2670000000 | D40: 4949961000 | E40: =D40-C40 -> 2279961000 | F40: =D40/C40 -> 1.853918
A41: - | B41: Chi hoạt động của cơ quan quản lý nhà nước, đảng, đoàn thể | C41: 21001473200 | D41: 40387497761 | E41: =D41-C41 -> 19386024561 | F41: =D41/C41 -> 1.9230793
A42: - | B42: Chi bảo đảm xã hội | C42: 886651600 | D42: 11740349818 | E42: =D42-C42 -> 10853698218 | F42: =D42/C42 -> 13.241221
A43: - | B43: Chi thường xuyên khác | E43: =D43-C43 -> 0
A44: III | B44: Chi trả nợ lãi các khoản do chính quyền địa phương vay | E44: =D44-C44 -> 0
A45: IV | B45: Chi bổ sung quỹ dự trữ tài chính (2) | E45: =D45-C45 -> 0
A46: V | B46: Dự phòng ngân sách | C46: 1295000000 | E46: =D46-C46 -> -1295000000 | F46: =D46/C46 -> 0
A47: VI | B47: Chi tạo nguồn, điều chỉnh tiền lương | E47: =D47-C47 -> 0
A48: VII | B48: Các nhiệm vụ chi khác | E48: =D48-C48 -> 0
A49: C | B49: CHI CHUYỂN NGUỒN SANG NĂM SAU | D49: 12464841718 | E49: =D49-C49 -> 12464841718

Sheet NĐ31- Biểu 53
A1: ỦY BAN NHÂN DÂN | H1: Biểu mẫu số 53
A2: HUYỆN PHÙ CỪ
A4: UBND HUYỆN PHÙ CỪ | H4: Biểu mẫu số 53
A5: PHÒNG TÀI CHÍNH- KẾ HOẠCH
A7: QUYẾT TOÁN CHI NGÂN SÁCH ĐỊA PHƯƠNG, CHI NGÂN SÁCH CẤP HUYỆN VÀ CHI NGÂN SÁCH XÃ THEO CƠ CẤU CHI NĂM 2024
A8: =+'NĐ31- Biểu 48- cân đối 2025'!A5 -> (Kèm theo Quyết đinh số 892/QĐ-UBND ngày 07/4/2026 của UBND xã Đoàn Đào)
A9: =+'NĐ31- Biểu 48- cân đối 2025'!#REF! -> #REF!
I10: Đơn vị: Đồng
A11: STT | B11: Nội dung | C11: Dự toán năm 2024 | D11: Bao gồm | F11: Quyết toán năm 2024 | G11: Bao gồm | I11: So sánh (%)
D12: Ngân sách cấp huyện | E12: Ngân sách xã | G12: Ngân sách cấp huyện | H12: Ngân sách xã | I12: Ngân sách địa phương | J12: Ngân sách cấp huyện | K12: Ngân sách xã
A13: A | B13: B | C13: 1=2+3 | D13: 2 | E13: 3 | F13: 4=5+6 | G13: 5 | H13: 6 | I13: 7=4/1 | J13: 8=5/2 | K13: 9=6/3
B14: TỔNG CHI NSĐP | C14: =D14+E14 -> 951741307195 | D14: =D15 -> 680417307195 | E14: =E15 -> 271324000000 | F14: =G14+H14 -> 1539769419835 | G14: ='[1]TT-342- Biểu số 62- XONG'!G12 -> 1093620650447 | H14: ='[1]TT-342- Biểu số 62- XONG'!H12 -> 446148769388 | I14: =F14/C14 -> 1.6178445 | J14: =G14/D14 -> 1.6072793 | K14: =H14/E14 -> 1.6443395
A15: A | B15: CHI CÂN ĐỐI NSĐP | C15: =D15+E15 -> 951741307195 | D15: =D16+D26+D30+D31+D32+D33+D34 -> 680417307195 | E15: =E16+E26+E30+E31+E32+E33+E34 -> 271324000000 | F15: =F16+F26+F30+F31+F32+F33+F34 -> 1263125438461 | G15: =G16+G26+G30+G31+G32+G33 -> 697663775517 | H15: =H16+H26+H30+H31+H32+H33 -> 565461662944 | I15: =F15/C15 -> 1.3271731 | J15: =G15/D15 -> 1.0253469 | K15: =H15/E15 -> 2.0840827
A16: I | B16: Chi đầu tư phát triển | C16: =D16+E16 -> 456493307195 | D16: =+'TT342- Biểu 62-ok'!M14 -> 278715307195 | E16: =+'TT342- Biểu 62-ok'!N14 -> 177778000000 | F16: =F17+F24+F25 -> 729017056530 | G16: =G17+G24+G25 -> 274638415170 | H16: =H17+H24+H25 -> 454378641360 | I16: =F16/C16 -> 1.596994 | J16: =G16/D16 -> 0.98537256 | K16: =H16/E16 -> 2.5558767
A17: 1 | B17: Chi đầu tư cho các dự án | C17: =D17+E17 -> 454693307195 | D17: =+'TT342- Biểu 62-ok'!M15 -> 276915307195 | E17: =+'TT342- Biểu 62-ok'!N15 -> 177778000000 | F17: =G17+H17 -> 727217056530 | G17: =+'TT342- Biểu 62-ok'!G15 -> 272838415170 | H17: =+'TT342- Biểu 62-ok'!H15 -> 454378641360 | I17: =F17/C17 -> 1.5993573 | J17: =G17/D17 -> 0.98527748 | K17: =H17/E17 -> 2.5558767
B18: Trong đó: Chia theo lĩnh vực | C18: =D18+E18 -> 0 | F18: =G18+H18 -> 0
A19: - | B19: Chi giáo dục - đào tạo và dạy nghề | C19: =+D19+E19 -> 69900000000 | D19: =+'TT342- Biểu 62-ok'!M18 -> 49900000000 | E19: =+'TT342- Biểu 62-ok'!N18 -> 20000000000 | F19: =G19+H19 -> 76598153040 | G19: =+'TT342- Biểu 62-ok'!G18 -> 49424486844 | H19: =+'TT342- Biểu 62-ok'!H18 -> 27173666196 | I19: =F19/C19 -> 1.0958248 | J19: =G19/D19 -> 0.99047068 | K19: =H19/E19 -> 1.3586833
A20: - | B20: Chi khoa học và công nghệ | C20: =D20+E20 -> 0 | F20: =G20+H20 -> 0
B21: Trong đó: Chia theo nguồn vốn | C21: =D21+E21 -> 0 | F21: =G21+H21 -> 0
A22: - | B22: Chi đầu tư từ nguồn thu tiền sử dụng đất | C22: =+'NĐ31- Biểu 51- QT chi-lĩnh vưc'!C17 -> 82285474769 | D22: =+C22-E22 -> -95492525231 | E22: =+E17 -> 177778000000 | F22: =G22+H22 -> 646079139736 | G22: 254488415170 | H22: 391590724566 | I22: =F22/C22 -> 7.8516791 | J22: =G22/D22 -> -2.6650087 | K22: =+H22/E22 -> 2.2026951
A23: - | B23: Chi đầu tư từ nguồn thu xổ số kiến thiết | C23: =D23+E23 -> 0 | F23: =G23+H23 -> 0
A24: 2 | B24: Chi đầu tư và hỗ trợ vốn cho các doanh nghiệp cung cấp sản phẩm, dịch vụ công ích do Nhà nước đặt hàng, các tổ chức kinh tế, các tổ chức tài chính của địa phương theo quy định của pháp luật | C24: =D24+E24 -> 0 | F24: =G24+H24 -> 0
A25: 3 | B25: Chi đầu tư phát triển khác | C25: =D25+E25 -> 0 | D25: =+'TT342- Biểu 62-ok'!M31 -> 0 | F25: =G25+H25 -> 1800000000 | G25: =+'TT342- Biểu 62-ok'!G30 -> 1800000000 | I25: 1 | J25: 1
A26: II | B26: Chi thường xuyên | C26: =D26+E26 -> 468089000000 | D26: =+'TT342- Biểu 62-ok'!K32 -> 380310000000 | E26: =+'TT342- Biểu 62-ok'!L32 -> 87779000000 | F26: =G26+H26 -> 534108381931 | G26: =+'TT342- Biểu 62-ok'!G32 -> 423025360347 | H26: =+'TT342- Biểu 62-ok'!H32 -> 111083021584 | I26: =F26/C26 -> 1.1410402 | J26: =G26/D26 -> 1.1123172 | K26: =H26/E26 -> 1.2654852
B27: Trong đó: | C27: =D27+E27 -> 0 | F27: =G27+H27 -> 0
A28: 1 | B28: Chi giáo dục - đào tạo và dạy nghề | C28: =D28+E28 -> 218032000000 | D28: =+'TT342- Biểu 62-ok'!K35 -> 217847000000 | E28: =+'TT342- Biểu 62-ok'!L35 -> 185000000 | F28: =G28+H28 -> 230999981448 | G28: =+'TT342- Biểu 62-ok'!G35 -> 230807591448 | H28: =+'TT342- Biểu 62-ok'!H35 -> 192390000 | I28: =F28/C28 -> 1.0594774 | J28: =G28/D28 -> 1.059494 | K28: =H28/E28 -> 1.0399459
A29: 2 | B29: Chi khoa học và công nghệ | C29: =D29+E29 -> 120000000 | D29: =+'TT342- Biểu 62-ok'!K36 -> 120000000 | F29: =G29+H29 -> 111225000 | G29: =+'TT342- Biểu 62-ok'!G36 -> 111225000 | I29: =F29/C29 -> 0.926875 | J29: =G29/D29 -> 0.926875
A30: III | B30: Chi trả nợ lãi các khoản do chính quyền địa phương vay | C30: =D30+E30 -> 0 | F30: =G30+H30 -> 0
A31: IV | B31: Chi bổ sung quỹ dự trữ tài chính | C31: =D31+E31 -> 0 | F31: =G31+H31 -> 0
A32: V | B32: Dự phòng ngân sách | C32: =D32+E32 -> 27159000000 | D32: =+'TT342- Biểu 62-ok'!K47 -> 21392000000 | E32: =+'TT342- Biểu 62-ok'!L47 -> 5767000000 | F32: =G32+H32 -> 0
A33: VI | B33: Chi tạo nguồn, điều chỉnh tiền lương | C33: =D33+E33 -> 0 | F33: =G33+H33 -> 0
A34: VII | B34: Chi bổ sung mục tiêu từ ngân sách cấp trên | C34: =D34+E34 -> 0 | D34: ='[1]TT-342- Biểu số 62- XONG'!K49 -> 0 | E34: 0 | F34: ='[1]TT-342- Biểu số 62- XONG'!G49 -> 0
A35: B | B35: CHI CÁC CHƯƠNG TRÌNH MỤC TIÊU | C35: =D35+E35 -> 0 | F35: =G35+H35 -> 0 | G35: =G36+G37 -> 0
A36: I | B36: Chi các chương trình mục tiêu quốc gia | C36: =D36+E36 -> 0
A37: II | B37: Chi các chương trình mục tiêu, nhiệm vụ | C37: =D37+E37 -> 0 | F37: =G37+H37 -> 0
A38: C | B38: CHI CHUYỂN NGUỒN SANG NĂM SAU | C38: =D38+E38 -> 0 | F38: =G38+H38 -> 171333479503 | G38: =+'TT342- Biểu 62-ok'!G48 -> 88672805719 | H38: =+'TT342- Biểu 62-ok'!H48 -> 82660673784
G39: =+'NĐ31- Biểu 48- cân đối 2025'!C42 -> 0
G40: TM. ỦY BAN NHÂN DÂN
G41: CHỦ TỊCH
G47: =+'NĐ31- Biểu 52- QT chi'!C54 -> 0

Sheet NĐ31- Biểu 54- QT chi-cq
L1: Biểu mẫu số 54
L2: (Ban hành kèm theo NĐ số 31/2017/NĐ-CP ngày 23/3/2017 của Chính phủ)
A4: QUYẾT TOÁN CHI NGÂN SÁCH XÃ CHO TỪNG CƠ QUAN, TỔ CHỨC THEO LĨNH VỰC NĂM 2025
A5: =+'NĐ31- Biểu 53'!A8 -> (Kèm theo Quyết đinh số 892/QĐ-UBND ngày 07/4/2026 của UBND xã Đoàn Đào)
A6: Đơn vị tính: Đồng
A7: STT | B7: Tên đơn vị | C7: Dự toán (1) | H7: Quyết toán | M7: So sánh
C8: Tổng số | D8: Chi đầu tư phát triển (không kể CT MTQG) | F8: Chi thường xuyên (không kể chương trình MTQG) | G8: Chi chương trình MTQG | H8: Tổng số | I8: Chi đầu tư phát triển (không kể CT MTQG) | J8: Chi thường xuyên (không kể chương trình MTQG) | K8: Chi chương trình MTQG | L8: Chi chuyển nguồn sang ngân sách năm sau | M8: Tổng số | N8: Chi đầu tư phát triển | O8: Chi thường xuyên | P8: Chi chương trình MTQG
D9: Dự toán đầu năm | E9: Dự toán điều chỉnh
A10: A | B10: B | C10: 1 | E10: 2 | F10: 3 | H10: 7 | I10: 8 | J10: 9 | K10: 12 | L10: 15 | M10: 16 | N10: 17 | O10: 18 | P10: 19
B11: TỔNG CỘNG | C11: =C12+C109 -> 320663794140 | D11: =D12+D109 -> 82285474769 | E11: =E12+E109 -> 174244173863 | F11: =F12+F109 -> 146419620277 | G11: =G12+G109 -> 0 | H11: =H12+H109 -> 291106449813 | I11: =I12+I109 -> 145253363756 | J11: =J12+J109 -> 137868831143 | ... L11: =L12+L109 -> 7984254914 | N11: =I11/E11 -> 0.83361963
A12: A | B12: CHI ĐẦU TƯ PHÁT TRIỂN | C12: =C13+C16+C28+C38+C40+C102+C105+C107 -> 174244173863 | D12: ='NĐ31- Biểu 52- QT chi'!C14 -> 82285474769 | E12: =E13+E16+E28+E38+E40+E102+E105+E107 -> 174244173863 | F12: =F13+F16+F28+F38+F40+F102+F105+F107 -> 0 | G12: =G13+G16+G28+G38+G40+G102+G105+G107 -> 0 | H12: =H13+H16+H28+H38+H40+H102+H105+H107 -> 145253363756 | I12: =I13+I16+I28+I38+I40+I102+I105+I107 -> 145253363756 | N12: =I12/E12 -> 0.83361963
A13: I | B13: An ninh và trật tư, an toàn xã hội | C13: =E13+F13 -> 1.5952707e+09 | E13: =SUM(E14:E15) -> 1.5952707e+09 | H13: =I13+J13 -> 1535270677 | I13: =SUM(I14:I15) -> 1535270677 | N13: =I13/E13 -> 0.96238883
A14: 1 | B14: Xây dựng trụ sở làm việc công an xã Phan Sào Nam, huyện Phù Cừ | C14: =E14+F14 -> 641464000 | E14: 641464000 | H14: =I14+J14 -> 581464000 | I14: 581464000 | N14: =I14/E14 -> 0.90646396
A15: 2 | B15: Xây dựng trụ sở làm việc công an xã Đoàn Đào huyện Phù Cừ | C15: =E15+F15 -> 9.5380668e+08 | E15: 9.5380668e+08 | H15: =I15+J15 -> 953806677 | I15: 953806677 | N15: =I15/E15 -> 1
A16: II | B16: Giáo dục, đào tạo, dạy nghề | C16: =E16+F16 -> 24838470388 | E16: =SUM(E17:E27) -> 24838470388 | H16: =I16+J16 -> 22704744311 | I16: =SUM(I17:I27) -> 22704744311 | N16: =I16/E16 -> 0.91409591
A17: 1 | B17: Sửa chữa nhà lớp học Trường mầm non xã Minh Hoàng, huyện Phù Cừ | C17: =E17+F17 -> 7070000 | E17: 7070000 | H17: =I17+J17 -> 2160000 | I17: 2160000 | N17: =I17/E17 -> 0.30551627
A18: 2 | B18: Các hạng mục phụ trợ Trường tiểu học & THCS Minh Hoàng | C18: =E18+F18 -> 166974200 | E18: 166974200 | H18: =I18+J18 -> 0 | N18: =I18/E18 -> 0
A19: 3 | B19: Trường Mầm non Minh Hoàng hạng mục: Xây dựng nhà ăn và các hạng mục phụ trợ | C19: =E19+F19 -> 218814344 | E19: 218814344 | H19: =I19+J19 -> 127414344 | I19: 127414344 | N19: =I19/E19 -> 0.58229429
A20: 4 | B20: Trường Mầm non Minh Hoàng hạng mục: San lấp mở rộng sân trường, các hạng mục phụ trợ | C20: =E20+F20 -> 188214844 | E20: 188214844 | H20: =I20+J20 -> 138690844 | I20: 138690844 | N20: =I20/E20 -> 0.73687516
A21: 5 | B21: Nhà lớp học 3 tầng 4 phòng và các phòng chức năng Trường Mầm non Phan Sào Nam | C21: =E21+F21 -> 8.426967e+09 | E21: 8.426967e+09 | H21: =I21+J21 -> 8426966000 | I21: 8426966000 | N21: =I21/E21 -> 0.99999988
A22: 6 | B22: Xây dựng nhà lớp học và các phòng chức năng 03 tầng trường tiểu học Phan Sào Nam | C22: =E22+F22 -> 2787960000 | E22: 2787960000 | H22: =I22+J22 -> 2787959000 | I22: 2787959000 | N22: =I22/E22 -> 0.99999964
A23: 7 | B23: Nhà lớp học 02 tầng 06 phòng trường Mầm non xã Phan Sào Nam | C23: =E23+F23 -> 276928000 | E23: 276928000 | H23: =I23+J23 -> 276927422 | I23: 276927422 | N23: =I23/E23 -> 0.99999791
A24: 8 | B24: Xây dựng nhà đa năng, phòng học, phòng chức năng, nâng cấp nhà hiệu bộ và các hạng mục phụ trợ - trường THCS Phan Sào Nam | C24: =E24+F24 -> 10352905000 | E24: 10352905000 | H24: =I24+J24 -> 8644331301 | I24: 8644331301 | N24: =I24/E24 -> 0.83496674
A25: 9 | B25: Xây dựng nhà đa năng trường tiểu học xã Phan Sào Nam | C25: =E25+F25 -> 552769000 | E25: 552769000 | H25: =I25+J25 -> 552769000 | I25: 552769000 | N25: =I25/E25 -> 1
A26: 10 | B26: Xây dựng nhà vệ sinh tại trường Tiểu học và trung học cơ sở xã Phan Sào Nam | C26: =E26+F26 -> 800000000 | E26: 800000000 | H26: =I26+J26 -> 764197400 | I26: 764197400 | N26: =I26/E26 -> 0.95524675
A27: 11 | B27: Cải tạo sửa chữa nhà hiệu bộ, nhà vệ sinh trường Mầm non xã Phan Sào Nam | C27: =E27+F27 -> 1.059868e+09 | E27: 1.059868e+09 | H27: =I27+J27 -> 983329000 | I27: 983329000 | N27: =I27/E27 -> 0.9277844
A28: III | B28: Văn hóa- thông tin | C28: =E28+F28 -> 14455757000 | E28: =SUM(E29:E37) -> 14455757000 | H28: =I28+J28 -> 14363059682 | I28: =SUM(I29:I37) -> 14363059682 | N28: =I28/E28 -> 0.99358752
A29: 1 | B29: Nhà văn hoá Ngọc Trúc- xã Minh Hoàng | C29: =E29+F29 -> 1221619000 | E29: 1221619000 | H29: =I29+J29 -> 1202443000 | I29: 1202443000 | N29: =I29/E29 -> 0.9843028
A30: 2 | B30: Nhà văn hoá thôn Ải Quan- xã Minh Hoàng | C30: =E30+F30 -> 1043867000 | E30: 1043867000 | H30: =I30+J30 -> 1043559000 | I30: 1043559000 | N30: =I30/E30 -> 0.99970494
A31: 3 | B31: Xây dựng sân vận động thôn Quế Lâm | C31: =E31+F31 -> 4320000 | E31: 4320000 | H31: =I31+J31 -> 4320000 | I31: 4320000 | N31: =I31/E31 -> 1
A32: 4 | B32: Xây dựng sân vận động thôn Hoàng Tranh | C32: =E32+F32 -> 4320000 | E32: 4320000 | H32: =I32+J32 -> 4320000 | I32: 4320000 | N32: =I32/E32 -> 1
A33: 5 | B33: Xây dựng sân vận động thôn Ngọc Trúc | C33: =E33+F33 -> 4320000 | E33: 4320000 | H33: =I33+J33 -> 4320000 | I33: 4320000 | N33: =I33/E33 -> 1
A34: 6 | B34: Xây mới nhà văn hóa thôn Đoàn Đào, xã Đoàn Đào | C34: =E34+F34 -> 4263126000 | E34: 4263126000 | H34: =I34+J34 -> 4263126000 | I34: 4263126000 | N34: =I34/E34 -> 1
A35: 7 | B35: Xây dựng nhà văn hoá thôn Phú Mãn và các hạng mục phụ trợ | C35: =E35+F35 -> 4714909000 | E35: 4714909000 | H35: =I35+J35 -> 4714908682 | I35: 4714908682 | N35: =I35/E35 -> 0.99999993
A36: 8 | B36: Xây dựng ao bơi trung tâm cho thanh thiếu niên xã Phan Sào Nam | C36: =E36+F36 -> 2185961000 | E36: 2185961000 | H36: =I36+J36 -> 2185961000 | I36: 2185961000 | N36: =I36/E36 -> 1
A37: 9 | B37: Xây dựng nhà vệ sinh tại nhà văn hoá thôn Ba Đông, thôn Trà Bồ và tại chợ chè thôn Trà Bồ | C37: =E37+F37 -> 1013315000 | E37: 1013315000 | H37: =I37+J37 -> 940102000 | I37: 940102000 | N37: =I37/E37 -> 0.92774902
A38: IV | B38: Lĩnh vực phát thành, truyền hình | C38: =E38+F38 -> 1000000000 | E38: =SUM(E39) -> 1000000000 | H38: =I38+J38 -> 0 | I38: =SUM(I39) -> 0 | N38: =I38/E38 -> 0
A39: 1 | B39: Cải tạo, nâng cấp hệ thống loa truyền thanh xã Phan Sào Nam | C39: =E39+F39 -> 1000000000 | E39: 1000000000 | H39: =I39+J39 -> 0 | N39: =I39/E39 -> 0
A40: V | B40: Lĩnh vực Kinh tế | C40: =E40+F40 -> 129302941798 | E40: =E41+E95 -> 129302941798 | H40: =I40+J40 -> 105598555086 | I40: =I41+I95 -> 105598555086 | N40: =I40/E40 -> 0.81667558
A41: * | B41: Giao thông vận tải | C41: =E41+F41 -> 106434958798 | E41: =SUM(E42:E94) -> 106434958798 | H41: =I41+J41 -> 85374183505 | I41: =SUM(I42:I94) -> 85374183505 | N41: =I41/E41 -> 0.8021254
A42: 1 | B42: Đường GT nội đồng đoạn từ nhà ông Nhữ đến cửa nhà ông Vũ thôn Hoàng Tranh, xã Minh Hoàng | C42: =E42+F42 -> 35252018 | E42: 35252018 | H42: =I42+J42 -> 35252018 | I42: 35252018 | N42: =I42/E42 -> 1
A43: 2 | B43: Xây dựng kè mương thoát nước chống sạt lở đường xã Minh Hoàng (đoạn từ Trường Mầm Non đến Trạm Bơm) | C43: =E43+F43 -> 204043000 | E43: 204043000 | H43: =I43+J43 -> 199723000 | I43: 199723000 | N43: =I43/E43 -> 0.97882799
A44: 3 | B44: Xây dựng kè mương thoát nước chống sạt lở đường xã Minh Hoàng (đoạn từ đầu làng thôn Hoàng Tranh đến trạm bơm) | C44: =E44+F44 -> 388568000 | E44: 388568000 | H44: =I44+J44 -> 388568000 | I44: 388568000 | N44: =I44/E44 -> 1
A45: 4 | B45: Cải tạo, nâng cấp đường giao thông xã Minh Hoàng đoạn từ Trạm y tế đến đường ĐH.86 | C45: =E45+F45 -> 1820179200 | E45: 1820179200 | H45: =I45+J45 -> 1820179200 | I45: 1820179200 | N45: =I45/E45 -> 1
A46: 5 | B46: Nâng cấp đường giao thông xã Minh Hoàng (đoạn từ cổng làng Tranh đến cống ông Thọ) | C46: =E46+F46 -> 2063489400 | E46: 2063489400 | H46: =I46+J46 -> 2037508000 | I46: 2037508000 | N46: =I46/E46 -> 0.987409
A47: 6 | B47: Nâng cấp đường GTNT xã Minh Hoàng (Đoạn từ nhà ông Toản đến nhà ông Hưng thôn Hoàng Tranh) | C47: =E47+F47 -> 30487000 | E47: 30487000 | H47: =I47+J47 -> 26167000 | I47: 26167000 | N47: =I47/E47 -> 0.85830026
A48: 7 | B48: Cải tạo nâng cấp sửa chữa đường đồng thôn Hoàng Tranh xã Minh Hoàng ( Đoạn từ đường ĐH86 đến cầu Đá Đại) | C48: =E48+F48 -> 43269000 | E48: 43269000 | H48: =I48+J48 -> 38949000 | I48: 38949000 | N48: =I48/E48 -> 0.90015947
A49: 8 | B49: Cải tạo, nâng cấp sửa chữa đường đồng xóm 12 thôn Hoàng Tranh, xã Minh Hoàng | C49: =E49+F49 -> 159861000 | E49: 159861000 | H49: =I49+J49 -> 159861000 | I49: 159861000 | N49: =I49/E49 -> 1
A50: 9 | B50: Cải tạo, nâng cấp Đường GTNT xã Minh Hoàng | C50: =E50+F50 -> 3598584000 | E50: 3598584000 | H50: =I50+J50 -> 2587160000 | I50: 2587160000 | N50: =I50/E50 -> 0.71893834
A51: 10 | B51: Cải tạo, nâng cấp 06 tuyến đường GTNT xã Minh Hoàng | C51: =E51+F51 -> 8187698000 | E51: 8187698000 | H51: =I51+J51 -> 760498000 | I51: 760498000 | N51: =I51/E51 -> 0.092883006
A52: 11 | B52: Cải tạo, sửa chữa đường nội đồng thôn Quế Lâm, xã Minh Hoàng (Đoạn từ sân bóng đi cống ông láng hàng ông Tuy). | C52: =E52+F52 -> 116113600 | E52: 116113600 | H52: =I52+J52 -> 116113600 | I52: 116113600 | N52: =I52/E52 -> 1
A53: 12 | B53: Cải tạo, nâng cấp đường nội đồng thôn Hoàng Tranh xã Minh Hoàng đoạn từ nghĩa Trang Mả Cả đến giáp địa phận xã Đoàn Đào | C53: =E53+F53 -> 130311000 | E53: 130311000 | H53: =I53+J53 -> 126272181 | I53: 126272181 | N53: =I53/E53 -> 0.96900631
... A94: 53 | B94: Cải tạo, nâng đường giao thông nội đồng thôn Ba đông đoạn từ vườn ông Huy đến Sông mới | C94: =E94+F94 -> 1131854000 | E94: 1131854000 | H94: =I94+J94 -> 1041614000 | I94: 1041614000 | N94: =I94/E94 -> 0.9202724
A95: * | B95: Kiến thiết thị chính | C95: =E95+F95 -> 22867983000 | E95: =SUM(E96:E101) -> 22867983000 | H95: =I95+J95 -> 20224371581 | I95: =SUM(I96:I101) -> 20224371581 | N95: =I95/E95 -> 0.88439683
A96: 54 | B96: Xây dựng nghĩa trang nhân dân đồng bộ thôn Quế Lâm | C96: =E96+F96 -> 4320000 | E96: 4320000 | H96: =I96+J96 -> 4320000 | I96: 4320000 | N96: =I96/E96 -> 1
A97: 55 | B97: Xây dựng nghĩa trang nhân dân đồng bộ thôn Ngọc Trúc | C97: =E97+F97 -> 4320000 | E97: 4320000 | H97: =I97+J97 -> 4320000 | I97: 4320000 | N97: =I97/E97 -> 1
A98: 56 | B98: Xây dựng Nghĩa trang nhân dân đồng bộ thôn Hoàng Tranh | C98: =E98+F98 -> 4320000 | E98: 4320000 | H98: =I98+J98 -> 4320000 | I98: 4320000 | N98: =I98/E98 -> 1
A99: 57 | B99: Xây dựng khu tái định cư và đấu giá quyền sử dụng đất cho nhân dân làm nhà ở tại xã Minh Hoàng, huyện Phù Cừ để phục vụ dự án đường Tân Phúc - Võng Phan (giao ĐT.378), tỉnh Hưng Yên | C99: =E99+F99 -> 15260000000 | E99: 15260000000 | H99: =I99+J99 -> 15260000000 | I99: 15260000000 | N99: =I99/E99 -> 1
A100: 58 | B100: Hạ tầng kỹ thuật đấu giá quyền sử dụng đất cho nhân dân làm nhà ở tạo vốn xây dựng NTM tại xã Đoàn Đào huyện Phù Cừ | C100: =E100+F100 -> 3904376000 | E100: 3904376000 | H100: =I100+J100 -> 1273633000 | I100: 1273633000 | N100: =I100/E100 -> 0.32620654
A101: 59 | B101: Xây dựng khu tái định cư phục vụ dự án xây dựng cầu GTNT Phú Mãn, và đấu giá QSD đất cho nhân dân làm nhà ở | C101: =E101+F101 -> 3690647000 | E101: 3690647000 | H101: =I101+J101 -> 3677778581 | I101: 3677778581 | N101: =I101/E101 -> 0.99651323
A102: VI | B102: Chi hoạt động của cơ quan quản lý Nhà nước, Đảng, Đoàn thể | C102: =E102+F102 -> 1001734000 | E102: =SUM(E103:E104) -> 1001734000 | H102: =I102+J102 -> 1001734000 | I102: =SUM(I103:I104) -> 1001734000 | N102: =I102/E102 -> 1
A103: 1 | B103: Sửa chữa nhà làm việc 3 tầng Đảng uỷ-HĐND-UBND xã Minh Hoàng | C103: =E103+F103 -> 478104000 | E103: 478104000 | H103: =I103+J103 -> 478104000 | I103: 478104000 | N103: =I103/E103 -> 1
A104: 2 | B104: Sửa chữa nhà làm việc Đảng ủy - HĐND - UBND | C104: =E104+F104 -> 523630000 | E104: 523630000 | H104: =I104+J104 -> 523630000 | I104: 523630000 | N104: =I104/E104 -> 1
A105: VII | B105: Bảo đảm xã hội | C105: =E105+F105 -> 2000000000 | E105: =SUM(E106) -> 2000000000 | H105: =I105+J105 -> 0 | I105: =SUM(I106) -> 0 | N105: =I105/E105 -> 0
A106: 1 | B106: Cải tạo, nâng cấp nghĩa trang liệt sỹ xã Đoàn Đào | C106: =E106+F106 -> 2000000000 | E106: 2000000000 | H106: =I106+J106 -> 0 | N106: =I106/E106 -> 0
A107: VIII | B107: Tài chính và khác | C107: =E107+F107 -> 50000000 | E107: =SUM(E108) -> 50000000 | H107: =I107+J107 -> 50000000 | I107: =SUM(I108) -> 50000000 | N107: =I107/E107 -> 1
A108: 1 | B108: Chi uỷ thác Ngân hàng chính sách (Bổ sung vốn cho các quỹ tài chính NN ngoài ngân sách) | C108: =E108+F108 -> 50000000 | E108: 50000000 | H108: =I108+J108 -> 50000000 | I108: 50000000 | N108: =I108/E108 -> 1
A109: B | B109: CHI THƯỜNG XUYÊN | C109: =C110+C114 -> 146419620277 | E109: =E110+E114 -> 0 | F109: =F110+F114 -> 146419620277 | G109: =G110+G114 -> 0 | H109: =H110+H114 -> 145853086057 | I109: =I110+I114 -> 0 | J109: =J110+J114 -> 137868831143 | K109: =K110+K114 -> 0 | L109: =L110+L114 -> 7984254914 | O109: =J109/F109 -> 0.9416008 | R109: =C109-H109 -> 566534220
A110: I | B110: Khối Cơ quan QLNN, Đảng, đoàn thể | C110: =SUM(C111:C113) -> 81203251232 | E110: =SUM(E111:E113) -> 0 | F110: =SUM(F111:F113) -> 81203251232 | G110: =SUM(G111:G113) -> 0 | H110: =SUM(H111:H113) -> 80642777012 | I110: =SUM(I111:I113) -> 0 | J110: =SUM(J111:J113) -> 73526499661 | K110: =SUM(K111:K113) -> 0 | L110: =SUM(L111:L113) -> 7116277351 | O110: =J110/F110 -> 0.90546251 | R110: =C110-H110 -> 560474220
A111: 1 | B111: Văn phòng Đảng uỷ | C111: =SUM(E111:G111) -> 7809781227 | F111: ='NĐ31- Biểu 56-QT chi TX-cq'!C12 -> 7809781227 | H111: =SUM(I111:L111) -> 7789007880 | J111: ='NĐ31- Biểu 56-QT chi TX-cq'!D12 -> 6101414134 | L111: 1687593746 | O111: =J111/F111 -> 0.78125289 | R111: =C111-H111 -> 20773347
A112: 2 | B112: Mặt trận tổ quốc | C112: =SUM(E112:G112) -> 3444903109 | F112: ='NĐ31- Biểu 56-QT chi TX-cq'!C13 -> 3444903109 | H112: =SUM(I112:L112) -> 3444534024 | J112: ='NĐ31- Biểu 56-QT chi TX-cq'!D13 -> 3440366024 | L112: 4168000 | O112: =J112/F112 -> 0.99868296 | R112: =C112-H112 -> 369085
A113: 3 | B113: Văn phòng HĐND và UBND | C113: =SUM(E113:G113) -> 69948566896 | F113: ='NĐ31- Biểu 56-QT chi TX-cq'!C14 -> 69948566896 | H113: =SUM(I113:L113) -> 69409235108 | J113: ='NĐ31- Biểu 56-QT chi TX-cq'!D14 -> 63984719503 | L113: 5424515605 | O113: =J113/F113 -> 0.91473953 | R113: =C113-H113 -> 539331788
A114: II | B114: Khối đơn vị sự nghiệp | C114: =SUM(C115:C122) -> 65216369045 | E114: =SUM(E115:E122) -> 0 | F114: =SUM(F115:F122) -> 65216369045 | G114: =SUM(G115:G122) -> 0 | H114: =SUM(H115:H122) -> 65210309045 | I114: =SUM(I115:I122) -> 0 | J114: =SUM(J115:J122) -> 64342331482 | K114: =SUM(K115:K122) -> 0 | L114: =SUM(L115:L122) -> 867977563 | O114: =J114/F114 -> 0.98659788 | R114: =C114-H114 -> 6060000
A115: 1 | B115: Trung tâm dịch vụ tổng hợp | C115: =SUM(E115:G115) -> 846537090 | F115: ='NĐ31- Biểu 56-QT chi TX-cq'!C16 -> 846537090 | H115: =SUM(I115:L115) -> 846537090 | J115: ='NĐ31- Biểu 56-QT chi TX-cq'!D16 -> 846537090 | O115: =J115/F115 -> 1 | R115: =C115-H115 -> 0
A116: 2 | B116: Trường Mầm non Minh Hoàng | C116: =SUM(E116:G116) -> 7815297185 | F116: ='NĐ31- Biểu 56-QT chi TX-cq'!C17 -> 7815297185 | H116: =SUM(I116:L116) -> 7815297185 | J116: ='NĐ31- Biểu 56-QT chi TX-cq'!D17 -> 7727297187 | L116: 87999998 | O116: =J116/F116 -> 0.98874003 | R116: =C116-H116 -> 0
A117: 3 | B117: Trường Mầm non Đoàn Đào | C117: =SUM(E117:G117) -> 9244811432 | F117: ='NĐ31- Biểu 56-QT chi TX-cq'!C18 -> 9244811432 | H117: =SUM(I117:L117) -> 9244811432 | J117: ='NĐ31- Biểu 56-QT chi TX-cq'!D18 -> 9126361933 | L117: 118449499 | O117: =J117/F117 -> 0.98718746 | R117: =C117-H117 -> 0
A118: 4 | B118: Trường Mầm non Phan Sào Nam | C118: =SUM(E118:G118) -> 5587270962 | F118: ='NĐ31- Biểu 56-QT chi TX-cq'!C19 -> 5587270962 | H118: =SUM(I118:L118) -> 5586630962 | J118: ='NĐ31- Biểu 56-QT chi TX-cq'!D19 -> 5457485672 | L118: 129145290 | O118: =J118/F118 -> 0.97677126 | R118: =C118-H118 -> 640000
A119: 5 | B119: Trường Tiểu học Đoàn Đào | C119: =SUM(E119:G119) -> 11947391538 | F119: ='NĐ31- Biểu 56-QT chi TX-cq'!C20 -> 11947391538 | H119: =SUM(I119:L119) -> 11947391538 | J119: ='NĐ31- Biểu 56-QT chi TX-cq'!D20 -> 11775462402 | L119: =164939136+6990000 -> 171929136 | O119: =J119/F119 -> 0.98560948 | R119: =C119-H119 -> 0
A120: 6 | B120: Trường THCS Đoàn Đào | C120: =SUM(E120:G120) -> 7797993224 | F120: ='NĐ31- Biểu 56-QT chi TX-cq'!C21 -> 7797993224 | H120: =SUM(I120:L120) -> 7796793224 | J120: ='NĐ31- Biểu 56-QT chi TX-cq'!D21 -> 7647507991 | L120: =143665233+5620000 -> 149285233 | O120: =J120/F120 -> 0.98070206 | R120: =C120-H120 -> 1200000
A121: 7 | B121: Trường TH & THCS Minh Hoàng | C121: =SUM(E121:G121) -> 11340171174 | F121: ='NĐ31- Biểu 56-QT chi TX-cq'!C22 -> 11340171174 | H121: =SUM(I121:L121) -> 11335951174 | J121: ='NĐ31- Biểu 56-QT chi TX-cq'!D22 -> 11167311551 | L121: 168639623 | O121: =J121/F121 -> 0.98475688 | R121: =C121-H121 -> 4220000
A122: 8 | B122: Trường TH & THCS Phan Sào Nam | C122: =SUM(E122:G122) -> 10636896440 | F122: ='NĐ31- Biểu 56-QT chi TX-cq'!C23 -> 10636896440 | H122: =SUM(I122:L122) -> 10636896440 | J122: ='NĐ31- Biểu 56-QT chi TX-cq'!D23 -> 10594367656 | L122: =36428784+6100000 -> 42528784 | O122: =J122/F122 -> 0.99600177 | R122: =C122-H122 -> 0

Sheet NĐ31- Biểu 55
Q1: Biểu mẫu số 55
A4: QUYẾT TOÁN CHI ĐẦU TƯ PHÁT TRIỂN CỦA NGÂN SÁCH CẤP XÃ CHO TỪNG CƠ QUAN, TỔ CHỨC THEO LĨNH VỰC NĂM 2025
A5: ='NĐ31- Biểu 54- QT chi-cq'!A5:P5 -> (Kèm theo Quyết đinh số 892/QĐ-UBND ngày 07/4/2026 của UBND xã Đoàn Đào)
S6: Đơn vị: Đồng
A7: STT | B7: Tên đơn vị | C7: Dự toán đầu năm | D7: Dự toán điều chỉnh, bổ sung | E7: Quyết toán | F7: Chi giáo dục - đào tạo và dạy nghề | G7: Chi khoa học và công nghệ | H7: Chi quốc phòng | I7: Chi an ninh và trật tự an toàn xã hội | J7: Chi y tế, dân số và gia đình | K7: Chi văn hóa thông tin | L7: Chi phát thanh, truyền hình, thông tấn | M7: Chi thể dục thể thao | N7: Chi bảo vệ môi trường | O7: Chi các hoạt động kinh tế | P7: Trong đó | S7: Chi hoạt động của cơ quan quản lý nhà nước, đảng, đoàn thể | T7: Chi bảo đảm xã hội | U7: Chi đầu tư khác | V7: So sánh (%)
P8: Chi giao thông, vận tải | Q8: Chi nông nghiệp, lâm nghiệp, thủy lợi, thủy sản | R8: Các hoạt động kinh tế khác
A9: A | B9: B | C9: 1 | E9: 2 | F9: 3 | G9: 4 | H9: 5 | I9: 6 | J9: 7 | K9: 8 | L9: 9 | M9: 10 | N9: 11 | O9: 12 | P9: 13 | Q9: 14 | S9: 15 | T9: 16 | U9: 17 | V9: 18=2/1
B10: Xã Đoàn Đào | C10: ='NĐ31- Biểu 52- QT chi'!C14 -> 82285474769 | D10: ='NĐ31- Biểu 54- QT chi-cq'!E12 -> 174244173863 | E10: =F10+G10+H10+I10+J10+K10+L10+M10+N10+O10+S10+T10+U10 -> 145253363756 | F10: ='NĐ31- Biểu 52- QT chi'!D16 -> 22704744311 | G10: 0 | H10: =+'[2]TT342- Biểu 62-ok'!H16 -> 0 | I10: ='NĐ31- Biểu 52- QT chi'!D19 -> 1535270677 | J10: =+'[2]TT342- Biểu 62-ok'!H20 -> 0 | K10: ='NĐ31- Biểu 52- QT chi'!D21 -> 14363059682 | L10: =+'[2]TT342- Biểu 62-ok'!E22 -> 0 | O10: ='NĐ31- Biểu 52- QT chi'!D25 -> 105598555086 | P10: 85374183505 | S10: ='NĐ31- Biểu 52- QT chi'!D26 -> 1001734000 | T10: =+'[2]TT342- Biểu 62-ok'!E27 -> 0 | U10: ='NĐ31- Biểu 52- QT chi'!D28 -> 50000000 | V10: =E10/C10 -> 1.765237
O12: =+'[2]NĐ31- Biểu 54'!L198 -> #REF!
O13: TM. ỦY BAN NHÂN DÂN
O14: CHỦ TỊCH
O21: =+'[2]NĐ31- Biểu 54'!L208 -> Doãn Quốc Hoàn
C42: =+'[3]TT342-Biểu số 60- xong'!G27:J27 -> #VALUE!

Sheet NĐ31- Biểu 56-QT chi TX-cq
P1: Biểu số 56
A4: QUYẾT TOÁN CHI THƯỜNG XUYÊN CỦA NGÂN SÁCH XÃ CHO TỪNG CƠ QUAN, TỔ CHỨC THEO LĨNH VỰC NĂM 2025
A5: =+'NĐ31- Biểu 54- QT chi-cq'!A5 -> (Kèm theo Quyết đinh số 892/QĐ-UBND ngày 07/4/2026 của UBND xã Đoàn Đào)
Q6: Đơn vị: Đồng
A7: STT | B7: Tên đơn vị | C7: Dự toán | D7: Quyết toán | E7: Chi giáo dục - đào tạo và dạy nghề | F7: Chi khoa học và công nghệ | G7: Chi quốc phòng | H7: Chi an ninh và trật tự an toàn xã hội | I7: Chi y tế, dân số và gia đình | J7: Chi văn hóa thông tin | K7: Chi phát thanh, truyền hình, thông tấn | L7: Chi thể dục thể thao | M7: Chi bảo vệ môi trường | N7: Chi các hoạt động kinh tế | O7: Trong đó | Q7: Chi hoạt động của cơ quan quản lý nhà nước, đảng, đoàn thể | R7: Chi bảo đảm xã hội | S7: Các khoản chi khác | T7: So sánh (%)
O8: Chi giao thông | P8: Chi nông nghiệp, lâm nghiệp, thủy lợi, thủy sản
A9: A | B9: B | C9: 1 | D9: 2 | E9: 3 | F9: 4 | G9: 5 | H9: 6 | I9: 7 | J9: 8 | K9: 9 | L9: 10 | M9: 11 | N9: 12 | O9: 13 | P9: 14 | Q9: 15 | R9: 16 | S9: 17 | T9: 18= 2/1
B10: TỔNG CỘNG | C10: =C11+C15 -> 146419620277 | D10: =D11+D15 -> 137868831143 | E10: =E11+E15 -> 63521594392 | F10: =F11+F15 -> 0 | G10: =G11+G15 -> 671881547 | H10: =H11+H15 -> 1386319098 | I10: =I11+I15 -> 10045593430 | J10: =J11+J15 -> 1987372490 | ... S10: =S11+S15 -> 0
A11: I | B11: Khối Cơ quan QLNN, Đảng, đoàn thể | C11: =SUM(C12:C14) -> 81203251232 | D11: =SUM(D12:D14) -> 73526499661 | E11: =SUM(E12:E14) -> 25800000 | F11: =SUM(F12:F14) -> 0 | G11: =SUM(G12:G14) -> 671881547 | H11: =SUM(H12:H14) -> 1386319098 | I11: =SUM(I12:I14) -> 10045593430 | J11: =SUM(J12:J14) -> 1588440000 | ... S11: =SUM(S12:S14) -> 0
A12: 1 | B12: Văn phòng Đảng uỷ | C12: 7809781227 | D12: =6101414134 -> 6101414134 | N12: =SUM(O12:P12) -> 0 | Q12: =D12 -> 6101414134 | U12: =C12-D12 -> 1708367093
A13: 2 | B13: Mặt trận tổ quốc | C13: 3444903109 | D13: 3440366024 | N13: =SUM(O13:P13) -> 0 | Q13: =D13 -> 3440366024 | U13: =C13-D13 -> 4537085
A14: 3 | B14: Văn phòng HĐND và UBND | C14: 69948566896 | D14: 63984719503 | E14: 25800000 | G14: =633587547+38294000 -> 671881547 | H14: =1172844098+213475000 -> 1386319098 | I14: =4137000000+3851642680+5159700+1851159450+200631600 -> 10045593430 | J14: =1491110000+22260000+75070000 -> 1588440000 | K14: 122163000 | M14: =2045508447+562985560 -> 2608494007 | N14: =SUM(O14:P14) -> 4949961000 | O14: =2492106000+49788000+1416970000 -> 3958864000 | P14: =70000000+142603000+260620000+484749000+33125000 -> 991097000 | Q14: =7311775575+10000000+14958984668+420423500+1014736910+411440500+3774485812+1080114750+1863755888 -> 30845717603 | R14: =986226400+6216834700+12000000+773328718+751760000+2260200000+302000000+438000000 -> 11740349818
A15: II | B15: Khối đơn vị sự nghiệp | C15: =SUM(C16:C23) -> 65216369045 | D15: =SUM(D16:D23) -> 64342331482 | E15: =SUM(E16:E23) -> 63495794392 | F15: =SUM(F16:F23) -> 0 | G15: =SUM(G16:G23) -> 0 | H15: =SUM(H16:H23) -> 0 | I15: =SUM(I16:I23) -> 0 | J15: =SUM(J16:J23) -> 398932490 | ... S15: =SUM(S16:S23) -> 0
A16: 1 | B16: Trung tâm dịch vụ tổng hợp | C16: 846537090 | D16: 846537090 | J16: =18130000+226688570+118340000+35773920 -> 398932490 | K16: =65733000+115000000 -> 180733000 | L16: =240000000+26871600 -> 266871600
A17: 2 | B17: Trường Mầm non Minh Hoàng | C17: 7815297185 | D17: 7727297187 | E17: =D17 -> 7727297187
A18: 3 | B18: Trường Mầm non Đoàn Đào | C18: 9244811432 | D18: 9126361933 | E18: =D18 -> 9126361933
A19: 4 | B19: Trường Mầm non Phan Sào Nam | C19: 5587270962 | D19: 5457485672 | E19: =D19 -> 5457485672
A20: 5 | B20: Trường Tiểu học Đoàn Đào | C20: 11947391538 | D20: 11775462402 | E20: =D20 -> 11775462402
A21: 6 | B21: Trường THCS Đoàn Đào | C21: 7797993224 | D21: 7647507991 | E21: =D21 -> 7647507991
A22: 7 | B22: Trường TH & THCS Minh Hoàng | C22: 11340171174 | D22: 11167311551 | E22: =D22 -> 11167311551
A23: 8 | B23: Trường TH & THCS Phan Sào Nam | C23: 10636896440 | D23: 10594367656 | E23: =D23 -> 10594367656

Sheet NĐ31- Biểu 57-QT chi TX-nguồn
H1: Biểu mẫu số 57
H2: (Ban hành kèm theo NĐ số 31/2017/NĐ-CP ngày 23/3/2017 của Chính phủ)
A4: TỔNG HỢP QUYẾT TOÁN CHI THƯỜNG XUYÊN NGÂN SÁCH CẤP XÃ CỦA TỪNG CƠ QUAN, TỔ CHỨC THEO NGUỒN VỐN NĂM 2025
A5: =+'NĐ31- Biểu 54- QT chi-cq'!A5 -> (Kèm theo Quyết đinh số 892/QĐ-UBND ngày 07/4/2026 của UBND xã Đoàn Đào)
I6: Đơn vị tính: Đồng
A7: STT | B7: Tên đơn vị | C7: Dự toán được sử dụng trong năm | D7: Trong đó | G7: Thực hiện trong năm | H7: Dự toán còn lại | I7: Trong đó
D8: Dự toán năm trước chuyển sang | E8: Dự toán giao đầu năm | F8: Bổ sung trong năm (nếu có) | I8: Chuyển nguồn | J8: Nộp trả NS cấp trên | K8: Kết dư 2025
A9: A | B9: B | C9: 1=2+3-4 | D9: 2 | E9: 3 | F9: 4 | G9: 6 | H9: 7 | I9: 8 | J9: 10 | K9: 11
B10: TỔNG CỘNG | C10: =C11+C15 -> 146419620277 | D10: =D11+D15 -> 0 | E10: =E11+E15 -> 61502362347 | F10: =F11+F15 -> 84917257930 | G10: =G11+G15 -> 137868831143 | H10: =H11+H15 -> 8550789134 | I10: =I11+I15 -> 7984254914 | J10: =J11+J15 -> 450878304 | K10: =K11+K15 -> 115655916
A11: I | B11: Khối Cơ quan QLNN, Đảng, đoàn thể | C11: =SUM(C12:C14) -> 81203251232 | D11: =SUM(D12:D14) -> 0 | E11: =SUM(E12:E14) -> 60905379257 | F11: =SUM(F12:F14) -> 20297871975 | G11: =SUM(G12:G14) -> 73526499661 | H11: =SUM(H12:H14) -> 7676751571 | I11: =SUM(I12:I14) -> 7116277351 | J11: =SUM(J12:J14) -> 445458304 | K11: =SUM(K12:K14) -> 115015916
A12: 1 | B12: Văn phòng Đảng uỷ | C12: =E12+F12 -> 7809781227 | E12: 4882845815 | F12: =2976262412-49327000 -> 2926935412 | G12: =7789007880-1687593746 -> 6101414134 | H12: =C12-G12 -> 1708367093 | I12: 1687593746 | J12: =H12-I12 -> 20773347 | K12: =H12-I12-J12 -> 0
A13: 2 | B13: Mặt trận tổ quốc | C13: 3444903109 | E13: 2379909109 | F13: =C13-E13 -> 1064994000 | G13: 3440366024 | H13: =C13-G13 -> 4537085 | I13: 4168000 | J13: 358501 | K13: =H13-I13-J13 -> 10584
A14: 3 | B14: Văn phòng HĐND và UBND | C14: 69948566896 | E14: 53642624333 | F14: =C14-E14 -> 16305942563 | G14: 63984719503 | H14: =C14-G14 -> 5963847393 | I14: 5424515605 | J14: 424326456 | K14: =H14-I14-J14 -> 115005332
A15: II | B15: Khối đơn vị sự nghiệp | C15: =SUM(C16:C23) -> 65216369045 | D15: =SUM(D16:D23) -> 0 | E15: =SUM(E16:E23) -> 596983090 | F15: =SUM(F16:F23) -> 64619385955 | G15: =SUM(G16:G23) -> 64342331482 | H15: =SUM(H16:H23) -> 874037563 | I15: =SUM(I16:I23) -> 867977563 | J15: =SUM(J16:J23) -> 5420000 | K15: =H15-I15-J15 -> 640000
A16: 1 | B16: Trung tâm dịch vụ tổng hợp | C16: 846537090 | E16: 596983090 | F16: =C16-E16 -> 249554000 | G16: 846537090 | H16: =C16-G16 -> 0 | K16: =H16-I16-J16 -> 0
A17: 2 | B17: Trường Mầm non Minh Hoàng | C17: =SUM(D17:F17) -> 7815297185 | F17: 7815297185 | G17: 7727297187 | H17: =C17-G17 -> 87999998 | I17: 87999998 | K17: =H17-I17-J17 -> 0
A18: 3 | B18: Trường Mầm non Đoàn Đào | C18: =SUM(D18:F18) -> 9244811432 | F18: 9244811432 | G18: 9126361933 | H18: =C18-G18 -> 118449499 | I18: 118449499 | K18: =H18-I18-J18 -> 0
A19: 4 | B19: Trường Mầm non Phan Sào Nam | C19: =SUM(D19:F19) -> 5587270962 | F19: 5587270962 | G19: 5457485672 | H19: =C19-G19 -> 129785290 | I19: 129145290 | K19: =H19-I19-J19 -> 640000
A20: 5 | B20: Trường Tiểu học Đoàn Đào | C20: =SUM(D20:F20) -> 11947391538 | F20: 11947391538 | G20: 11775462402 | H20: =C20-G20 -> 171929136 | I20: =H20 -> 171929136 | K20: =H20-I20-J20 -> 0
A21: 6 | B21: Trường THCS Đoàn Đào | C21: =SUM(D21:F21) -> 7797993224 | F21: 7797993224 | G21: 7647507991 | H21: =C21-G21 -> 150485233 | I21: =143665233+5620000 -> 149285233 | J21: 1200000 | K21: =H21-I21-J21 -> 0
A22: 7 | B22: Trường TH & THCS Minh Hoàng | C22: =SUM(D22:F22) -> 11340171174 | F22: 11340171174 | G22: 11167311551 | H22: =C22-G22 -> 172859623 | I22: 168639623 | J22: 4220000 | K22: =H22-I22-J22 -> 0
A23: 8 | B23: Trường TH & THCS Phan Sào Nam | C23: =SUM(D23:F23) -> 10636896440 | F23: 10636896440 | G23: 10594367656 | H23: =C23-G23 -> 42528784 | I23: =36428784+6100000 -> 42528784 | K23: =H23-I23-J23 -> 0

Sheet NĐ31- Biểu 58
A1: ỦY BAN NHÂN DÂN | S1: Biểu mẫu số 58
A2: HUYỆN PHÙ CỪ
A4: QUYẾT TOÁN CHI NGÂN SÁCH ĐỊA PHƯƠNG TỪNG HUYỆN, XÃ NĂM 2024
A5: =+'NĐ31- Biểu 54- QT chi-cq'!A5 -> (Kèm theo Quyết đinh số 892/QĐ-UBND ngày 07/4/2026 của UBND xã Đoàn Đào)
A6: =+'NĐ31- Biểu 54- QT chi-cq'!#REF! -> #REF!
U7: Đơn vị: Đồng
A8: STT | B8: Tên đơn vị | C8: Dự toán | H8: Quyết toán | U8: So sánh (%)
C9: Tổng số | D9: Chi đầu tư phát triển | E9: Chi thường xuyên | F9: Dự phòng | G9: Bổ sung mục tiêu từ ngân sách cấp tỉnh | H9: Tổng số | I9: Chi đầu tư phát triển | L9: Chi thường xuyên | O9: Chi CTMTQG | R9: Các nhiệm vụ chi khác | S9: Chi chuyển giao ngân sách | T9: Chi chuyển nguồn sang năm sau | U9: Tổng số | V9: Chi đầu tư phát triển | W9: Chi thường xuyên
I10: Tổng số | J10: Trong đó | L10: Tổng số | M10: Trong đó | O10: Tổng số | P10: Trong đó
J11: Chi giáo dục đào tạo dạy nghề | K11: Chi khoa học và công nghệ | M11: Chi giáo dục đào tạo dạy nghề | N11: Chi khoa học và công nghệ | P11: Chi đầu tư phát triển | Q11: Chi thường xuyên
A12: A | B12: B | C12: 1 | D12: 2 | E12: 3 | F12: 5 | H12: 6 | I12: 7 | J12: 8 | K12: 9 | L12: 10 | M12: 11 | N12: 12 | O12: 13 | P12: 14 | Q12: 15 | S12: 16 | T12: 17 | U12: 18= 6/1 | V12: 19= 7/2 | W12: 20=10/3
B13: TỔNG SỐ | C13: =+C14+C15 -> 384041474769 | D13: =+D14+D15 -> 260063474769 | E13: =+E14+E15 -> 116916000000 | F13: =+F14+F15 -> 7062000000 | G13: =+G14+G15 -> 0 | H13: =+H14+H15 -> 944402754345 | I13: =+I14+I15 -> 600032005116 | J13: =+J14+J15 -> 49878410507 | ... T13: =+T14+T15 -> 95125515502 | U13: =+H13/C13 -> 2.4591166 | V13: =+I13/D13 -> 2.3072521 | W13: =+L13/E13 -> 2.1293224
A14: I | B14: Ngân sách cấp huyện | C14: =SUM(D14:G14) -> 112717474769 | D14: =+'NĐ31- Biểu 52- QT chi'!C14 -> 82285474769 | E14: =+'NĐ31- Biểu 52- QT chi'!C31 -> 29137000000 | F14: =+'NĐ31- Biểu 52- QT chi'!C46 -> 1295000000 | G14: =+'NĐ31- Biểu 52- QT chi'!C12 -> 0 | H14: =I14+L14+O14+T14+S14+R14 -> 295880417617 | I14: =+'NĐ31- Biểu 52- QT chi'!D14 -> 145253363756 | J14: =+'NĐ31- Biểu 52- QT chi'!D16 -> 22704744311 | L14: =+'NĐ31- Biểu 52- QT chi'!D31 -> 137868831143 | M14: =+'NĐ31- Biểu 52- QT chi'!D32 -> 63521594392 | N14: =+'NĐ31- Biểu 52- QT chi'!D33 -> 0 | O14: =P14+Q14 -> 0 | S14: =+'NĐ31- Biểu 52- QT chi'!D12 -> 293381000 | T14: =+'NĐ31- Biểu 52- QT chi'!D49 -> 12464841718 | U14: =H14/C14 -> 2.6249738 | V14: =I14/D14 -> 1.765237 | W14: =L14/E14 -> 4.7317442
A15: II | B15: Xã, thị trấn | C15: =SUM(C16:C28) -> 271324000000 | D15: =SUM(D16:D28) -> 177778000000 | E15: =SUM(E16:E28) -> 87779000000 | F15: =SUM(F16:F28) -> 5767000000 | H15: =I15+L15+O15+T15+S15+R15 -> 648522336728 | I15: =SUM(I16:I28) -> 454778641360 | J15: =SUM(J16:J28) -> 27173666196 | K15: =SUM(K16:K28) -> 0 | L15: =SUM(L16:L28) -> 111083021584 | M15: =SUM(M16:M28) -> 192390000 | N15: =SUM(N16:N28) -> 0 | O15: =SUM(O16:O28) -> 0 | P15: =SUM(P16:P28) -> 0 | ... T15: =SUM(T16:T28) -> 82660673784 | U15: =H15/C15 -> 2.3902137 | V15: =I15/D15 -> 2.5581267 | W15: =L15/E15 -> 1.2654852
A16: 1 | B16: Xã Minh Hoàng | C16: =+D16+E16+F16+G16 -> 6024000000 | D16: 0 | E16: 5680000000 | F16: 344000000 | H16: =I16+L16+O16+T16+S16+R16 -> 12808994729 | I16: 4989688397 | L16: 7427553137 | M16: 0 | T16: 391753195 | U16: =+H16/C16 -> 2.1263271 | W16: =+L16/E16 -> 1.3076678
A17: 2 | B17: Xã Đoàn Đào | C17: =+D17+E17+F17+G17 -> 10212000000 | D17: 2535000000 | E17: 7227000000 | F17: 450000000 | H17: =I17+L17+O17+T17+S17+R17 -> 42717239625 | I17: 27761490300 | L17: 9332298606 | T17: 5623450719 | U17: =+H17/C17 -> 4.1830434 | V17: =+I17/D17 -> 10.951278 | W17: =+L17/E17 -> 1.2913102
A18: 3 | B18: Xã Phan Sào Nam | C18: =+D18+E18+F18+G18 -> 43789000000 | D18: 36700000000 | E18: 6689000000 | F18: 400000000 | H18: =I18+L18+O18+T18+S18+R18 -> 65166683563 | I18: 55055445131 | J18: 470872000 | L18: 8523332655 | M18: 49000000 | T18: 1587905777 | U18: =+H18/C18 -> 1.4881976 | V18: =+I18/D18 -> 1.5001484 | W18: =+L18/E18 -> 1.2742312
A19: 4 | B19: Xã Minh Tân | C19: =+D19+E19+F19+G19 -> 8233000000 | D19: 800000000 | E19: 6913000000 | F19: 520000000 | H19: =I19+L19+O19+T19+S19+R19 -> 39191574294 | I19: 20272157913 | L19: 8387644583 | T19: 10531771798 | U19: =+H19/C19 -> 4.760303 | V19: =+I19/D19 -> 25.340197 | W19: =+L19/E19 -> 1.2133147
A20: 5 | B20: Thị trấn Trần Cao | C20: =+D20+E20+F20+G20 -> 14007000000 | D20: 7491000000 | E20: 6146000000 | F20: 370000000 | H20: =I20+L20+O20+T20+S20+R20 -> 46629706291 | I20: 30714308000 | J20: 296271000 | L20: 7867634922 | M20: 99500000 | T20: 8047763369 | U20: =+H20/C20 -> 3.3290288 | V20: =+I20/D20 -> 4.1001613 | W20: =+L20/E20 -> 1.2801228
A21: 6 | B21: Xã Tống Phan | C21: =+D21+E21+F21+G21 -> 66043000000 | D21: 59040000000 | E21: 6503000000 | F21: 500000000 | H21: =I21+L21+O21+T21+S21+R21 -> 152258422049 | I21: 116547617853 | J21: 23193625800 | L21: 9007797300 | T21: 26703006896 | U21: =+H21/C21 -> 2.3054438 | V21: =+I21/D21 -> 1.974045 | W21: =+L21/E21 -> 1.3851757
A22: 7 | B22: Xã Quang Hưng | C22: =+D22+E22+F22+G22 -> 8363000000 | D22: 800000000 | E22: 6943000000 | F22: 620000000 | H22: =I22+L22+O22+T22+S22+R22 -> 18356992343 | I22: 6928223379 | J22: 1115000 | L22: 8724588625 | T22: 2704180339 | U22: =+H22/C22 -> 2.1950248 | V22: =+I22/D22 -> 8.6602792 | W22: =+L22/E22 -> 1.2566021
A23: 8 | B23: Xã Đình Cao | C23: =+D23+E23+F23+G23 -> 20328000000 | D23: 11512000000 | E23: 8316000000 | F23: 500000000 | H23: =I23+L23+O23+T23+S23+R23 -> 166151030708 | I23: 150658255702 | J23: 2224010000 | L23: 10958676414 | M23: 43890000 | T23: 4534098592 | U23: =+H23/C23 -> 8.173506 | V23: =+I23/D23 -> 13.087062 | W23: =+L23/E23 -> 1.3177822
A24: 9 | B24: Xã Nhật Quang | C24: =+D24+E24+F24+G24 -> 16603000000 | D24: 11040000000 | E24: 5243000000 | F24: 320000000 | H24: =I24+L24+O24+T24+S24+R24 -> 9568691342 | I24: 2461516137 | L24: 6695499713 | T24: 411675492 | U24: =+H24/C24 -> 0.57632303 | V24: =+I24/D24 -> 0.22296342 | W24: =+L24/E24 -> 1.277036
A25: 10 | B25: Xã Tiên Tiến | C25: =+D25+E25+F25+G25 -> 22906000000 | D25: 11600000000 | E25: 10666000000 | F25: 640000000 | H25: =I25+L25+O25+T25+S25+R25 -> 22693387199 | I25: 7733867852 | L25: 11964195764 | T25: 2995323583 | U25: =+H25/C25 -> 0.99071803 | V25: =+I25/D25 -> 0.66671275 | W25: =+L25/E25 -> 1.1217135
A26: 11 | B26: Xã Tam Đa | C26: =+D26+E26+F26+G26 -> 5734000000 | D26: 0 | E26: 5401000000 | F26: 333000000 | H26: =I26+L26+O26+T26+S26+R26 -> 14182577317 | I26: 3853753000 | L26: 6616661814 | T26: 3712162503 | U26: =+H26/C26 -> 2.4734177 | W26: =+L26/E26 -> 1.2250809
A27: 12 | B27: Xã Nguyên Hòa | C27: =+D27+E27+F27+G27 -> 20607000000 | D27: 15000000000 | E27: 5287000000 | F27: 320000000 | H27: =I27+L27+O27+T27+S27+R27 -> 14920991281 | I27: 4867976000 | L27: 6781827937 | T27: 3271187344 | U27: =+H27/C27 -> 0.72407392 | V27: =+I27/D27 -> 0.32453173 | W27: =+L27/E27 -> 1.2827365
A28: 13 | B28: Xã Tống Trân | C28: =+D28+E28+F28+G28 -> 28475000000 | D28: 21260000000 | E28: 6765000000 | F28: 450000000 | H28: =I28+L28+O28+T28+S28+R28 -> 43876045987 | I28: 22934341696 | J28: 987772396 | L28: 8795310114 | T28: 12146394177 | U28: =+H28/C28 -> 1.540862 | V28: =+I28/D28 -> 1.0787555 | W28: =+L28/E28 -> 1.3001198
N30: =+'NĐ31- Biểu 57-QT chi TX-nguồn'!#REF! -> #REF!
N31: TM. ỦY BAN NHÂN DÂN
N32: CHỦ TỊCH
N39: =+'NĐ31- Biểu 57-QT chi TX-nguồn'!#REF! -> #REF!

Sheet NĐ31- Biểu 59
A1: ỦY BAN NHÂN DÂN | U1: Biểu mẫu số 59
A2: HUYỆN PHÙ CỪ
A4: QUYẾT TOÁN CHI BỔ SUNG TỪ NGÂN SÁCH CẤP HUYỆN CHO NGÂN SÁCH TỪNG XÃ NĂM 2024
A5: =+'NĐ31- Biểu 54- QT chi-cq'!A5 -> (Kèm theo Quyết đinh số 892/QĐ-UBND ngày 07/4/2026 của UBND xã Đoàn Đào)
A6: =+'NĐ31- Biểu 54- QT chi-cq'!#REF! -> #REF!
X7: Đơn vị: Đồng
A8: Số TT | B8: Tên đơn vị | C8: Dự toán | K8: Quyết toán | S8: So sách (%)
C9: Tổng số | D9: Bổ sung cân đối ngân sách | E9: Bổ sung có mục tiêu | K9: Tổng số | L9: Bổ sung cân đối ngân sách | M9: Bổ sung có mục tiêu | S9: Tổng số | T9: Bổ sung cân đối ngân sách | U9: Bổ sung có mục tiêu
E10: Tổng số | F10: Gồm | H10: Vốn đầu tư để thực hiện các CTMT, nhiệm vụ | I10: Vốn sự nghiệp thực hiện các chế độ, chính sách | J10: Vốn thực hiện các CTMT quốc gia | M10: Tổng số | N10: Gồm | P10: Vốn đầu tư để thực hiện các CTMT, nhiệm vụ | Q10: Vốn sự nghiệp thực hiện các chế độ, chính sách | R10: Vốn thực hiện các CTMT quốc gia | U10: Tổng số | V10: Gồm | X10: Vốn đầu tư để thực hiện các CTMT, nhiệm vụ | Y10: Vốn sự nghiệp thực hiện các chế độ, chính sách | Z10: Vốn thực hiện các CTMT quốc gia
F11: Vốn ngoài nước | G11: Vốn trong nước | N11: Vốn ngoài nước | O11: Vốn trong nước | V11: Vốn ngoài nước | W11: Vốn trong nước
A12: A | B12: B | C12: 1 | D12: 2 | E12: 3=4+5 | F12: 4 | G12: 5 | H12: 6 | I12: 7 | J12: 8 | K12: 9 | L12: 10 | M12: 11=12+13 | N12: 12 | O12: 13 | P12: 14 | Q12: 15 | R12: 16 | S12: 17=9/1 | T12: 18=10/2 | U12: 19=11/3 | V12: 20=12/4 | W12: 21=13/5 | X12: 22=14/6 | Y12: 23=15/7 | Z12: 24=16/8
B13: TỔNG SỐ | C13: =SUM(C14:C26) -> 83736000000 | D13: =SUM(D14:D26) -> 83736000000 | E13: =SUM(E14:E26) -> 0 | F13: =SUM(F14:F26) -> 0 | G13: =SUM(G14:G26) -> 0 | H13: =SUM(H14:H26) -> 0 | I13: =SUM(I14:I26) -> 0 | J13: =SUM(J14:J26) -> 0 | ... R13: =SUM(R14:R26) -> 0 | S13: =+K13/C13 -> 1.97455 | T13: =L13/D13 -> 1
A14: 1 | B14: Xã Minh Hoàng | C14: =D14+E14 -> 5806000000 | D14: 5806000000 | E14: =F14+G14 -> 0 | K14: =L14+M14 -> 10141202397 | L14: 5806000000 | M14: =SUM(N14:R14) -> 4335202397 | O14: 4335202397 | S14: =K14/C14 -> 1.7466763 | T14: =L14/D14 -> 1
A15: 2 | B15: Xã Đoàn Đào | C15: =D15+E15 -> 6692000000 | D15: 6692000000 | E15: =F15+G15 -> 0 | K15: =L15+M15 -> 17776777283 | L15: 6692000000 | M15: =SUM(N15:R15) -> 11084777283 | O15: 11084777283 | S15: =K15/C15 -> 2.6564222 | T15: =L15/D15 -> 1
A16: 3 | B16: Xã Phan Sào Nam | C16: =D16+E16 -> 6441500000 | D16: 6441500000 | E16: =F16+G16 -> 0 | K16: =L16+M16 -> 10388655000 | L16: 6441500000 | M16: =SUM(N16:R16) -> 3947155000 | O16: 3947155000 | S16: =K16/C16 -> 1.6127695 | T16: =L16/D16 -> 1
A17: 4 | B17: Xã Minh Tân | C17: =D17+E17 -> 6609000000 | D17: 6609000000 | E17: =F17+G17 -> 0 | K17: =L17+M17 -> 13724936000 | L17: 6609000000 | M17: =SUM(N17:R17) -> 7115936000 | O17: 7115936000 | S17: =K17/C17 -> 2.0767039 | T17: =L17/D17 -> 1
A18: 5 | B18: Thị trấn Trần Cao | C18: =D18+E18 -> 4059000000 | D18: 4059000000 | E18: =F18+G18 -> 0 | K18: =L18+M18 -> 9525123000 | L18: 4059000000 | M18: =SUM(N18:R18) -> 5466123000 | O18: 5466123000 | S18: =K18/C18 -> 2.3466674 | T18: =L18/D18 -> 1
A19: 6 | B19: Xã Tống Phan | C19: =D19+E19 -> 6190000000 | D19: 6190000000 | E19: =F19+G19 -> 0 | K19: =L19+M19 -> 12256127829 | L19: 6190000000 | M19: =SUM(N19:R19) -> 6066127829 | O19: 6066127829 | S19: =K19/C19 -> 1.9799883 | T19: =L19/D19 -> 1
A20: 7 | B20: Xã Quang Hưng | C20: =D20+E20 -> 7127500000 | D20: 7127500000 | E20: =F20+G20 -> 0 | K20: =L20+M20 -> 12892206000 | L20: 7127500000 | M20: =SUM(N20:R20) -> 5764706000 | O20: 5764706000 | S20: =K20/C20 -> 1.8087978 | T20: =L20/D20 -> 1
A21: 8 | B21: Xã Đình Cao | C21: =D21+E21 -> 7838000000 | D21: 7838000000 | E21: =F21+G21 -> 0 | K21: =L21+M21 -> 16511152545 | L21: 7838000000 | M21: =SUM(N21:R21) -> 8673152545 | O21: 8673152545 | S21: =K21/C21 -> 2.1065517 | T21: =L21/D21 -> 1
A22: 9 | B22: Xã Nhật Quang | C22: =D22+E22 -> 5289500000 | D22: 5289500000 | E22: =F22+G22 -> 0 | K22: =L22+M22 -> 9946955000 | L22: 5289500000 | M22: =SUM(N22:R22) -> 4657455000 | O22: 4657455000 | S22: =K22/C22 -> 1.8805095 | T22: =L22/D22 -> 1
A23: 10 | B23: Xã Tiên Tiến | C23: =D23+E23 -> 10671000000 | D23: 10671000000 | E23: =F23+G23 -> 0 | K23: =L23+M23 -> 17739822800 | L23: 10671000000 | M23: =SUM(N23:R23) -> 7068822800 | O23: 7068822800 | S23: =K23/C23 -> 1.662433 | T23: =L23/D23 -> 1
A24: 11 | B24: Xã Tam Đa | C24: =D24+E24 -> 5375000000 | D24: 5375000000 | E24: =F24+G24 -> 0 | K24: =L24+M24 -> 11780006100 | L24: 5375000000 | M24: =SUM(N24:R24) -> 6405006100 | O24: 6405006100 | S24: =K24/C24 -> 2.191629 | T24: =L24/D24 -> 1
A25: 12 | B25: Xã Nguyên Hòa | C25: =D25+E25 -> 4989000000 | D25: 4989000000 | E25: =F25+G25 -> 0 | K25: =L25+M25 -> 10273754800 | L25: 4989000000 | M25: =SUM(N25:R25) -> 5284754800 | O25: 5284754800 | S25: =K25/C25 -> 2.0592814 | T25: =L25/D25 -> 1
A26: 13 | B26: Xã Tống Trân | C26: =D26+E26 -> 6648500000 | D26: 6648500000 | E26: =F26+G26 -> 0 | K26: =L26+M26 -> 12384198800 | L26: 6648500000 | M26: =SUM(N26:R26) -> 5735698800 | O26: 5735698800 | S26: =K26/C26 -> 1.8627057 | T26: =L26/D26 -> 1
Q28: =+'NĐ31- Biểu 58'!N30 -> #REF!
Q29: TM. ỦY BAN NHÂN DÂN
Q30: CHỦ TỊCH
Q38: =+'NĐ31- Biểu 58'!N39 -> #REF!

Sheet NĐ31- Biểu số 58
S1: Biểu mẫu số 58
A4: QUYẾT TOÁN CHI NGÂN SÁCH ĐỊA PHƯƠNG TỪNG XÃ NĂM 2025
A5: ='NĐ31- Biểu 57-QT chi TX-nguồn'!A5:K5 -> (Kèm theo Quyết đinh số 892/QĐ-UBND ngày 07/4/2026 của UBND xã Đoàn Đào)
U6: Đơn vị: Đồng
A7: STT | B7: Tên đơn vị | C7: Dự toán | H7: Quyết toán | U7: So sánh (%)
C8: Tổng số | D8: Chi đầu tư phát triển | E8: Chi thường xuyên | F8: Dự phòng | G8: Bổ sung mục tiêu từ ngân sách cấp tỉnh | H8: Tổng số | I8: Chi đầu tư phát triển | L8: Chi thường xuyên | O8: Chi CTMTQG | R8: Các nhiệm vụ chi khác | S8: Chi chuyển giao ngân sách | T8: Chi chuyển nguồn sang năm sau | U8: Tổng số | V8: Chi đầu tư phát triển | W8: Chi thường xuyên
I9: Tổng số | J9: Trong đó | L9: Tổng số | M9: Trong đó | O9: Tổng số | P9: Trong đó
J10: Chi giáo dục đào tạo dạy nghề | K10: Chi khoa học và công nghệ | M10: Chi giáo dục đào tạo dạy nghề | N10: Chi khoa học và công nghệ | P10: Chi đầu tư phát triển | Q10: Chi thường xuyên
A11: A | B11: B | C11: 1 | D11: 2 | E11: 3 | F11: 5 | H11: 6 | I11: 7 | J11: 8 | K11: 9 | L11: 10 | M11: 11 | N11: 12 | O11: 13 | P11: 14 | Q11: 15 | S11: 16 | T11: 17 | U11: 18= 6/1 | V11: 19= 7/2 | W11: 20=10/3
A12: 1 | B12: Xã Đoàn Đào | C12: =+D12+E12+F12+G12 -> 124617474769 | D12: ='NĐ31- Biểu 55'!C10 -> 82285474769 | E12: 29137000000 | F12: 1295000000 | G12: 11900000000 | H12: =I12+L12+O12+T12+S12+R12 -> 295880417617 | I12: ='NĐ31- Biểu 54- QT chi-cq'!I12 -> 145253363756 | J12: ='NĐ31- Biểu 54- QT chi-cq'!I16 -> 22704744311 | L12: ='NĐ31- Biểu 52- QT chi'!D31 -> 137868831143 | M12: ='NĐ31- Biểu 52- QT chi'!D32 -> 63521594392 | N12: 0 | S12: ='NĐ31- Biểu 52- QT chi'!D12 -> 293381000 | T12: ='NĐ31- Biểu 52- QT chi'!D49 -> 12464841718 | U12: =+H12/C12 -> 2.3743092 | V12: =+I12/D12 -> 1.765237 | W12: =+L12/E12 -> 4.7317442

Sheet NĐ 31- Biểu 59
U1: Biểu mẫu số 59
A4: QUYẾT TOÁN CHI BỔ SUNG TỪ NGÂN SÁCH CẤP TỈNH CHO NGÂN SÁCH TỪNG XÃ NĂM 2025
A5: ='NĐ31- Biểu số 58'!A5:W5 -> (Kèm theo Quyết đinh số 892/QĐ-UBND ngày 07/4/2026 của UBND xã Đoàn Đào)
X6: Đơn vị: Đồng
A7: STT | B7: Tên đơn vị | C7: Dự toán | K7: Quyết toán | S7: So sách (%)
C8: Tổng số | D8: Bổ sung cân đối ngân sách | E8: Bổ sung có mục tiêu | K8: Tổng số | L8: Bổ sung cân đối ngân sách | M8: Bổ sung có mục tiêu | S8: Tổng số | T8: Bổ sung cân đối ngân sách | U8: Bổ sung có mục tiêu
E9: Tổng số | F9: Gồm | H9: Vốn đầu tư để thực hiện các CTMT, nhiệm vụ | I9: Vốn sự nghiệp thực hiện các chế độ, chính sách | J9: Vốn thực hiện các CTMT quốc gia | M9: Tổng số | N9: Gồm | P9: Vốn đầu tư để thực hiện các CTMT, nhiệm vụ | Q9: Vốn sự nghiệp thực hiện các chế độ, chính sách | R9: Vốn thực hiện các CTMT quốc gia | U9: Tổng số | V9: Gồm | X9: Vốn đầu tư để thực hiện các CTMT, nhiệm vụ | Y9: Vốn sự nghiệp thực hiện các chế độ, chính sách | Z9: Vốn thực hiện các CTMT quốc gia
F10: Vốn ngoài nước | G10: Vốn trong nước | N10: Vốn ngoài nước | O10: Vốn trong nước | V10: Vốn ngoài nước | W10: Vốn trong nước
A11: A | B11: B | C11: 1 | D11: 2 | E11: 3=4+5 | F11: 4 | G11: 5 | H11: 6 | I11: 7 | J11: 8 | K11: 9 | L11: 10 | M11: 11=12+13 | N11: 12 | O11: 13 | P11: 14 | Q11: 15 | R11: 16 | S11: 17=9/1 | T11: 18=10/2 | U11: 19=11/3 | V11: 20=12/4 | W11: 21=13/5 | X11: 22=14/6 | Y11: 23=15/7 | Z11: 24=16/8
A12: 1 | B12: Xã Đoàn Đào | C12: =D12+E12 -> 40576000000 | D12: 28676000000 | E12: =F12+G12 -> 11900000000 | G12: 11900000000 | K12: =L12+M12 -> 175837855259 | L12: =D12 -> 28676000000 | M12: =SUM(N12:R12) -> 147161855259 | O12: 147161855259 | S12: =K12/C12 -> 4.3335434 | T12: =L12/D12 -> 1 | W12: =+O12/G12 -> 12.366542

Sheet NĐ 31- Biểu 60
F1: Biểu mẫu số 60
A4: QUYẾT TOÁN THU NGÂN SÁCH XÃ NĂM 2025
A5: ='NĐ 31- Biểu 59'!A5:Z5 -> (Kèm theo Quyết đinh số 892/QĐ-UBND ngày 07/4/2026 của UBND xã Đoàn Đào)
G6: Đơn vị: Đồng
A7: STT | B7: Tên đơn vị | C7: Tổng thu NSĐP | D7: Trong đó
D8: Thu NSĐP hưởng theo phân cấp | E8: Số bổ sung từ ngân sách cấp trên/từ cấp dưới nộp lên | F8: Số bổ sung thực hiện cải cách tiền lương | G8: Thu chuyển nguồn từ năm trước chuyển sang | H8: Thu từ kết dư năm trước
A9: A | B9: B | C9: 1 | D9: 2 | E9: 3 | F9: 4 | G9: 5 | H9: 6
A10: 1 | B10: Xã Đoàn Đào | C10: =SUM(D10:H10) -> 330219727980 | D10: ='NĐ31- Biểu 48- cân đối 2025'!D11 -> 142061545734 | E10: ='NĐ31- Biểu 48- cân đối 2025'!D14 -> 175837855259 | G10: ='NĐ31- Biểu 48- cân đối 2025'!D19 -> 7603109691 | H10: ='NĐ31- Biểu 48- cân đối 2025'!D18 -> 4717217296

Sheet TT342-Biểu 60-ok
A1: ỦY BAN NHÂN DÂN | H1: Mẫu biểu số 60
A2: HUYỆN PHÙ CỪ
A3: UBND HUYỆN PHÙ CỪ | H3: Mẫu biểu số 60
A4: PHÒNG TÀI CHÍNH- KH
A5: CÂN ĐỐI QUYẾT TOÁN NGÂN SÁCH ĐỊA PHƯƠNG NĂM 2024
A6: (Kèm theo Báo cáo số 25/BC-TCKH ngày 26/02/2025 của phòng Tài chính- Kế hoạch huyện)
A7: (Kèm theo Báo cáo số 228/BC-UBND ngày 13/5/2025 của UBND huyện Phù Cừ)
I8: Đơn vị tính: Đồng
A9: Phần thu | B9: Tổng số | C9: Thu NS cấp tỉnh | D9: Thu NS cấp huyện | E9: Thu NS xã | F9: Phần chi | G9: Tổng số | H9: Chi NS cấp tỉnh | I9: Chi NS cấp huyện | J9: Chi NS xã
A10: 1 | B10: 2 | C10: 3 | D10: 4 | E10: 5 | F10: 6 | G10: 7 | H10: 8 | I10: 9 | J10: 10
A11: Tổng số thu | B11: =B12 -> 1795322817038 | D11: =D12 -> 956966729215 | E11: =E12 -> 838356087823 | F11: Tổng số chi | G11: =G12 -> 1600199835518 | I11: =I12 -> 951677498790 | J11: =J12 -> 648522336728 | K11: =G11-B11 -> -195122981520
A12: A Tổng số thu cân đối ngân sách | B12: =SUM(B13:B19)+B22 -> 1795322817038 | D12: =SUM(D13:D19)+D22 -> 956966729215 | E12: =SUM(E13:E19)+E22 -> 838356087823 | F12: A.Tổng số chi cân đối ngân sách | G12: =G13+G14+G15+G16+G17+G20+G21 -> 1600199835518 | H12: =H13+H14+H15+H16+H17+H20+H21 -> 0 | I12: =I13+I14+I15+I16+I17+I20+I21 -> 951677498790 | J12: =J13+J14+J15+J16+J17+J20+J21 -> 648522336728 | K12: 16462443883 | L12: 22657250771
A13: 1 Các khoản thu NSĐP hưởng 100% | B13: =SUM(C13:E13) -> 22974023674 | D13: 1836904109 | E13: 21137119565 | F13: 1 Chi đầu tư phát triển | G13: =SUM(H13:J13) -> 729417056530 | I13: 274638415170 | J13: 454778641360 | K13: 283446146581 | L13: 544684474597
A14: 2 Các khoản thu phân chia theo tỷ lệ % | B14: =SUM(C14:E14) -> 844276292158 | D14: 298071686355 | E14: 546204605803 | F14: 2 Chi trả nợ lãi, phí tiền vay | G14: =SUM(H14:J14) -> 0
A15: 3 Thu từ quỹ dự trữ tài chính | B15: =SUM(C15:E15) -> 0 | D15: 0 | E15: 0 | F15: 3 Chi thường xuyên | G15: =SUM(H15:J15) -> 534108381931 | I15: 423025360347 | J15: 111083021584
A16: 4 Thu kết dư năm trước | B16: =SUM(C16:E16) -> 71515203081 | D16: 2329331328 | E16: 69185871753 | F16: 4 Chi bổ sung quỹ dự trữ tài chính | G16: =SUM(H16:J16) -> 0
A17: 5 Thu chuyển nguồn từ năm trước sang | B17: =SUM(C17:E17) -> 122765345424 | D17: 86277772276 | E17: 36487573148 | F17: 5 Chi chuyển giao NS | G17: =G18+G19 -> 165340917554 | H17: =H18+H19 -> 0 | I17: =I18+I19 -> 165340917554 | J17: =J18+J19 -> 0
A18: 6 Thu viện trợ | B18: =SUM(C18:E18) -> 0 | F18: Tr. Đó: - Chi bổ sung cho ngân sách cấp dưới | G18: =SUM(H18:J18) -> 165340917554 | I18: 165340917554
A19: 7 Thu bổ sung từ ngân sách cấp trên | B19: =SUM(C19:E19) -> 733791952701 | D19: =D20+D21 -> 568451035147 | E19: =E20+E21 -> 165340917554 | F19: - Chi nộp ngân sách cấp trên | G19: =SUM(H19:J19) -> 0
A20: Tr.đó: - Bổ sung cân đối ngân sách | B20: =SUM(C20:E20) -> 562082000000 | D20: 478346000000 | E20: 83736000000 | F20: 6 Chi chuyển nguồn sang năm sau | G20: =SUM(H20:J20) -> 171333479503 | I20: 88672805719 | J20: 82660673784
A21: - Bổ sung có mục tiêu | B21: =SUM(C21:E21) -> 171709952701 | D21: 90105035147 | E21: 81604917554 | F21: 7 Các nhiệm vụ chi khác | G21: =SUM(H21:J21) -> 0
A22: 8 Thu từ ngân sách cấp dưới nộp lên | B22: =SUM(C22:E22) -> 0 | E22: 0 | F22: B.Chi trả nợ gốc (chi tiết từng nguồn trả nợ gốc)
A23: - Kết dư ngân sách năm quyết toán = (thu - chi) | B23: =SUM(D23:E23) -> 195122981520 | C23: =C12-H12 -> 0 | D23: =D12-I12 -> 5289230425 | E23: =E12-J12 -> 189833751095
A24: Bội chi = thu - chi
A25: B. Vay của ngân sách cấp tỉnh1 (chi tiết theo mục đích vay và nguồn vay)
A27: Ngày tháng 4 năm 2025 | D27: Ngày 10 tháng 4 năm 2025 | G27: =+D27 -> Ngày 10 tháng 4 năm 2025
A28: KHO BẠC NHÀ NƯỚC KHU VỰC IV | D28: PHÒNG TÀI CHÍNH-KẾ HOẠCH | G28: TM. ỦY BAN NHÂN DÂN
D29: TRƯỞNG PHÒNG | G29: CHỦ TỊCH
D36: Chu Đức Anh | G36: Doãn Quốc Hoàn

Sheet TT342- Biểu 61-ok
A1: ỦY BAN NHÂN DÂN | I1: Mẫu biểu số 61
A2: HUYỆN PHÙ CỪ
A3: UBND HUYỆN PHÙ CỪ | I3: Mẫu biểu số 61
A4: PHÒNG TÀI CHÍNH- KẾ HOẠCH
A5: QUYẾT TOÁN THU NSNN, VAY NSĐP NĂM 2024
A6: =+'TT342-Biểu 60-ok'!A6 -> (Kèm theo Báo cáo số 25/BC-TCKH ngày 26/02/2025 của phòng Tài chính- Kế hoạch huyện)
A7: =+'TT342-Biểu 60-ok'!A7 -> (Kèm theo Báo cáo số 228/BC-UBND ngày 13/5/2025 của UBND huyện Phù Cừ)
I8: Đơn vị tính: Đồng
A9: STT | B9: Nội dung | C9: Dự toán năm | E9: Quyết toán năm | F9: Phân chia theo từng cấp ngân sách | J9: So sánh QT/DT (%)
C10: Cấp trên giao | D10: HĐND giao | F10: Thu NS TW | G10: Thu NS cấp tỉnh | H10: Thu NS cấp huyện | I10: Thu NS xã | J10: Cấp trên giao | K10: HĐND quyết định
A11: A | B11: B | C11: 1 | D11: 2 | E11: 3=4+5+6+7 | F11: 4 | G11: 5 | H11: 6 | I11: 7 | J11: 8=3/1 | K11: 9=3/2
B12: TỔNG SỐ (A+B+C+D+E) | C12: =C13+C115+C122+C129 -> 1208184000000 | D12: =D13+D115+D122+D129 -> 1906772000000 | E12: =E13+E115+E122+E129+E130 -> 1921438107378 | F12: =F13+F115+F122+F129+F130 -> 5359751759 | G12: =G13+G115+G122+G129+G130 -> 120755538581 | H12: =H13+H115+H122+H129+H130 -> 956966729215 | I12: =I13+I115+I122+I129+I130 -> 838356087823 | J12: =E12/C12 -> 1.5903522 | K12: =E12/D12 -> 1.0076916
A13: A | B13: THU NGÂN SÁCH NHÀ NƯỚC | C13: =C14+C22+C28+C40+C48+C51+C52+C53+C54+C57+C61+C64+C65+C68+C71+C74+C75+C77+C80+C82+C83 -> 684250000000 | D13: =D14+D22+D28+D40+D48+D51+D52+D53+D54+D57+D61+D64+D65+D68+D71+D74+D75+D77+D80+D82+D83 -> 1382838000000 | E13: =F13+G13+H13+I13 -> 993365606172 | F13: =F14+F22+F28+F40+F48+F51+F52+F53+F54+F57+F61+F64+F65+F68+F71+F74+F75+F77+F80+F82+F83 -> 5359751759 | G13: =G14+G22+G28+G40+G48+G51+G52+G53+G54+G57+G61+G64+G65+G68+G71+G74+G75+G77+G80+G82+G83 -> 120755538581 | H13: =H14+H22+H28+H40+H48+H51+H52+H53+H54+H57+H61+H64+H65+H68+H71+H74+H75+H77+H80+H82+H83 -> 299908590464 | I13: =I14+I22+I28+I40+I48+I51+I52+I53+I54+I57+I61+I64+I65+I68+I71+I74+I75+I77+I80+I82+I83 -> 567341725368 | J13: =E13/C13 -> 1.4517583 | K13: =E13/D13 -> 0.71835284
A14: 1 | B14: Thu từ khu vực doanh nghiệp nhà nước do Trung ương quản lý | E14: =F14+G14+H14+I14 -> 452055953 | F14: =F15+F17+F18+F20 -> 9041105 | G14: =G15+G17+G18+G20 -> 439921787 | H14: =H15+H17+H18+H20 -> 2209315 | I14: =I15+I17+I18+I20 -> 883746
B15: - Thuế giá trị gia tăng | E15: =F15+G15+H15+I15 -> 452055953 | F15: 9041105 | G15: 439921787 | H15: 2209315 | I15: 883746 | L15: =+H15+H23+H29+H41 -> 23520153091 | M15: =+I15+I23+I29+I41 -> 3039815404
B16: Trong đó: Thu từ hoạt động thăm dò, khai thác, dầu khí | E16: =F16+G16+H16+I16 -> 0
B17: - Thuế thu nhập doanh nghiệp | E17: =F17+G17+H17+I17 -> 0 | I17: 0 | L17: =+H17+H24+H31+H42 -> 2462009528 | M17: =+I17+I24+I31+I42 -> 0
B18: - Thuế tiêu thụ đặc biệt | E18: =F18+G18+H18+I18 -> 0
B19: Trong đó: Thu từ cơ sở kinh doanh nhập khẩu tiếp tục bán ra trong nước | E19: =F19+G19+H19+I19 -> 0
B20: - Thuế tài nguyên | E20: =F20+G20+H20+I20 -> 0
B21: Trong đó: Thuế tài nguyên dầu, khí | E21: =F21+G21+H21+I21 -> 0
A22: 2 | B22: Thu từ khu vực doanh nghiệp nhà nước do địa phương quản lý | E22: =F22+G22+H22+I22 -> 324183518 | F22: =F23+F24+F25+F27 -> 6483665 | G22: =G23+G24+G25+G27 -> 311818464 | H22: =H23+H24+H25+H27 -> 4200990 | I22: =I23+I24+I25+I27 -> 1680399
B23: - Thuế giá trị gia tăng | E23: =F23+G23+H23+I23 -> 320329751 | F23: 6406592 | G23: 308041770 | H23: 4200990 | I23: 1680399
B24: - Thuế thu nhập doanh nghiệp | E24: =F24+G24+H24+I24 -> 3853767 | F24: 77073 | G24: 3776694
B25: - Thuế tiêu thụ đặc biệt | E25: =F25+G25+H25+I25 -> 0
B26: Trong đó: Thu từ cơ sở kinh doanh nhập khẩu tiếp tục bán ra trong nước | E26: =F26+G26+H26+I26 -> 0
B27: - Thuế tài nguyên | E27: =F27+G27+H27+I27 -> 0
A28: 3 | B28: Thu từ khu vực doanh nghiệp có vốn đầu tư nước ngoài | C28: 0 | D28: 0 | E28: =F28+G28+H28+I28 -> 4868915178 | F28: =F29+F31+F33+F34+F36+F38 -> 97365020 | G28: =G29+G31+G33+G34+G36+G38 -> 4771550158 | H28: =H29+H31+H33+H34+H36+H38 -> 0 | I28: =I29+I31+I33+I34+I36+I38 -> 0
B29: - Thuế giá trị gia tăng | E29: =F29+G29+H29+I29 -> 4566580890 | F29: 91331611 | G29: 4475249279
B30: Trong đó: Thu từ hoạt động thăm dò và khai thác dầu, khí | E30: =F30+G30+H30+I30 -> 0
B31: - Thuế thu nhập doanh nghiệp | E31: =F31+G31+H31+I31 -> 301670608 | F31: 6033409 | G31: 295637199 | H31: 0 | I31: 0
B32: Trong đó: Thu từ hoạt động thăm dò và khai thác dầu, khí | E32: =F32+G32+H32+I32 -> 0
B33: - Thu từ khí thiên nhiên | E33: =F33+G33+H33+I33 -> 0
B34: - Thuế tiêu thụ đặc biệt | E34: =F34+G34+H34+I34 -> 0
B35: Trong đó: - Thu từ cơ sở kinh doanh nhập khẩu tiếp tục bán ra trong nước | E35: =F35+G35+H35+I35 -> 0
B36: - Thuế tài nguyên | E36: =F36+G36+H36+I36 -> 663680 | G36: 663680 | H36: 0 | I36: 0
B37: Trong đó: Thuế tài nguyên dầu, khí | E37: =F37+G37+H37+I37 -> 0
B38: - Tiền thuê mặt đất, mặt nước | D38: 0 | E38: =F38+G38+H38+I38 -> 0 | F38: 0
B39: Trong đó: Thu từ hoạt động thăm dò và khai thác dầu, khí | E39: =F39+G39+H39+I39 -> 0
A40: 4 | B40: Thu từ khu vực kinh tế ngoài quốc doanh | C40: =20000000000+8050000000 -> 28050000000 | D40: 28050000000 | E40: =F40+G40+H40+I40 -> 58838606191 | F40: =F41+F42+F43+F44+F46+F47 -> 1176659702 | G40: =G41+G42+G43+G44+G46+G47 -> 28547404862 | H40: =H41+H42+H43+H44+H46+H47 -> 25999357534 | I40: =I41+I42+I43+I44+I46+I47 -> 3115184093 | J40: =E40/C40 -> 2.097633 | K40: =E40/D40 -> 2.097633
B41: - Thuế giá trị gia tăng | E41: =F41+G41+H41+I41 -> 49735360235 | F41: 994706670 | G41: 22189659520 | H41: 23513742786 | I41: 3037251259
B42: - Thuế thu nhập doanh nghiệp | E42: =F42+G42+H42+I42 -> 9000117437 | F42: 180362567 | G42: 6357745342 | H42: 2462009528
B43: - Thuế GTGT từ hộ cá thể | E43: =F43+G43+H43+I43 -> 0
B44: - Thuế tiêu thụ đặc biệt | E44: =F44+G44+H44+I44 -> 79523299 | F44: 1590465 | I44: 77932834
B45: Trong đó: Thu từ cơ sở kinh doanh nhập khẩu tiếp tục bán ra trong nước | E45: =F45+G45+H45+I45 -> 0
B46: - Thuế tài nguyên | E46: =F46+G46+H46+I46 -> 23605220 | H46: 23605220
B47: - Thu khác (Phí môn bài) | E47: =F47+G47+H47+I47 -> 0
A48: 5 | B48: Lệ phí trước bạ | C48: 20000000000 | D48: 20000000000 | E48: =F48+G48+H48+I48 -> 27413337437 | F48: =F49+F50 -> 0 | G48: 9523396806 | H48: 13706768737 | I48: 4183171894 | J48: =E48/C48 -> 1.3706669 | K48: =E48/D48 -> 1.3706669
B49: - Lệ phí trước bạ nhà đất | E49: =F49+G49+H49+I49 -> 0
B50: - Lệ phí trước bạ ô tô, xe máy | E50: =F50+G50+H50+I50 -> 0
A51: 6 | B51: Thuế sử dụng đất nông nghiệp | E51: =F51+G51+H51+I51 -> 0 | F51: 0 | G51: 0 | H51: 0
A52: 7 | B52: Thuế sử dụng đất phi nông nghiệp | C52: 1500000000 | D52: 1500000000 | E52: =F52+G52+H52+I52 -> 2086965336 | I52: 2086965336 | J52: =E52/C52 -> 1.3913102 | K52: =E52/D52 -> 1.3913102
A53: 8 | B53: Thuế thu nhập cá nhân | C53: 5000000000 | D53: 5000000000 | E53: =F53+G53+H53+I53 -> 19896326816 | F53: 397503078 | G53: 2663853941 | H53: 9841396564 | I53: 6993573233 | J53: =E53/C53 -> 3.9792654 | K53: =E53/D53 -> 3.9792654
A54: 9 | B54: Thuế bảo vệ môi trường | E54: =F54+G54+H54+I54 -> 0
B55: Trong đó: - Thu từ hàng hóa nhập khẩu | E55: =F55+G55+H55+I55 -> 0
B56: - Thu từ hàng hóa sản xuất trong nước | E56: =F56+G56+H56+I56 -> 0
A57: 10 | B57: Phí, lệ phí | C57: 1500000000 | D57: 1500000000 | E57: =F57+G57+H57+I57 -> 1794756018 | F57: =F58+F59 -> 686080018 | G57: =G58+G59 -> 15000000 | H57: =H58+H59 -> 599120000 | I57: =I58+I59 -> 494556000 | J57: =E57/C57 -> 1.196504 | K57: =E57/D57 -> 1.196504
B58: Bao gồm: - Phí, lệ phí do cơ quan nhà nước trung ương thu | C58: 700000000 | D58: 700000000 | E58: =F58+G58+H58+I58 -> 688080018 | F58: 686080018 | G58: 2000000 | J58: =E58/C58 -> 0.98297145 | K58: =E58/D58 -> 0.98297145
B59: - Phí, lệ phí do cơ quan nhà nước địa phương thu | C59: 800000000 | D59: 800000000 | E59: =F59+G59+H59+I59 -> 1106676000 | G59: 13000000 | H59: 599120000 | I59: 494556000 | J59: =E59/C59 -> 1.383345 | K59: =E59/D59 -> 1.383345
B60: Trong đó: phí bảo vệ môi trường đối với khai thác khoáng sản | D60: 0 | E60: =F60+G60+H60+I60 -> 0 | F60: 0 | G60: 0 | I60: 0
A61: 11 | B61: Thu tiền sử dụng đất | C61: 620000000000 | D61: 1318588000000 | E61: =F61+G61+H61+I61 -> 839840715100 | F61: =F63 -> 0 | G61: =+G62+G63 -> 64651253933 | H61: =+H62+H63 -> 246372706977 | I61: =+I62+I63 -> 528816754190 | J61: =E61/C61 -> 1.3545818 | K61: =E61/D61 -> 0.63692428
B62: Trong đó: - Thu do cơ quan, tổ chức, đơn vị thuộc Trung ương quản lý | E62: =F62+G62+H62+I62 -> 0
B63: - Thu do cơ quan, tổ chức, đơn vị thuộc địa phương quản lý | C63: 620000000000 | D63: 1318588000000 | E63: =F63+G63+H63+I63 -> 839840715100 | F63: 0 | G63: 64651253933 | H63: 246372706977 | I63: 528816754190 | J63: =E63/C63 -> 1.3545818 | K63: =E63/D63 -> 0.63692428
A64: 12 | B64: Thu tiền thuê đất, mặt nước | C64: 2000000000 | D64: 2000000000 | E64: =F64+G64+H64+I64 -> 5421628662 | F64: 0 | G64: 2168651458 | H64: 2168651458 | I64: 1084325746 | J64: =E64/C64 -> 2.7108143 | K64: =E64/D64 -> 2.7108143
A65: 13 | B65: Thu tiền sử dụng khu vực biển | E65: =F65+G65+H65+I65 -> 0
B66: Trong đó: - Thuộc thẩm quyền giao của trung ương | E66: =F66+G66+H66+I66 -> 0
B67: - Thuộc thẩm quyền giao của địa phương | E67: =F67+G67+H67+I67 -> 0
A68: 14 | B68: Thu từ bán tài sản nhà nước | E68: =F68+G68+H68+I68 -> 0
B69: Trong đó: - Do trung ương | E69: =F69+G69+H69+I69 -> 0
B70: - Do địa phương | E70: =F70+G70+H70+I70 -> 0
A71: 15 | B71: Thu từ tài sản được xác lập quyền sở hữu của nhà nước | E71: =F71+G71+H71+I71 -> 0
B72: Trong đó: - Do trung ương xử lý | E72: =F72+G72+H72+I72 -> 0
B73: - Do địa phương xử lý | E73: =F73+G73+H73+I73 -> 0
A74: 16 | B74: Thu tiền cho thuê và bán nhà ở thuộc sở hữu nhà nước | E74: =F74+G74+H74+I74 -> 0
A75: 17 | B75: Thu khác ngân sách | C75: 4500000000 | D75: 4500000000 | E75: =F75+G75+H75+I75 -> 13408736442 | F75: 2986619171 | G75: 7662687172 | H75: 1214178889 | I75: 1545251210 | J75: =E75/C75 -> 2.9797192 | K75: =E75/D75 -> 2.9797192 | L75: =+F75+G75 -> 10649306343
B76: Trong đó: - Thu khác ngân sách trung ương | E76: =F76+G76+H76+I76 -> 0
A77: 18 | B77: Thu tiền cấp quyền khai thác khoáng sản | E77: =F77+G77+H77+I77 -> 0
B78: Trong đó: - Giấy phép do Trung ương cấp | E78: =F78+G78+H78+I78 -> 0
B79: - Giấy phép do Ủy ban nhân dân cấp tỉnh cấp | E79: =F79+G79+H79+I79 -> 0
A80: 19 | B80: Thu từ quỹ đất công ích và thu hoa lợi công sản khác | C80: 1700000000 | D80: 1700000000 | E80: =F80+G80+H80+I80 -> 19019379521 | F80: 0 | G80: 0 | H80: 0 | I80: 19019379521 | J80: =E80/C80 -> 11.18787 | K80: =E80/D80 -> 11.18787
B81: Tiền đề bù thiệt hại khi nhà nước thu hồi đất công | E81: =F81+G81+H81+I81 -> 16325819000 | I81: 16325819000
A82: 20 | B82: Thu cổ tức và lợi nhuận sau thuế | E82: =F82+G82+H82+I82 -> 0
A83: 21 | B83: Thu từ hoạt động xổ số kiến thiết (kể cả xổ số điện toán) | E83: =F83+G83+H83+I83 -> 0
A84: II | B84: Thu về dầu thô | E84: =F84+G84+H84+I84 -> 0
A85: 1 | B85: Thu về dầu thô theo hiệp định, hợp đồng | E85: =F85+G85+H85+I85 -> 0
A86: 1.1 | B86: Thuế tài nguyên | E86: =F86+G86+H86+I86 -> 0
A87: 1.2 | B87: Thuế thu nhập doanh nghiệp | E87: =F87+G87+H87+I87 -> 0
A88: 1.3 | B88: Lợi nhuận sau thuế được chia của Chính phủ Việt Nam | E88: =F88+G88+H88+I88 -> 0
A89: 1.4 | B89: Dầu lãi được chia của Chính phủ Việt Nam | E89: =F89+G89+H89+I89 -> 0
A90: 1.5 | B90: Thuế đặc biệt | E90: =F90+G90+H90+I90 -> 0
A91: 1.6 | B91: Thu khác | E91: =F91+G91+H91+I91 -> 0
A92: 2 | B92: Thu về Condensate theo hiệp định, hợp đồng. | E92: =F92+G92+H92+I92 -> 0
A93: 3 | B93: Phụ thu về dầu, khí | E93: =F93+G93+H93+I93 -> 0
A94: 4 | B94: Thu về khí thiên nhiên (không bao gồm doanh nghiệp có vốn đầu tư nước ngoài) | E94: =F94+G94+H94+I94 -> 0
A95: III | B95: Thu Hải quan | E95: =F95+G95+H95+I95 -> 0
A96: 1 | B96: Thuế xuất khẩu | E96: =F96+G96+H96+I96 -> 0
A97: 2 | B97: Thuế nhập khẩu | E97: =F97+G97+H97+I97 -> 0
A98: 3 | B98: Thuế tiêu thụ đặc biệt hàng nhập khẩu | E98: =F98+G98+H98+I98 -> 0
A99: 4 | B99: Thuế giá trị gia tăng hàng nhập khẩu | E99: =F99+G99+H99+I99 -> 0
A100: 5 | B100: Thuế bổ sung đối với hàng hóa nhập khẩu vào Việt Nam | E100: =F100+G100+H100+I100 -> 0
...

Sheet TT342- Biểu 62-ok
A1: Ủy BAN NHÂN DÂN | H1: Mẫu biểu số 62
A2: HUYỆN PHÙ CỪ
A3: UBND HUYỆN PHÙ CỪ | H3: Mẫu biểu số 62
A4: PHÒNG TÀI CHÍNH- KẾ HOẠCH
A5: QUYẾT TOÁN CHI NGÂN SÁCH ĐỊA PHƯƠNG NĂM 2024
A6: =+'TT342-Biểu 60-ok'!A6:J6 -> (Kèm theo Báo cáo số 25/BC-TCKH ngày 26/02/2025 của phòng Tài chính- Kế hoạch huyện)
A7: =+'TT342-Biểu 60-ok'!A7:J7 -> (Kèm theo Báo cáo số 228/BC-UBND ngày 13/5/2025 của UBND huyện Phù Cừ)
H8: Đơn vị: Đồng
A9: Số TT | B9: Nội dung chi | C9: Dự toán năm | E9: Quyết toán năm | I9: So sánh QT/DT(%) | K9: Dự toán giao đầu năm
C10: Cấp trên giao | D10: HĐND quyết định | E10: Tổng số Chi NSĐP | F10: Chi NS cấp tỉnh | G10: Chi NS cấp huyện | H10: Chi NS xã | I10: Cấp trên giao | J10: HĐND quyết định | K10: Dự toán cấp trên giao | M10: Dự toán HĐND huyện giao | O10: Dự toán tỉnh giao | P10: Dự toán huyện giao
A11: A | B11: B | C11: 1 | D11: 2 | E11: (3)=(4)+(5)+(6) | F11: 4 | G11: 5 | H11: 6 | I11: (7)=(3):(1) | J11: (8)= (3):(2) | K11: Huyện | L11: Xã | M11: Huyện | N11: Xã
B12: TỔNG SỐ (A+B+C) | C12: =C13+C50+C55 -> 1117286000000 | D12: =+D13+D50+D55 -> 997329307195 | E12: =E13+E50+E55 -> 1600199835518 | G12: =G13+G50+G55 -> 951677498790 | H12: =H13+H50+H55 -> 648522336728 | I12: =E12/C12 -> 1.4322204 | J12: =E12/D12 -> 1.6044849 | K12: =K55+K50+K13 -> 844152000000 | L12: =L55+L50+L13 -> 227546000000 | M12: =M55+M50+M13 -> 726005307195 | N12: =N55+N50+N13 -> 271324000000
A13: A | B13: CHI CÂN ĐỐI NGÂN SÁCH | C13: =C14+C31+C32+C46+C47+C48+C49 -> 1071698000000 | D13: =D14+D31+D32+D46+D47+D48+D49 -> 951741307195 | E13: =E14+E31+E32+E46+E47+E48+E49 -> 1434858917964 | G13: =G14+G31+G32+G46+G47+G48+G49 -> 786336581236 | H13: =H14+H31+H32+H46+H47+H48+H49 -> 648522336728 | I13: =E13/C13 -> 1.338865 | J13: =E13/D13 -> 1.5076144 | K13: =K14+K31+K32+K47+K48+K49+K46 -> 844152000000 | L13: =L14+L31+L32+L47+L48+L49+L46 -> 227546000000 | M13: =M14+M31+M32+M47+M48+M49+M46 -> 680417307195 | N13: =N14+N31+N32+N47+N48+N49+N46 -> 271324000000
A14: I | B14: Chi đầu tư phát triển | C14: =C15+C31+C30 -> 576450000000 | D14: =+D15+D30 -> 456493307195 | E14: =E15+E31+E30 -> 729417056530 | G14: =+G15+G30+G29 -> 274638415170 | H14: =+H15+H30+H29 -> 454778641360 | I14: =E14/C14 -> 1.2653605 | J14: =E14/D14 -> 1.5978702 | K14: =K15+K29+K30 -> 442450000000 | L14: =L15+L29+L30 -> 134000000000 | M14: =M15+M29+M30 -> 278715307195 | N14: =N15+N29+N30 -> 177778000000
A15: 1 | B15: Chi đầu tư phát triển cho chương trình, dự án theo lĩnh vực | C15: =K15+L15 -> 575950000000 | D15: =+SUM(D16:D28) -> 454693307195 | E15: =SUM(E16:E28) -> 727217056530 | G15: =SUM(G16:G28) -> 272838415170 | H15: =SUM(H16:H28) -> 454378641360 | I15: =E15/C15 -> 1.2626392 | J15: =E15/D15 -> 1.5993573 | K15: =SUM(K16:K28) -> 441950000000 | L15: =SUM(L16:L28) -> 134000000000 | M15: =SUM(M16:M28) -> 276915307195 | N15: =SUM(N16:N28) -> 177778000000
A16: 1.1 | B16: Chi quốc phòng | C16: =K16+L16 -> 6500000000 | D16: =+M16+N16 -> 6597674368 | E16: =+F16+G16+H16 -> 6585677802 | G16: 6585677802 | I16: =E16/C16 -> 1.0131812 | J16: =E16/D16 -> 0.9981817 | K16: 6500000000 | M16: 6597674368
A17: 1.2 | B17: Chi an ninh và trật tự an toàn xã hội | C17: =K17+L17 -> 10000000000 | D17: =+M17+N17 -> 10000000000 | E17: =+F17+G17+H17 -> 28028134163 | H17: 28028134163 | I17: =E17/C17 -> 2.8028134 | J17: =E17/D17 -> 2.8028134 | L17: 10000000000 | M17: =+K17 -> 0 | N17: 10000000000
A18: 1.3 | B18: Chi Giáo dục - đào tạo và dạy nghề | C18: =K18+L18 -> 90000000000 | D18: =+M18+N18 -> 69900000000 | E18: =+F18+G18+H18 -> 76598153040 | G18: 49424486844 | H18: 27173666196 | I18: =E18/C18 -> 0.85109059 | J18: =E18/D18 -> 1.0958248 | K18: 70000000000 | L18: 20000000000 | M18: 49900000000 | N18: 20000000000
A19: 1.4 | B19: Chi Khoa học và công nghệ | C19: =K19+L19 -> 0 | D19: =+M19+N19 -> 0 | E19: =+F19+G19+H19 -> 0 | M19: =+K19 -> 0
A20: 1.5 | B20: Chi Y tế, dân số và gia đình | C20: =K20+L20 -> 16000000000 | D20: =+M20+N20 -> 10000000000 | E20: =+F20+G20+H20 -> 13434918000 | G20: 10000000000 | H20: 3434918000 | I20: =E20/C20 -> 0.83968237 | J20: =E20/D20 -> 1.3434918 | K20: 16000000000 | M20: 10000000000
A21: 1.6 | B21: Chi Văn hóa thông tin | C21: =K21+L21 -> 11000000000 | D21: =+M21+N21 -> 5000000000 | E21: =+F21+G21+H21 -> 15581842854 | H21: 15581842854 | I21: =E21/C21 -> 1.4165312 | J21: =E21/D21 -> 3.1163686 | K21: 6000000000 | L21: 5000000000 | N21: 5000000000
A22: 1.7 | B22: Chi Phát thanh, truyền hình, thông tấn | C22: =K22+L22 -> 0 | D22: =+M22+N22 -> 0 | E22: =+F22+G22+H22 -> 0
A23: 1.8 | B23: Chi Thể dục thể thao | C23: =K23+L23 -> 0 | D23: =+M23+N23 -> 0 | E23: =+F23+G23+H23 -> 1879497000 | H23: 1879497000 | M23: =+K23 -> 0
A24: 1.9 | B24: Chi Bảo vệ môi trường | C24: =K24+L24 -> 2000000000 | D24: =+M24+N24 -> 19087000 | E24: =+F24+G24+H24 -> 6299657050 | G24: 19087000 | H24: 6280570050 | I24: =E24/C24 -> 3.1498285 | J24: =E24/D24 -> 330.04962 | K24: 2000000000 | M24: 19087000
A25: 1.10 | B25: Chi các hoạt động kinh tế | C25: =K25+L25 -> 430250000000 | D25: =+M25+N25 -> 345918875983 | E25: =+F25+G25+H25 -> 575167622621 | G25: 206809163524 | H25: 368358459097 | I25: =E25/C25 -> 1.3368219 | J25: =E25/D25 -> 1.662724 | K25: 336250000000 | L25: 94000000000 | M25: 208140875983 | N25: 137778000000
A26: 1.11 | B26: Chi hoạt động của các cơ quan quản lý nhà nước, đảng, đoàn thể | C26: =K26+L26 -> 5200000000 | D26: =+M26+N26 -> 5257669844 | E26: =+F26+G26+H26 -> 3585138000 | H26: 3585138000 | I26: =E26/C26 -> 0.68944962 | J26: =E26/D26 -> 0.68188724 | K26: 200000000 | L26: 5000000000 | M26: 257669844 | N26: 5000000000
A27: 1.12 | B27: Chi Bảo đảm xã hội | C27: =K27+L27 -> 0 | D27: =+M27+N27 -> 0 | E27: =+F27+G27+H27 -> 56416000 | H27: 56416000 | M27: =+K27 -> 0
A28: 1.13 | B28: Chi ngành, lĩnh vực khác | C28: =K28+L28 -> 5000000000 | D28: =+M28+N28 -> 2000000000 | E28: =+F28+G28+H28 -> 0 | K28: 5000000000 | M28: 2000000000
A29: 2 | B29: Chi đầu tư và hỗ trợ vốn cho các doanh nghiệp hoạt động công | C29: =K29+L29 -> 0 | D29: =M29+N29 -> 0 | E29: =+F29+G29+H29 -> 0 | M29: =+K29 -> 0
A30: 3 | B30: Chi đầu tư phát triển khác | C30: =K30+L30 -> 500000000 | D30: =M30+N30 -> 1800000000 | E30: =+F30+G30+H30 -> 2200000000 | G30: 1800000000 | H30: 400000000 | I30: =+E30/C30 -> 4.4 | J30: =E30/D30 -> 1.2222222 | K30: 500000000 | M30: 1800000000
A31: II | B31: Chi trả nợ lãi vay theo quy định | C31: =K31+L31 -> 0 | D31: =M31+N31 -> 0 | E31: =+F31+G31+H31 -> 0
A32: III | B32: Chi thường xuyên | C32: =K32+L32 -> 468089000000 | D32: =M32+N32 -> 468089000000 | E32: =+F32+G32+H32 -> 534108381931 | F32: =SUM(F33:F45) -> 0 | G32: =SUM(G33:G45) -> 423025360347 | H32: =SUM(H33:H45) -> 111083021584 | I32: =E32/C32 -> 1.1410402 | J32: =E32/D32 -> 1.1410402 | K32: =SUM(K33:K45) -> 380310000000 | L32: =SUM(L33:L45) -> 87779000000 | M32: =SUM(M33:M45) -> 380310000000 | N32: =SUM(N33:N45) -> 87779000000
A33: 2.1 | B33: Chi quốc phòng | C33: =K33+L33 -> 5091107000 | D33: =M33+N33 -> 5091107000 | E33: =+F33+G33+H33 -> 4783370336 | G33: 2123154900 | H33: 2660215436 | I33: =E33/C33 -> 0.93955408 | J33: =E33/D33 -> 0.93955408 | K33: 2221000000 | L33: 2870107000 | M33: =+K33 -> 2221000000 | N33: =+L33 -> 2870107000
A34: 2.2 | B34: Chi an ninh và trật tự an toàn xã hội | C34: =K34+L34 -> 3224562950 | D34: =M34+N34 -> 3224562950 | E34: =+F34+G34+H34 -> 5286188754 | G34: 1527213217 | H34: 3758975537 | I34: =E34/C34 -> 1.6393505 | J34: =E34/D34 -> 1.6393505 | K34: 1024000000 | L34: 2200562950 | M34: =+K34 -> 1024000000 | N34: =+L34 -> 2200562950
A35: 2.3 | B35: Chi Giáo dục - đào tạo và dạy nghề | C35: =K35+L35 -> 218032000000 | D35: =M35+N35 -> 218032000000 | E35: =+F35+G35+H35 -> 230999981448 | G35: 230807591448 | H35: 192390000 | I35: =E35/C35 -> 1.0594774 | J35: =E35/D35 -> 1.0594774 | K35: 217847000000 | L35: 185000000 | M35: =+K35 -> 217847000000 | N35: =+L35 -> 185000000
A36: 2.4 | B36: Chi Khoa học và công nghệ | C36: =K36+L36 -> 120000000 | D36: =M36+N36 -> 120000000 | E36: =+F36+G36+H36 -> 111225000 | G36: 111225000 | I36: =E36/C36 -> 0.926875 | J36: =E36/D36 -> 0.926875 | K36: 120000000 | M36: =+K36 -> 120000000 | N36: =+L36 -> 0
A37: 2.5 | B37: Chi Y tế, dân số và gia đình | C37: =K37+L37 -> 44101244800 | D37: =M37+N37 -> 44101244800 | E37: =+F37+G37+H37 -> 50195689609 | G37: 49206754220 | H37: 988935389 | I37: =E37/C37 -> 1.1381921 | J37: =E37/D37 -> 1.1381921 | K37: 43567000000 | L37: 534244800 | M37: =+K37 -> 43567000000 | N37: =+L37 -> 534244800
A38: 2.6 | B38: Chi Văn hóa thông tin | C38: =K38+L38 -> 4462000000 | D38: =M38+N38 -> 4462000000 | E38: =+F38+G38+H38 -> 4071129640 | H38: 4071129640 | I38: =E38/C38 -> 0.91240019 | J38: =E38/D38 -> 0.91240019 | L38: 4462000000 | M38: =+K38 -> 0 | N38: =+L38 -> 4462000000
A39: 2.7 | B39: Chi Phát thanh, truyền hình, thông tấn | C39: =K39+L39 -> 679604000 | D39: =M39+N39 -> 679604000 | E39: =+F39+G39+H39 -> 1007973272 | H39: 1007973272 | I39: =E39/C39 -> 1.4831774 | J39: =E39/D39 -> 1.4831774 | L39: 679604000 | M39: =+K39 -> 0 | N39: =+L39 -> 679604000
A40: 2.8 | B40: Chi Thể dục thể thao | C40: =K40+L40 -> 4097000000 | D40: =M40+N40 -> 4097000000 | E40: =+F40+G40+H40 -> 5811851735 | G40: 5495940015 | H40: 315911720 | I40: =E40/C40 -> 1.4185628 | J40: =E40/D40 -> 1.4185628 | K40: 3907000000 | L40: 190000000 | M40: =+K40 -> 3907000000 | N40: =+L40 -> 190000000
A41: 2.9 | B41: Chi Bảo vệ môi trường | C41: =K41+L41 -> 10583000000 | D41: =M41+N41 -> 10583000000 | E41: =+F41+G41+H41 -> 9770228627 | G41: 7596133427 | H41: 2174095200 | I41: =E41/C41 -> 0.92320029 | J41: =E41/D41 -> 0.92320029 | K41: 8870000000 | L41: 1713000000 | M41: =+K41 -> 8870000000 | N41: =+L41 -> 1713000000
A42: 2.10 | B42: Chi các hoạt động kinh tế | C42: =K42+L42 -> 27056000000 | D42: =M42+N42 -> 27056000000 | E42: =+F42+G42+H42 -> 18587051629 | G42: 13492879238 | H42: 5094172391 | I42: =E42/C42 -> 0.68698446 | J42: =E42/D42 -> 0.68698446 | K42: 23392000000 | L42: 3664000000 | M42: =+K42 -> 23392000000 | N42: =+L42 -> 3664000000
A43: 2.11 | B43: Chi hoạt động của các cơ quan quản lý nhà nước, đảng, đoàn thể | C43: =K43+L43 -> 108396594250 | D43: =M43+N43 -> 108396594250 | E43: =+F43+G43+H43 -> 135663408457 | G43: 47412132274 | H43: 88251276183 | I43: =E43/C43 -> 1.2515468 | J43: =E43/D43 -> 1.2515468 | K43: =39277000000+353000000 -> 39630000000 | L43: 68766594250 | M43: =+K43 -> 39630000000 | N43: =+L43 -> 68766594250
A44: 2.12 | B44: Chi Bảo đảm xã hội | C44: =K44+L44 -> 40063887000 | D44: =M44+N44 -> 40063887000 | E44: =+F44+G44+H44 -> 52353964664 | G44: 49786017848 | H44: 2567946816 | I44: =E44/C44 -> 1.306762 | J44: =E44/D44 -> 1.306762 | K44: 37550000000 | L44: 2513887000 | M44: =+K44 -> 37550000000 | N44: =+L44 -> 2513887000
A45: 2.13 | B45: Chi khác | C45: =K45+L45 -> 2182000000 | D45: =M45+N45 -> 2182000000 | E45: =+F45+G45+H45 -> 15466318760 | G45: 15466318760 | I45: =E45/C45 -> 7.0881388 | J45: =E45/D45 -> 7.0881388 | K45: 2182000000 | M45: =+K45 -> 2182000000 | N45: =+L45 -> 0
A46: IV | B46: Các nhiệm vụ chi khác | C46: =K46+L46 -> 0 | D46: =M46+N46 -> 0 | E46: =+F46+G46+H46 -> 0
A47: V | B47: Dự phòng ngân sách | C47: =K47+L47 -> 27159000000 | D47: =M47+N47 -> 27159000000 | E47: =+F47+G47+H47 -> 0 | K47: 21392000000 | L47: 5767000000 | M47: =+K47 -> 21392000000 | N47: =+L47 -> 5767000000
A48: VI | B48: Chi chuyển nguồn | C48: =K48+L48 -> 0 | D48: =M48+N48 -> 0 | E48: =+F48+G48+H48 -> 171333479503 | G48: 88672805719 | H48: 82660673784 | K48: 0 | M48: 0
A49: VIII | B49: Chi bổ sung mục tiêu từ ngân sách cấp trên | E49: =+F49+G49+H49 -> 0
A50: B | B50: CHI BỔ SUNG CHO NGÂN SÁCH CẤP DƯỚI | C50: =+C51+C52 -> 45588000000 | D50: =+D51+D52 -> 45588000000 | E50: =+E51+E52 -> 165340917554 | G50: =+G51+G52 -> 165340917554 | H50: 0 | K50: =K51+K52 -> 0 | L50: =L51+L52 -> 0 | M50: =M51+M52 -> 45588000000 | N50: =N51+N52 -> 0
A51: 1 | B51: Bổ sung cân đối | C51: =K51+L51 -> 0 | E51: =+F51+G51+H51 -> 83736000000 | G51: 83736000000 | M51: 45588000000
A52: 2 | B52: Bổ sung có mục tiêu | C52: =+C53 -> 45588000000 | D52: =+D53 -> 45588000000 | E52: =+F52+G52+H52 -> 81604917554 | G52: =+G53+G54 -> 81604917554
B53: Tr. đó: - Bằng nguồn vốn trong nước | C53: =8488000000+37100000000 -> 45588000000 | D53: =8488000000+37100000000 -> 45588000000 | E53: =+F53+G53+H53 -> 81604917554 | G53: 81604917554
B54: - Bằng nguồn vốn ngoài nước | C54: =K54+L54 -> 0 | D54: =M54+N54 -> 0 | E54: =+F54+G54+H54 -> 0
A55: C | B55: CHI NỘP NGÂN SÁCH CẤP TRÊN | C55: =K55+L55 -> 0 | D55: =M55+N55 -> 0 | E55: =+F55+G55+H55 -> 0
A57: Ngày tháng 4 năm 2025 | D57: =+'TT342- Biểu 61-ok'!D132 -> Ngày 10 tháng 4 năm 2025 | G57: =+D57 -> Ngày 10 tháng 4 năm 2025
A58: =+'TT342- Biểu 61-ok'!A133 -> KHO BẠC NHÀ NƯỚC KHU VỰC IV | D58: PHÒNG TÀI CHÍNH-KẾ HOẠCH | G58: TM. ỦY BAN NHÂN DÂN
D59: TRƯỞNG PHÒNG | G59: CHỦ TỊCH
D64: Chu Đức Anh | G64: Doãn Quốc Hoàn

Sheet TT342- Biểu 63
A1: UBND HUYỆN PHÙ CỪ | H1: Mẫu biểu số 63
A2: PHÒNG TÀI CHÍNH- KH HUYỆN
A4: Ủ Y BAN NHÂN DÂN | H4: Mẫu biểu số 63
A5: HUYỆN PHÙ CỪ
A6: QUYẾT TOÁN THU NSNN, VAY NSĐP THEO MLNS NĂM 2024
A7: ='TT342- Biểu 66'!A6 -> (Kèm theo Báo cáo số 25/BC-TCKH ngày 26/02/2025 của phòng Tài chính- Kế hoạch huyện)
A8: ='TT342- Biểu 66'!A7 -> (Kèm theo Báo cáo số 228/BC-UBND ngày 13/5/2025 của UBND huyện Phù Cừ)
H9: Đơn vị tính: đồng
A10: Cấp | B10: Chương | C10: Mục | D10: Tiểu Mục | E10: NSNN | F10: NSTW | G10: NS cấp tỉnh | H10: NS cấp huyện | I10: NS Xã
A11: 1 | B11: 2 | C11: 3 | D11: 4 | E11: 5 | F11: 6 | G11: 7 | H11: 8 | I11: 9
A12: TỔNG SỐ | E12: 1.921.438.107.378 | F12: 5.359.751.759 | G12: 120.755.538.581 | H12: 956.966.729.215 | I12: 838.356.087.823
B13: 009 | E13: 2.147.171.384 | F13: 2.147.171.384
C14: 2250 | E14: 60.000 | F14: 60.000
D15: 2265 | E15: 60.000 | F15: 60.000
C16: 2750 | E16: 112.108.000 | F16: 112.108.000
D17: 2767 | E17: 10.018.000 | F17: 10.018.000
D18: 2768 | E18: 102.090.000 | F18: 102.090.000
C19: 2800 | E19: 253.143.000 | F19: 253.143.000
D20: 2827 | E20: 253.143.000 | F20: 253.143.000
C21: 4250 | E21: 1.770.314.750 | F21: 1.770.314.750
D22: 4252 | E22: 1.446.136.000 | F22: 1.446.136.000
D23: 4261 | E23: 10.292.000 | F23: 10.292.000
D24: 4263 | E24: 301.487.000 | F24: 301.487.000
D25: 4276 | E25: 131.250 | F25: 131.250
D26: 4278 | E26: 12.268.500 | F26: 12.268.500
C27: 4300 | E27: 11.437.000 | F27: 11.437.000
D28: 4349 | E28: 11.437.000 | F28: 11.437.000
C29: 4900 | E29: 108.634 | F29: 108.634
D30: 4943 | E30: 50.978 | F30: 50.978
D31: 4944 | E31: 57.656 | F31: 57.656
B32: 014 | E32: 886.817.086 | F32: 886.817.086
C33: 2700 | E33: 315.669.018 | F33: 315.669.018
D34: 2701 | E34: 305.644.233 | F34: 305.644.233
D35: 2706 | E35: 10.024.785 | F35: 10.024.785
C36: 2750 | E36: 5.100.000 | F36: 5.100.000
D37: 2766 | E37: 5.100.000 | F37: 5.100.000
C38: 4250 | E38: 272.630.000 | F38: 272.630.000
D39: 4271 | E39: 272.630.000 | F39: 272.630.000
C40: 4300 | E40: 293.418.068 | F40: 293.418.068
D41: 4311 | E41: 293.418.068 | F41: 293.418.068
B42: 024 | E42: 8.000.000 | F42: 8.000.000
C43: 4900 | E43: 8.000.000 | F43: 8.000.000
D44: 4902 | E44: 8.000.000 | F44: 8.000.000
B45: 123 | E45: 131.198.958 | F45: 26.302 | G45: 51.953.518 | H45: 52.874.127 | I45: 26.345.011
C46: 1700 | E46: 1.315.158 | F46: 26.302 | H46: 920.609 | I46: 368.247
D47: 1701 | E47: 1.315.158 | F47: 26.302 | H47: 920.609 | I47: 368.247
C48: 3600 | E48: 129.883.800 | G48: 51.953.518 | H48: 51.953.518 | I48: 25.976.764
D49: 3601 | E49: 129.883.800 | G49: 51.953.518 | H49: 51.953.518 | I49: 25.976.764
B50: 124 | E50: 168.786.132 | G50: 65.496.480 | H50: 65.496.480 | I50: 37.793.172
C51: 1600 | E51: 5.044.926 | I51: 5.044.926
D52: 1603 | E52: 5.044.926 | I52: 5.044.926
C53: 3600 | E53: 163.741.206 | G53: 65.496.480 | H53: 65.496.480 | I53: 32.748.246
D54: 3601 | E54: 163.741.206 | G54: 65.496.480 | H54: 65.496.480 | I54: 32.748.246
B55: 136 | E55: 31.680.360 | G55: 12.089.736 | H55: 12.089.736 | I55: 7.500.888
C56: 1600 | E56: 1.456.020 | I56: 1.456.020
D57: 1603 | E57: 1.456.020 | I57: 1.456.020
C58: 3600 | E58: 30.224.340 | G58: 12.089.736 | H58: 12.089.736 | I58: 6.044.868
D59: 3601 | E59: 30.224.340 | G59: 12.089.736 | H59: 12.089.736 | I59: 6.044.868
B60: 141 | E60: 525.748.636 | F60: 8.977.989 | G60: 470.787.547 | H60: 28.865.760 | I60: 17.117.340
C61: 1600 | E61: 2.684.460 | I61: 2.684.460
D62: 1603 | E62: 2.684.460 | I62: 2.684.460
C63: 1700 | E63: 448.899.210 | F63: 8.977.978 | G63: 439.921.232
D64: 1701 | E64: 448.899.210 | F64: 8.977.978 | G64: 439.921.232
C65: 2850 | E65: 2.000.000 | G65: 2.000.000
D66: 2864 | E66: 2.000.000 | G66: 2.000.000
C67: 3600 | E67: 72.164.400 | G67: 28.865.760 | H67: 28.865.760 | I67: 14.432.880
D68: 3601 | E68: 72.164.400 | G68: 28.865.760 | H68: 28.865.760 | I68: 14.432.880
C69: 4900 | E69: 566 | F69: 11 | G69: 555
D70: 4931 | E70: 566 | F70: 11 | G70: 555
B71: 143 | E71: 1.563.750 | I71: 1.563.750
C72: 1600 | E72: 1.563.750 | I72: 1.563.750
D73: 1603 | E73: 1.563.750 | I73: 1.563.750
B74: 158 | E74: 1.841.019 | F74: 36.814 | H74: 1.288.706 | I74: 515.499
C75: 1700 | E75: 1.841.019 | F75: 36.814 | H75: 1.288.706 | I75: 515.499
D76: 1701 | E76: 1.841.019 | F76: 36.814 | H76: 1.288.706 | I76: 515.499
B77: 161 | E77: 4.594.838 | F77: 91.895 | G77: 4.502.943
C78: 1050 | E78: 2.238.511 | F78: 44.769 | G78: 2.193.742
D79: 1052 | E79: 2.238.511 | F79: 44.769 | G79: 2.193.742
C80: 1700 | E80: 2.356.327 | F80: 47.126 | G80: 2.309.201
D81: 1701 | E81: 2.356.327 | F81: 47.126 | G81: 2.309.201
B82: 412 | E82: 14.603.767 | F82: 11.591.073 | G82: 3.012.694
C83: 1050 | E83: 2.016.738 | F83: 40.334 | G83: 1.976.404
D84: 1052 | E84: 2.016.738 | F84: 40.334 | G84: 1.976.404
C85: 2850 | E85: 1.000.000 | G85: 1.000.000
D86: 2864 | E86: 1.000.000 | G86: 1.000.000
C87: 4250 | E87: 11.550.000 | F87: 11.550.000
D88: 4254 | E88: 7.700.000 | F88: 7.700.000
D89: 4268 | E89: 3.850.000 | F89: 3.850.000
C90: 4900 | E90: 37.029 | F90: 739 | G90: 36.290
D91: 4918 | E91: 37.029 | F91: 739 | G91: 36.290
B92: 421 | E92: 6.001.416 | F92: 120.027 | H92: 4.200.990 | I92: 1.680.399
C93: 1700 | E93: 6.001.416 | F93: 120.027 | H93: 4.200.990 | I93: 1.680.399
D94: 1701 | E94: 6.001.416 | F94: 120.027 | H94: 4.200.990 | I94: 1.680.399
B95: 423 | E95: 4.600.000 | F95: 72.000 | G95: 4.528.000
C96: 1050 | E96: 1.800.000 | F96: 36.000 | G96: 1.764.000
D97: 1052 | E97: 1.800.000 | F97: 36.000 | G97: 1.764.000
C98: 1700 | E98: 1.800.000 | F98: 36.000 | G98: 1.764.000
D99: 1701 | E99: 1.800.000 | F99: 36.000 | G99: 1.764.000
C100: 2850 | E100: 1.000.000 | G100: 1.000.000
D101: 2864 | E101: 1.000.000 | G101: 1.000.000
...

Sheet TT 342- Biểu 64
A1: UBND HUYỆN PHÙ CỪ | G1: Mẫu biểu số 64
A2: PHÒNG TÀI CHÍNH- KH HUYỆN
A4: ỦY BAN NHÂN DÂN | G4: Mẫu biểu số 64
A5: HUYỆN PHÙ CỪ
A7: QUYẾT TOÁN CHI, TRẢ NỢ NSĐP THEO MỤC LỤC NSNN NĂM 2024
A8: ='TT342- Biểu 66'!A6 -> (Kèm theo Báo cáo số 25/BC-TCKH ngày 26/02/2025 của phòng Tài chính- Kế hoạch huyện)
A9: ='TT342- Biểu 66'!A7 -> (Kèm theo Báo cáo số 228/BC-UBND ngày 13/5/2025 của UBND huyện Phù Cừ)
G10: Đơn vị tính: đồng
A11: Cấp | B11: Chương | C11: Loại | D11: Khoản | E11: Mục | F11: Tiểu mục | G11: Số QT
A12: TỔNG SỐ | G12: 1.600.199.835.518
A13: 3 | G13: 951.677.498.790
B14: 605 | G14: 284.180.019.951
C15: 010 | G15: 6.585.677.802
D16: 011 | G16: 6.585.677.802
E17: 9250 | G17: 514.140.000
F18: 9299 | G18: 514.140.000
E19: 9300 | G19: 6.071.537.802
F20: 9301 | G20: 6.071.537.802
C21: 070 | G21: 49.424.486.844
D22: 071 | G22: 9.716.817.000
E23: 9300 | G23: 8.195.695.000
F24: 9301 | G24: 8.195.695.000
E25: 9400 | G25: 1.521.122.000
F26: 9401 | G26: 30.422.000
F27: 9402 | G27: 1.490.700.000
D28: 072 | G28: 24.000.000.000
E29: 9300 | G29: 21.922.620.000
F30: 9301 | G30: 21.922.620.000
E31: 9400 | G31: 2.077.380.000
F32: 9401 | G32: 60.000.000
F33: 9402 | G33: 1.998.954.000
F34: 9449 | G34: 18.426.000
D35: 073 | G35: 15.450.000.000
E36: 9300 | G36: 12.726.575.000
F37: 9301 | G37: 12.726.575.000
E38: 9400 | G38: 2.723.425.000
F39: 9401 | G39: 380.080.000
F40: 9402 | G40: 2.334.408.000
F41: 9449 | G41: 8.937.000
D42: 085 | G42: 257.669.844
E43: 9300 | G43: 135.037.844
F44: 9301 | G44: 135.037.844
E45: 9400 | G45: 122.632.000
F46: 9401 | G46: 83.169.000
F47: 9402 | G47: 24.376.000
F48: 9449 | G48: 15.087.000
C49: 130 | G49: 10.000.000.000
D50: 132 | G50: 10.000.000.000
E51: 9300 | G51: 9.229.573.000
F52: 9301 | G52: 9.229.573.000
E53: 9400 | G53: 770.427.000
F54: 9402 | G54: 770.427.000
C55: 250 | G55: 19.087.000
D56: 262 | G56: 19.087.000
E57: 9400 | G57: 19.087.000
F58: 9449 | G58: 19.087.000
C59: 280 | G59: 206.809.163.524
D60: 292 | G60: 79.791.438.955
E61: 9250 | G61: 20.494.435.271
F62: 9251 | G62: 17.816.033.971
F63: 9299 | G63: 2.678.401.300
E64: 9300 | G64: 53.202.227.116
F65: 9301 | G65: 53.202.227.116
E66: 9400 | G66: 6.094.776.568
F67: 9401 | G67: 2.903.234.022
F68: 9402 | G68: 3.145.689.546
F69: 9449 | G69: 45.853.000
D70: 312 | G70: 127.017.724.569
E71: 9200 | G71: 500.726.000
F72: 9204 | G72: 500.726.000
E73: 9250 | G73: 58.690.771.369
F74: 9251 | G74: 51.517.556.978
F75: 9253 | G75: 675.501.591
F76: 9299 | G76: 6.497.712.800
E77: 9300 | G77: 63.280.873.000
F78: 9301 | G78: 63.280.873.000
E79: 9350 | G79: 2.000.000.000
F80: 9351 | G80: 2.000.000.000
E81: 9400 | G81: 2.545.354.200
F82: 9401 | G82: 210.245.000
F83: 9402 | G83: 2.143.994.200
F84: 9449 | G84: 191.115.000
C85: 340 | G85: 11.341.604.781
D86: 341 | G86: 11.341.604.781
E87: 6000 | G87: 1.520.638.398
F88: 6001 | G88: 1.520.638.398
E89: 6050 | G89: 279.009.460
F90: 6051 | G90: 279.009.460
E91: 6100 | G91: 927.194.528
F92: 6101 | G92: 80.928.000
F93: 6105 | G93: 150.767.608
F94: 6107 | G94: 4.968.000
F95: 6111 | G95: 274.464.000
F96: 6115 | G96: 12.533.453
F97: 6124 | G97: 403.533.467
E98: 6200 | G98: 106.692.943
F99: 6201 | G99: 106.692.943
E100: 6300 | G100: 420.820.581
F101: 6301 | G101: 324.131.607
F102: 6302 | G102: 56.472.617
...

Sheet TT342- Biểu 66
A1: ỦY BAN NHÂN DÂN | D1: Mẫu biểu số 66
A2: HUYỆN PHÙ CỪ
A4: THUYẾT MINH TĂNG, GIẢM CHI QUẢN LÝ HÀNH CHÍNH, ĐẢNG, ĐOÀN THỂ
A5: NĂM 2024
A6: =+'TT342-Biểu 60-ok'!A6:J6 -> (Kèm theo Báo cáo số 25/BC-TCKH ngày 26/02/2025 của phòng Tài chính- Kế hoạch huyện)
A7: =+'TT342-Biểu 60-ok'!A7:J7 -> (Kèm theo Báo cáo số 228/BC-UBND ngày 13/5/2025 của UBND huyện Phù Cừ)
F8: Đơn vị: đồng
B9: Nội dung | C9: Tổng số | D9: Trong đó | G9: Ghi chú
D10: NS cấp tỉnh | E10: NS cấp huyện | F10: NS xã
A11: A | B11: B | C11: 1=2+3+4 | D11: 2 | E11: 3 | F11: 4 | G11: 5
A12: I | B12: Số quyết toán chi tăng so với dự toán | C12: =+C13+C19+C55+C58+C61+C63 -> 26152500794 | D12: =+D13+D19+D55+D58+D61+D63 -> 0 | E12: =+E13+E19+E55+E58+E61+E63 -> 7.9654954e+09 | F12: =+F13+F19+F55+F58+F61+F63 -> 26721605452 | H12: =+'NĐ31- Biểu 57-QT chi TX-nguồn'!#REF!+'NĐ31- Biểu 57-QT chi TX-nguồn'!#REF!+'NĐ31- Biểu 57-QT chi TX-nguồn'!#REF!-'NĐ31- Biểu 57-QT chi TX-nguồn'!#REF!+'NĐ31- Biểu 57-QT chi TX-nguồn'!#REF!+'NĐ31- Biểu 57-QT chi TX-nguồn'!#REF!+'NĐ31- Biểu 57-QT chi TX-nguồn'!#REF!-'NĐ31- Biểu 57-QT chi TX-nguồn'!#REF!+'NĐ31- Biểu 57-QT chi TX-nguồn'!#REF!+'NĐ31- Biểu 57-QT chi TX-nguồn'!#REF!+'NĐ31- Biểu 57-QT chi TX-nguồn'!#REF!+'NĐ31- Biểu 57-QT chi TX-nguồn'!#REF!+'NĐ31- Biểu 57-QT chi TX-nguồn'!#REF!+'NĐ31- Biểu 57-QT chi TX-nguồn'!#REF!+'NĐ31- Biểu 57-QT chi TX-nguồn'!#REF!+'NĐ31- Biểu 57-QT chi TX-nguồn'!#REF!-'NĐ31- Biểu 57-QT chi TX-nguồn'!#REF!+'NĐ31- Biểu 57-QT chi TX-nguồn'!#REF!+'NĐ31- Biểu 57-QT chi TX-nguồn'!#REF!+'NĐ31- Biểu 57-QT chi TX-nguồn'!#REF!-'NĐ31- Biểu 57-QT chi TX-nguồn'!#REF!-'NĐ31- Biểu 57-QT chi TX-nguồn'!#REF!+'NĐ31- Biểu 57-QT chi TX-nguồn'!#REF!+'NĐ31- Biểu 57-QT chi TX-nguồn'!#REF!+'NĐ31- Biểu 57-QT chi TX-nguồn'!#REF!+'NĐ31- Biểu 57-QT chi TX-nguồn'!#REF! -> #REF! | I12: =+E12-H12 -> #REF!
A13: 1 | B13: Do chính sách thay đổi | C13: =SUM(C14:C18) -> 10127556347 | D13: =SUM(D14:D18) -> 0 | E13: =SUM(E14:E18) -> 3.3295869e+09 | F13: =SUM(F14:F18) -> 15332569564 | G13: =SUM(G14:G18) -> 0
A14: 1.1 | B14: Chi tăng mức lương cơ sở theo Nghị định số 74/2024/NĐ-CP của Chính phủ | C14: =+D14+E14+F14 -> 10127556347 | E14: 2679447640 | F14: 7448108707
A15: 1.2 | B15: Chi chế độ tiền thưởng theo theo Nghị định số 73/2024/NĐ-CP của Chính phủ | E15: 6.5013922e+08 | F15: 1015976520
A16: 1.3 | B16: Chi trả chênh lệch khi thực hiện Nghị quyết số 439/2023/NQ-HĐND ngày 07/12/2023 của Hội đồng nhân dân tỉnh Hưng Yên | F16: 6095624400
A17: 1.4 | B17: Thực hiện tinh giản biên chế theo Nghị định số 29/2023/NĐ-CP ngày 03/6/2023 của Chính phủ năm 2024 | F17: 552698665
A18: 1.5 | B18: Chi nâng lương thường xuyên; phụ cấp công vụ Chủ tịch Hội CCB xã | F18: 220161272
A19: 2 | B19: Nhiệm vụ chi đột xuất được bổ sung | C19: =SUM(C20:C54) -> 15663205947 | D19: =SUM(D20:D54) -> 0 | E19: =SUM(E20:E54) -> 4274170059 | F19: =SUM(F20:F54) -> 11389035888 | G19: =SUM(G20:G38) -> 0
A20: 2.1 | B20: Bổ sung kinh phí cho phòng Nội vụ huyện để thực hiện sắp xếp đơn vị hành chính cấp xã năm 2024 | C20: =+D20+E20+F20 -> 120000000 | E20: 120000000
A21: 2.2 | B21: Bổ sung kinh phí cho phòng Tài chính- KH huyện để nộp tiền bảo vệ, phát triển đất trồng lúa thực hiện dự án xây dựng hạ tầng kỹ thuật khu dân cư mới xã Tống Phan theo kiến nghị của Kiểm toán Nhà nước khu vực VI | C21: =+D21+E21+F21 -> 733600 | E21: 733600 | H21: =+E21+'[4]Phụ biểu 01'!$C$17+'[5]Phụ biểu kèm QĐ'!$G$22+98175000 -> 2.5862197e+08
A22: 2.3 | B22: Bổ sung kinh phí cho Uỷ ban Mặt trận tổ quốc huyện để tổ chức các hoạt động của Đại hội đại biểu MTTQ huyện lần thứ XI, nhiệm kỳ 2024-2029 | C22: =+D22+E22+F22 -> 80000000 | E22: 80000000
A23: 2.4 | B23: Bổ sung kinh phí cho Đoàn Thanh niên cộng sản HCM huyện để tổ chức Đại hội Đại biểu Hội Liên hiệp thanh niên Việt Nam huyện Phù Cừ lần thứ VI, giai đoạn 2024-2029 | C23: =+D23+E23+F23 -> 15570000 | E23: 15570000
A24: 2.5 | B24: Bổ sung kinh phí cho Đoàn Thanh niên cộng sản HCM huyện để thực hiện hoạt động hè năm 2024 và các hoạt động khác | C24: =+D24+E24+F24 -> 30000000 | E24: 30000000
A25: 2.6 | B25: Bổ sung kinh phí cho Ban đại diện Hội Người cao tuổi huyện để tổ chức Đại hội thành lập Hội Người cao tuổi huyện Phù Cừ | C25: =+D25+E25+F25 -> 52105000 | E25: 52105000
A26: 2.7 | B26: Bổ sung kinh phí cho Hội đồng nhân dân huyện để phục vụ các nhiệm vụ phát sinh năm 2024 | C26: =+D26+E26+F26 -> 200000000 | E26: 200000000
A27: 2.8 | B27: Bổ sung kinh phí cho Văn phòng Huyện uỷ để thực hiện các nhiệm vụ phát sinh; tổ chức Hội thi Bí thư Chi bộ giỏi | C27: =+D27+E27+F27 -> 266848800 | E27: 266848800 | H27: =+SUM(E27:E32)+'[5]Phụ biểu kèm QĐ'!$G$9+'[5]Phụ biểu kèm QĐ'!$G$78+'[6]Phụ biểu 02'!$C$13+'[4]Phụ biểu 01'!$C$7 -> 2332107298
A28: 2.9 | B28: Bổ sung kinh phí cho Văn phòng Huyện uỷ để phục vụ các hoạt động tổ chức Đại hội đảng bộ các cấp | C28: =+D28+E28+F28 -> 403743300 | E28: 403743300 | H28: =2332512298 -> 2332512298
A29: 2.10 | B29: Bổ sung kinh phí cho Huyện ủy Phù Cừ để sửa chữa cổng, sửa chữa hệ thống điện nước, mạng và nhiệm vụ khác phục vụ khắc phục thiệt hại do bão số 3 gây ra | C29: =+D29+E29+F29 -> 295484957 | E29: 295484957 | H29: =+H28-H27 -> 405000
A30: 2.11 | B30: Bổ sung kinh phí cho Văn phòng Huyện uỷ để phục vụ công tác xử lý vệ sinh môi trường…..; hội nghị văn hóa toàn tỉnh | C30: =+D30+E30+F30 -> 140777000 | E30: 140777000
A31: 2.12 | B31: Bổ sung kinh phí cho Văn phòng Huyện ủy để phục vụ công tác giới thiệu, quảng bá thương hiệu nông sản huyện Phù Cừ | C31: =+D31+E31+F31 -> 156000000 | E31: 156000000
A32: 2.13 | B32: Điều chỉnh, bổ sung kinh phí mua thẻ BHYT cho đối tượng người đủ 30 năm tuổi Đảng | C32: =+D32+E32+F32 -> 9410000 | E32: =9815000-405000 -> 9410000
A33: 2.14 | B33: Bổ sung kinh phí cho Văn phòng HĐND-UBND huyện để mua hóa chất, vật tư y tế tiêu hao phục vụ công tác khám sức khỏe nghĩa vụ Quân sự và thực hiện nghĩa vụ tham gia Công an nhân dân năm 2025; hỗ trợ tiền nước uống, ăn trưa cho HĐ khám sức khoẻ NVQS | C33: =+D33+E33+F33 -> 97903400 | E33: 97903400 | H33: =+SUM(E33:E36,E62)+'[4]Phụ biểu 01'!$C$14+'[5]Phụ biểu kèm QĐ'!$G$74+'[5]Phụ biểu kèm QĐ'!$G$19 -> 2.6623825e+09
A34: 2.15 | B34: Bổ sung kinh phí cho Văn phòng HĐND-UBND huyện để sửa chữa cổng; biển, cắt tỉa, trồng lại cây; sửa chữa điện, nước, camera an ninh; mái tôn trần nhà…. khắc phục thiệt hại do bão số 3 gây ra | C34: =+D34+E34+F34 -> 1194313600 | E34: 1194313600
A35: 2.16 | B35: Bổ sung kinh phí cho Văn phòng HĐND-UBND huyện để thực hiện sửa chữa phòng khách, phòng họp, phòng ăn và các nhiệm vụ khác | C35: =+D35+E35+F35 -> 154132700 | E35: 154132700
A36: 2.17 | B36: Bổ sung kinh phí cho Văn phòng HĐND-UBND huyện để thực hiện vệ sinh công nghiệp; sửa chữa hệ thống mạng, vệ sinh môi trường nội tự UBND huyện; thay thế cửa gỗ bị hỏng; xây dựng Lán để xe máy UBND huyện Phù Cừ | C36: =+D36+E36+F36 -> 373725600 | E36: 373725600
A37: 2.18 | B37: Bổ sung kinh phí cho phòng Văn hoá và Thông tin huyện để tổ chức tập huấn nâng cao năng lực chuyển đổi số năm 2024 | C37: =+D37+E37+F37 -> 58085000 | E37: 58085000 | H37: =+E37+E38+E39+'[4]Phụ biểu 01'!$C$21+'[5]Phụ biểu kèm QĐ'!$G$26 -> 602411330
A38: 2.19 | B38: Bổ sung kinh phí cho phòng Văn hóa và Thông tin huyện để thực hiện số hóa di tích Đền Lưỡng Quốc trạng nguyên Tống Trân | C38: =+D38+E38+F38 -> 93340000 | E38: 93340000
A39: 2.20 | B39: Bổ sung kinh phí cho phòng Văn hoá và Thông tin huyện để triển khai phần mềm Zalo MiniApp | C39: =+D39+E39+F39 -> 354440000 | E39: 354440000
A40: 2.21 | B40: Bổ sung kinh phí cho Uỷ ban Mặt trận Tổ quốc huyện để tổ chức các hoạt động phát sinh phục vụ các hoạt động chính trị của huyện | C40: =+D40+E40+F40 -> 115828000 | E40: 115828000
A41: 2.22 | B41: Bổ sung kinh phí cho phòng Nông nghiệp và Phát triển nông thôn huyện để làm video phóng sự: Kết quả xây dựng NTM nâng cao huyện Phù Cừ; file thiết kế báo cáo hình ảnh theo các tiêu chí huyện nông thôn mới nâng cao | C41: =+D41+E41+F41 -> 49500000 | E41: 49500000 | H41: =+E41+E42+'[4]Phụ biểu 01'!$C$15+'[5]Phụ biểu kèm QĐ'!$G$20 -> 213681875
A42: 2.23 | B42: Bổ sung kinh phí cho phòng Nông nghiệp và Môi trường huyện mua thóc và công đánh bắt diệt chuột | C42: =+D42+E42+F42 -> 45500000 | E42: 45500000
A43: 2.24 | B43: Bổ sung kinh phí cho phòng Tài nguyên và Môi trường huyện để thực hiện các gói thầu tư vấn ban đầu dự án: Lập điều chỉnh Quy hoạch sử dụng đất đến năm 2030 huyện Phù Cừ | C43: =+D43+E43+F43 -> 60235725 | E43: 60235725
A44: 2.25 | B44: Bổ sung kinh phí cho phòng Tài nguyên và Môi trường để thanh toán các gói thầu tổ chức đấu giá Quyền sử dụng đất | C44: =+D44+E44+F44 -> 51758000 | E44: 51758000
A45: 2.26 | B45: Bổ sung kinh phí cho Hội Chữ thập đỏ huyện tham gia Hội thi "Tiếng hát Chữ thập đỏ năm 2024" | C45: =+D45+E45+F45 -> 20000000 | E45: 20000000
A46: 2.27 | B46: Điều chỉnh kinh phí để thực hiện công trình | C46: =+D46+E46+F46 -> -217303917 | E46: -217303917
A47: 2.28 | B47: Bổ sung kinh phí cho Thanh tra huyện tiền thu hồi qua công tác thanh tra theo Thông tư số 327/2016/TT-BTC ngày 26/12/2016 của Bộ Tài chính (trích 25% trên thổng số tiền đã thực nộp vào ngân sách nhà nước) | C47: =+D47+E47+F47 -> 17877294 | E47: 17877294
A48: 2.29 | B48: Bổ sung kinh phí cho phòng Lao động-TB&XH huyện để phục vụ khám, tư vấn bệnh, cấp thuốc miễn phí đối với các đối tượng chính sách năm 2024 | C48: =+D48+E48+F48 -> 29950000 | E48: 29950000
A49: 2.30 | B49: Bổ sung kinh phí cho phòng Giáo dục và Đào tạo huyện để chi trả trợ cấp cho Chủ tịch Hội khuyến học huyện tháng 12/2024 | C49: =+D49+E49+F49 -> 4212000 | E49: 4212000
A50: 2.31 | B50: Hỗ trợ người dân bị thiệt hại do bão số 3 trong lĩnh vực nông nghiệp theo Nghị định số 02/2017/NĐ-CP | C50: =+D50+E50+F50 -> 3357312600 | F50: 3357312600
A51: 2.32 | B51: Hỗ trợ kinh phí phòng, chống, khắc phục bão Yagi | C51: =+D51+E51+F51 -> 2102351868 | F51: 2102351868
A52: 2.33 | B52: Mua sắm, lắp đặt trang thiết bị xây dựng thôn thông minh, xã thông minh (Đoàn Đào, Trần Cao, Quang Hưng) | C52: =+D52+E52+F52 -> 4611373320 | F52: 4611373320
A53: 2.34 | B53: Hỗ trợ bao bì, vỏ hộp đựng nông sản (Minh Tiến, Phan Sào Nam, Tiên Tiến, Tam Đa) | C53: =+D53+E53+F53 -> 559988100 | F53: 559988100
A54: 2.35 | B54: Cơ chế hỗ trợ phát triển KTXH năm 2024 (đường hoa, đường điện) | C54: =+D54+E54+F54 -> 758010000 | F54: =300000000+458010000 -> 758010000
A55: 3 | B55: Tăng, giảm biên chế so với dự toán
B56: - Số biên chế tăng, giảm
B57: - Số kinh phí tăng, giảm
A58: 4 | B58: Mua sắm tài sản
B59: Trong đó: - Số ô tô
B60: - Số kinh phí
A61: 5 | B61: Sửa chữa trụ sở làm việc | C61: =+SUM(C62:C62) -> 361738500 | D61: =+SUM(D62:D62) -> 0 | E61: =+SUM(E62:E62) -> 361738500 | F61: =+SUM(F62:F62) -> 0
B62: Bổ sung kinh phí cho Văn phòng HĐND-UBND huyện để thanh toán công trình: Cải tạo, sửa chữa nhà làm việc 4 tầng và các hạng mục phụ trợ UBND huyện | C62: =+D62+E62+F62 -> 361738500 | E62: 361738500
A63: 6 | B63: Tăng cường cơ sở vật chất các xã | C63: 0 | F63: 0
A64: II | B64: Số quyết toán chi giảm so với dự toán | C64: =C65+C70+C73+C76+C79+C81 -> 0 | D64: =D65+D70+D73+D76+D79+D81 -> 0 | E64: =+E65+E70+E79 -> 0 | F64: =F65+F70+F73+F76+F79+F81 -> 0
A65: 1 | B65: Do chính sách thay đổi | C65: =SUM(C66:C69) -> 0 | D65: =SUM(D66:D69) -> 0 | E65: =SUM(E66:E69) -> 0 | F65: =SUM(F66:F69) -> 0
C66: =+D66+E66+F66 -> 0
A70: 2 | B70: Nhiệm vụ chi đột xuất được điều chỉnh | C70: =+C71+C72 -> 0 | D70: =+D71+D72 -> 0 | E70: =+E71+E72 -> 0 | F70: =SUM(F72:F72) -> 0
C71: =+D71+E71+F71 -> 0
C72: =+D72+E72+F72 -> 0
A73: 3 | B73: Tăng, giảm biên chế so với dự toán | C73: 0 | D73: 0 | E73: 0 | F73: 0 | G73: 0
B74: - Số biên chế tăng, giảm
B75: - Số kinh phí tăng, giảm
A76: 4 | B76: Mua sắm tài sản | C76: 0 | D76: 0 | E76: 0 | F76: 0 | G76: 0
B77: Trong đó: - Số ô tô
B78: - Số kinh phí
A79: 5 | B79: Sửa chữa trụ sở làm việc | C79: =+SUM(C80:C80) -> 0 | D79: =+SUM(D80:D80) -> 0 | E79: =+SUM(E80:E80) -> 0 | F79: =+SUM(F80:F80) -> 0 | G79: 0
A81: 6 | B81: Tăng cường cơ sở vật chất các xã | C81: 0 | D81: 0 | E81: 0 | F81: 0
D83: =+'TT342- Biểu 68-ok'!D33 -> #REF!
D84: TM. ỦY BAN NHÂN DÂN
D85: CHỦ TỊCH
D91: Doãn Quốc Hoàn

Sheet TT342-Biểu 67
A1: ỦY BAN NHÂN DÂN | D1: Mẫu biểu số 67
A2: HUYỆN PHÙ CỪ
A4: THUYẾT MINH CHI KHẮC PHỤC HẬU QUẢ THIÊN TAI NĂM 2024
D5: ĐVT: đồng
A6: TT | B6: Nội dung | C6: Tổng số | D6: NS cấp huyện | E6: NS cấp xã
D7: NS huyện | E7: NS xã
A8: A | B8: B | C8: 1=2+3 | D8: 2 | E8: 3
A9: A | B9: Tổng nguồn | C9: =+C10+C20 -> 10077277570 | D9: =+D10+D20 -> 5479884053 | E9: =+E10+E20 -> 4597393517
A10: I | B10: Nguồn trong nước | C10: =+C11+C12+C13+C19 -> 10077277570 | D10: =+D11+D12+D13+D19 -> 5479884053 | E10: =+E11+E12+E13+E19 -> 4597393517
A11: 1 | B11: Trung ương bổ sung | C11: =+D11+E11 -> 0
A12: 2 | B12: Các tổ chức, cá nhân ủng hỗ
A13: 3 | B13: Nguồn của NSĐP | C13: =+SUM(C14:C18) -> 10077277570 | D13: =+D14+D16+D17+D18 -> 5479884053 | E13: =+SUM(E14:E18) -> 4597393517
A14: 3.1 | B14: Từ nguồn dự phòng | C14: =+D14+E14 -> 9631594345 | D14: 5034200828 | E14: =6377696788-1780303271 -> 4597393517
B15: Trong đó: Bổ sung mục tiêu cho NS cấp xã | D15: 1780303271
A16: 3.2 | B16: Từ nguồn sự nghiệp giáo dục | C16: =+D16+E16 -> 445683225 | D16: 445683225
A17: 3.3 | B17: Từ nguồn khác | C17: =+D17+E17 -> 0
A18: 3.4 | B18: Từ nguồn tăng thu | C18: =+D18+E18 -> 0
A19: 4 | B19: Các nguồn khác | C19: =+D19+E19 -> 0
A20: II | B20: Nguồn viện trợ nước ngoài
A21: B | B21: Tổng kinh phí sử dụng đã được quyết toán chi NSĐP | C21: =+D21+E21 -> 10077277570 | D21: =+D22+D23 -> 3699580782 | E21: =+E22+E23 -> 6377696788
A22: I | B22: Chi đầu tư XDCB
A23: II | B23: Chi thường xuyên | C23: =+SUM(C24:C29) -> 10077277570 | D23: =+SUM(D24:D29) -> 3699580782 | E23: =+SUM(E24:E29) -> 6377696788
A24: 1 | B24: Sự nghiệp kinh tế | C24: =+D24+E24 -> 209445000 | D24: =36500000+172945000 -> 209445000
A25: 2 | B25: Sự nghiệp giáo dục | C25: =+D25+E25 -> 1038547225 | D25: =592864000+445683225 -> 1038547225
A26: 3 | B26: Sự nghiệp thể dục-thể thao | C26: =+D26+E26 -> 900495000 | D26: 900495000
A27: 4 | B27: Quản lý hành chính | C27: =+D27+E27 -> 7867495345 | D27: 1489798557 | E27: 6377696788
A28: 5 | B28: Quốc phòng | C28: =+D28+E28 -> 61295000 | D28: 61295000
A29: 6 | B29: Chi khác | C29: =+D29+E29 -> 0
C31: =+'TT342- Biểu 68-ok'!D33 -> #REF!
C32: TRƯỞNG PHÒNG
C37: Chu Đức Anh

Sheet TT342- Biểu 68-ok
A1: UBND HUYỆN PHÙ CỪ | E1: Mẫu biểu số 68
A2: PHÒNG TÀI CHÍNH- KH
A4: ỦY BAN NHÂN DÂN | E4: Mẫu biểu số 68
A5: HUYỆN PHÙ CỪ
A7: THUYẾT MINH TÌNH HÌNH SỬ DỤNG NGUỒN DỰ PHÒNG,
A8: TĂNG THU VÀ THƯỞNG VƯỢT DỰ TOÁN THU NGÂN SÁCH NĂM 2024
A9: =+'TT342-Biểu 60-ok'!A6 -> (Kèm theo Báo cáo số 25/BC-TCKH ngày 26/02/2025 của phòng Tài chính- Kế hoạch huyện)
A10: =+'TT342-Biểu 60-ok'!A7 -> (Kèm theo Báo cáo số 228/BC-UBND ngày 13/5/2025 của UBND huyện Phù Cừ)
E11: Đơn vị: Đồng
A12: Số TT | B12: Nội dung | C12: Tổng số | D12: Trong đó | G12: Ghi chú
D13: Dự phòng | E13: Tăng thu | F13: Thưởng vượt dự toán thu | H13: Dự phòng | J13: Tăng thu
A14: A | B14: B | C14: 1 | D14: 2 | E14: 3 | F14: 4 | G14: 5 | H14: huyện | I14: xã | J14: huyện | K14: xã
B15: Tổng kinh phí sử dụng đã được quyết toán chi NSĐP | C15: =C16+C17+C18 -> 37172941269 | D15: =+H15+I15 -> 26313401517 | E15: =+J15+K15 -> 10859539752 | F15: =F16+F17+F18 -> 0 | G15: =G16+G17+G18 -> 0 | H15: =H16+H17+H18 -> 21392000000 | I15: =I16+I17+I18 -> 4921401517 | J15: =J16+J17+J18 -> 8391143480 | K15: =K16+K17+K18 -> 2468396272
A16: I | B16: Chi đầu tư XDCB | C16: =D16+E16 -> 6667855272 | E16: =+J16+K16 -> 6667855272 | H16: =+D16+I16 -> 0 | J16: 4372093000 | K16: 2295762272
A17: II | B17: Chi đầu tư và hỗ trợ vốn doanh nghiệp (nếu có theo phân cấp) | C17: 0 | D17: 0 | E17: 0 | F17: 0 | G17: 0 | H17: =SUM(I17:K17) -> 0 | I17: =SUM(J17:K17) -> 0
A18: III | B18: Chi thường xuyên | C18: =SUM(C19:C31) -> 30505085997 | D18: =SUM(D19:D31) -> 26313401517 | E18: =SUM(E19:E31) -> 4191684480 | F18: =SUM(F19:F31) -> 0 | G18: =SUM(G19:G31) -> 0 | H18: =SUM(H19:H31) -> 21392000000 | I18: =SUM(I19:I31) -> 4921401517 | J18: =SUM(J19:J31) -> 4019050480 | K18: =SUM(K19:K31) -> 172634000
A19: 1 | B19: Chi quốc phòng | C19: =SUM(D19:E19) -> 2940737000 | D19: =+H19+I19 -> 2940737000 | E19: =+J19+K19 -> 0 | H19: 2940737000
A20: 2 | B20: Chi an ninh và trật tự an toàn xã hội | C20: =SUM(D20:E20) -> 10858711760 | D20: =+H20+I20 -> 7699924605 | E20: =+J20+K20 -> 3158787155 | H20: 7699924605 | J20: 3158787155
A21: 3 | B21: Chi Giáo dục - đào tạo và dạy nghề | C21: =SUM(D21:E21) -> 636754000 | D21: =+H21+I21 -> 636754000 | E21: =+J21+K21 -> 0 | H21: 592864000 | I21: 43890000
A22: 4 | B22: Chi Khoa học và công nghệ | C22: =SUM(D22:E22) -> 0 | D22: =+H22+I22 -> 0 | E22: =+J22+K22 -> 0
A23: 5 | B23: Chi Y tế, dân số và gia đình | C23: =SUM(D23:E23) -> 250995000 | D23: =+H23+I23 -> 250995000 | E23: =+J23+K23 -> 0 | H23: 223865000 | I23: 27130000
A24: 6 | B24: Chi Văn hóa thông tin | C24: =SUM(D24:E24) -> 3215185000 | D24: =+H24+I24 -> 3215185000 | E24: =+J24+K24 -> 0 | H24: 3120000000 | I24: 95185000
A25: 7 | B25: Chi Phát thanh, truyền hình, thông tấn | C25: =SUM(D25:E25) -> 196450000 | D25: =+H25+I25 -> 196450000 | E25: =+J25+K25 -> 0 | I25: 196450000
A26: 8 | B26: Chi Thể dục thể thao | C26: =SUM(D26:E26) -> 900495000 | D26: =+H26+I26 -> 900495000 | E26: =+J26+K26 -> 0 | H26: 900495000
A27: 9 | B27: Chi Bảo vệ môi trường | C27: =SUM(D27:E27) -> 46000000 | D27: =+H27+I27 -> 46000000 | E27: =+J27+K27 -> 0 | I27: 46000000
A28: 10 | B28: Chi các hoạt động kinh tế | C28: =SUM(D28:E28) -> 2866345402 | D28: =+H28+I28 -> 2866345402 | E28: =+J28+K28 -> 0 | H28: 2725833402 | I28: 140512000
A29: 11 | B29: Chi hoạt động của các cơ quan quản lý nhà nước, đảng, đoàn thể | C29: =SUM(D29:E29) -> 6554191068 | D29: =+H29+I29 -> 6363679774 | E29: =+J29+K29 -> 190511294 | H29: 1991445257 | I29: 4372234517 | J29: 17877294 | K29: 172634000
A30: 12 | B30: Chi Bảo đảm xã hội | C30: =SUM(D30:E30) -> 1979221767 | D30: =+H30+I30 -> 1136835736 | E30: =+J30+K30 -> 842386031 | H30: 1136835736 | J30: 842386031
A31: 13 | B31: Chi khác | C31: =SUM(D31:E31) -> 60000000 | D31: =+H31+I31 -> 60000000 | E31: =+J31+K31 -> 0 | H31: 60000000
D33: =+#REF! -> #REF!
D34: TRƯỞNG PHÒNG
D39: Chu Đức Anh

Sheet TT342- Biểu 69
A1: ỦY BAN NHÂN DÂN | H1: Mẫu biểu số 69
A2: HUYỆN PHÙ CỪ
A3: UBND HUYỆN PHÙ CỪ | H3: Mẫu biểu số 69
A4: PHÒNG TÀI CHÍNH- KẾ HOẠCH
A6: BÁO CÁO TÌNH HÌNH KIỂM TOÁN, THANH TRA NĂM 2024
A7: =+'TT342-Biểu 60-ok'!A6 -> (Kèm theo Báo cáo số 25/BC-TCKH ngày 26/02/2025 của phòng Tài chính- Kế hoạch huyện)
A8: =+'TT342-Biểu 60-ok'!A7 -> (Kèm theo Báo cáo số 228/BC-UBND ngày 13/5/2025 của UBND huyện Phù Cừ)
G9: Đơn vị tính: Đồng
A10: STT | B10: Nội dung | C10: Số kiến nghị của | E10: Số xử lý năm 2024 | G10: Số tồn tại chưa xử lý | I10: Ghi chú
C11: Thanh tra | D11: Kiểm toán | E11: Thanh tra | F11: Kiểm toán | G11: Thanh tra | H11: Kiểm toán
A12: I | B12: Kiến nghị của kiểm toán, thanh tra các năm trước còn tồn tại chưa xử lý | C12: 0 | D12: =+D13+D16+D19+D26 -> 3982223700 | F12: =F13+F16+F19+F26 -> 3982223700 | G12: =G13+G16+G19+G26 -> 0 | H12: =H13+H16+H19+H26 -> 0 | J12: Nộp năm 2024
A13: 1 | B13: Các khoản thu phải nộp ngân sách | C13: 0 | D13: 0 | G13: =C13-E13 -> 0 | H13: =D13-F13 -> 0
B14: Chi tiết: Do hết nhiệm vụ chi | C14: 0 | D14: 0 | G14: =C14-E14 -> 0 | H14: =D14-F14 -> 0
B15: … | C15: 0 | D15: 0 | G15: =C15-E15 -> 0 | H15: =D15-F15 -> 0
A16: 2 | B16: Các khoản ghi thu, ghi chi vào ngân sách | C16: 0 | D16: =D17 -> 3859335000 | F16: =F17 -> 3859335000 | G16: =C16-E16 -> 0 | H16: =D16-F16 -> 0
B17: Ngân sách huyện | C17: 0 | D17: 3859335000 | F17: 3859335000 | G17: =C17-E17 -> 0 | H17: =D17-F17 -> 0
B18: …. | C18: 0 | D18: 0 | G18: =C18-E18 -> 0 | H18: =D18-F18 -> 0
A19: 3 | B19: Số chi sai chế độ phải xuất toán | C19: 0 | D19: =+D20+D23 -> 122888700 | F19: =F20+F23 -> 122888700 | G19: =C19-E19 -> 0 | H19: =D19-F19 -> 0
A20: a | B20: Nộp trả ngân sách: | C20: 0 | D20: =+D21+D22 -> 122888700 | F20: =+F21+F22 -> 122888700 | G20: =C20-E20 -> 0 | H20: =D20-F20 -> 0
B21: Trong đó: - Xây dựng cơ bản | C21: 0 | D21: 0 | G21: =C21-E21 -> 0 | H21: =D21-F21 -> 0
B22: - Chi thường xuyên | C22: 0 | D22: 122888700 | F22: 122888700 | G22: =C22-E22 -> 0 | H22: =D22-F22 -> 0
A23: b | B23: Cơ quan tài chính giảm trừ cấp phát | C23: 0 | D23: =+D24+D25 -> 0 | F23: =SUM(F24:F25) -> 0 | G23: =C23-E23 -> 0 | H23: =D23-F23 -> 0
B24: Trong đó: - Xây dựng cơ bản | C24: 0 | D24: 0 | G24: =C24-E24 -> 0 | H24: =D24-F24 -> 0
B25: - Chi thường xuyên | C25: 0 | G25: =C25-E25 -> 0 | H25: =D25-F25 -> 0
A26: 4 | B26: Bổ sung quyết toán ngân sách năm nay | C26: 0 | D26: 0 | G26: =C26-E26 -> 0 | H26: =D26-F26 -> 0
B27: Trong đó: - Xây dựng cơ bản | C27: 0 | D27: 0 | G27: =C27-E27 -> 0 | H27: =D27-F27 -> 0
B28: - Chi thường xuyên | C28: 0 | D28: 0 | G28: =C28-E28 -> 0 | H28: =D28-F28 -> 0
A29: II | B29: Kiến nghị của kiểm toán, thanh tra năm nay | C29: =C33 -> 445724080 | D29: =+D30+D33+D36+D37+D43+D40 -> 0 | E29: =+E30+E33+E36+E37+E43+E40 -> 445724080 | F29: =+F30+F33+F36+F37+F43+F40 -> 0 | G29: =+G30+G33+G36+G37+G43+G40 -> 0 | H29: =+H30+H33+H36+H37+H43+H40 -> 0 | I29: =+I30+I33+I36+I37+I43+I40 -> 0
A30: 1 | B30: Các khoản thu phải nộp ngân sách | D30: =+D31+D32 -> 0 | F30: =F32 -> 0 | H30: =D30-F30 -> 0
B31: Xây dựng cơ bản | D31: 0 | H31: =D31-F31 -> 0
B32: Chi thường xuyên | H32: =D32-F32 -> 0
A33: 2 | B33: Các khoản ghi thu, ghi chi vào ngân sách | C33: =C34 -> 445724080 | D33: =+D34+D35 -> 0 | E33: =+E34+E35 -> 445724080 | F33: =+F34+F35 -> 0 | G33: =C33-E33 -> 0 | H33: =D33-F33 -> 0
B34: Ngân sách huyện | C34: 445724080 | D34: 0 | E34: 445724080 | F34: 0 | G34: =C34-E34 -> 0 | H34: =D34-F34 -> 0 | J34: năm 2023 báo cáo
B35: Ngân sách xã | C35: 0 | D35: 0 | G35: =C35-E35 -> 0 | H35: =D35-F35 -> 0
A36: 3 | B36: Số chi sai chế độ phải xuất toán | C36: 0 | D36: 0 | G36: =C36-E36 -> 0 | H36: =D36-F36 -> 0
A37: a | B37: Nộp trả ngân sách: | C37: 0 | D37: =+D39 -> 0 | F37: =+F39 -> 0 | G37: =C37-E37 -> 0 | H37: =D37-F37 -> 0
B38: Trong đó: - Xây dựng cơ bản | C38: 0 | D38: 0 | G38: =C38-E38 -> 0 | H38: =D38-F38 -> 0
B39: - Chi thường xuyên | C39: 0 | G39: =C39-E39 -> 0 | H39: =D39-F39 -> 0
A40: b | B40: Cơ quan tài chính giảm trừ cấp phát | C40: =C41+C42 -> 0 | D40: =D41+D42 -> 0 | E40: =E41+E42 -> 0 | F40: =F41+F42 -> 0 | G40: =G41+G42 -> 0 | H40: =H41+H42 -> 0 | I40: =I41+I42 -> 0
B41: Trong đó: - Xây dựng cơ bản | C41: 0 | D41: 0 | G41: =C41-E41 -> 0 | H41: =D41-F41 -> 0
B42: - Chi thường xuyên | C42: 0 | E42: 0 | F42: =D42 -> 0 | G42: =C42-E42 -> 0 | H42: =D42-F42 -> 0
A43: 4 | B43: Chuyển quyết toán ngân sách năm sau | C43: 0 | D43: 0 | G43: =C43-E43 -> 0 | H43: =D43-F43 -> 0
B44: Trong đó: - Xây dựng cơ bản | C44: 0 | D44: 0 | G44: =C44-E44 -> 0 | H44: =D44-F44 -> 0
B45: - Chi thường xuyên | C45: 0 | D45: 0 | G45: =C45-E45 -> 0 | H45: =D45-F45 -> 0
A46: III | B46: Các vấn đề khác liên quan cần giải trình | C46: =C47 -> 0 | D46: =D47 -> 0 | E46: =E47 -> 0 | F46: =F47 -> 0 | G46: =G47 -> 0 | H46: =H47 -> 0
A47: 1 | B47: Giảm dự toán, giám cấp phát | C47: =C48+C49 -> 0 | D47: =D48+D49 -> 0 | E47: =E48+E49 -> 0 | F47: =F48+F49 -> 0 | G47: =G48+G49 -> 0 | H47: =H48+H49 -> 0
B48: Xây dựng cơ bản | C48: 0 | D48: 0 | E48: 0 | F48: 0 | G48: 0 | H48: 0
B49: Chi thường xuyên | C49: 0 | D49: 0 | E49: 0 | F49: =D49 -> 0 | G49: 0 | H49: 0
E51: =+'TT342- Biểu 68-ok'!D33 -> #REF!
E52: TM. ỦY BAN NHÂN DÂN
E53: CHỦ TỊCH
E60: Doãn Quốc Hoàn

Sheet TT342- Biểu 70
A1: ỦY BAN NHÂN DÂN | E1: Mẫu biểu số 70
A2: HUYỆN PHÙ CỪ
A4: BÁO CÁO CHI CHUYỂN NGUỒN NGÂN SÁCH HUYỆN SANG NĂM 2025
A5: =+'TT342-Biểu 60-ok'!A6 -> (Kèm theo Báo cáo số 25/BC-TCKH ngày 26/02/2025 của phòng Tài chính- Kế hoạch huyện)
A6: =+'TT342-Biểu 60-ok'!A7 -> (Kèm theo Báo cáo số 228/BC-UBND ngày 13/5/2025 của UBND huyện Phù Cừ)
E7: Đơn vị tính: Đồng
A8: STT | B8: Nội dung | C8: Năm trước (năm liền kề) | D8: Năm báo cáo | E8: Năm báo cáo so với năm liền kề | G8: Giải trình
E9: Số tuyệt đối | F9: Số tương đối (%)
A10: A | B10: B | C10: 1 | D10: 2 | E10: 3=2-1 | F10: 4=3/1 | G10: 5
B11: TỔNG CỘNG | C11: =SUM(C12:C18) -> 86277772276 | D11: =SUM(D12:D18) -> 88672805719 | E11: =D11-C11 -> 2395033443 | F11: =+E11/C11 -> 0.027759565
A12: 1 | B12: Chi đầu tư phát triển thực hiện chuyển sang năm sau theo quy định của Luật đầu tư công. Trường hợp đặc biệt, Thủ tướng Chính phủ quyết định về việc cho phép chuyển nguồn sang năm sau nữa, nhưng không quá thời hạn giải ngân của dự án nằm trong kế hoạch đầu | C12: 15707887591 | D12: 8443089000 | E12: =D12-C12 -> -7264798591 | F12: =+E12/C12 -> -0.46249367
A13: 2 | B13: Chi mua sắm trang thiết bị đã đầy đủ hồ sơ, hợp đồng mua sắm trang thiết bị ký bước ngày 31 tháng 12 năm thực hiện dự toán | C13: 0 | E13: =D13-C13 -> 0
A14: 3 | B14: Nguồn thực hiện chính sách tiền lương, phụ cấp, trợ cấp, các khoản tính theo tiền lương cơ sở, bảo trợ xã hội và các khoản khác | C14: 68635855090 | D14: 7.2976703e+10 | E14: =D14-C14 -> 4.340848e+09 | F14: =+E14/C14 -> 0.063244612
A15: 4 | B15: Kinh phí được giao tự chủ của các đơn vị sự nghiệp công lập và các cơ quan nhà nước; các khoản viện trợ không hoàn lại đã xác định cụ thể nhiệm vụ chi | C15: 141755193 | D15: 83182253 | E15: =D15-C15 -> -58572940 | F15: =+E15/C15 -> -0.41319784
A16: 5 | B16: Các khoản dự toán được cấp có thẩm quyền bổ sung sau ngày 30 tháng 9 năm thực hiện dự toán, không bao gồm các khoản bổ sung do các đơn vị dự toán cấp trên điều chỉnh dự toán đã giao của các đơn vị dự toán trực thuộc | D16: 961822131 | E16: =D16-C16 -> 961822131
A17: 6 | B17: KP nghiên cứu khoa học bố trí cho các đề tài, dự án nghiên cứu khoa học được cấp có thẩm quyền quyết định đang trong thời gian thực hiện | E17: =D17-C17 -> 0
A18: 7 | B18: Các khoản tăng thu, tiết kiệm chi được sử dụng theo quy định tại khoản 2 Điều 59 của Luật ngân sách nhà nước được cấp có thẩm quyền quyết định cho phép sử dụng vào năm sau | C18: 1792274402 | D18: 6.2080092e+09 | E18: =D18-C18 -> 4.4157348e+09 | F18: =+E18/C18 -> 2.4637605
D20: =+'TT342- Biểu 69'!E51 -> #REF!
D21: TRƯỞNG PHÒNG
D27: Chu Đức Anh

Sheet Phụ lục 04-ok
A1: UBND HUYỆN PHÙ CỪ | C1: Phụ lục QT 04
A2: PHÒNG TÀI CHÍNH- KH
A3: ỦY BAN NHÂN DÂN | C3: Phụ lục QT 04
A4: HUYỆN PHÙ CỪ
A6: THUYẾT MINH THU KHÁC NGÂN SÁCH HUYỆN NĂM 2024
A7: =+#REF! -> #REF!
A8: =+#REF! -> #REF! | E8: ='[1]PL05- xong'!E7 -> 0 | U8: ='[1]PL05- xong'!U7 -> 0 | Y8: ='[1]PL05- xong'!Y7 -> 0 | AC8: ='[1]PL05- xong'!AC7 -> 0 | AG8: ='[1]PL05- xong'!AG7 -> 0 | AK8: ='[1]PL05- xong'!AK7 -> 0 | AO8: ='[1]PL05- xong'!AO7 -> 0 | AS8: ='[1]PL05- xong'!AS7 -> 0 | AW8: ='[1]PL05- xong'!AW7 -> 0 | BA8: ='[1]PL05- xong'!BA7 -> 0 | BE8: ='[1]PL05- xong'!BE7 -> 0 | BI8: ='[1]PL05- xong'!BI7 -> 0 | BM8: ='[1]PL05- xong'!BM7 -> 0 | BQ8: ='[1]PL05- xong'!BQ7 -> 0 | BU8: ='[1]PL05- xong'!BU7 -> 0 | BY8: ='[1]PL05- xong'!BY7 -> 0 | CC8: ='[1]PL05- xong'!CC7 -> 0 | CG8: ='[1]PL05- xong'!CG7 -> 0 | CK8: ='[1]PL05- xong'!CK7 -> 0 | CO8: ='[1]PL05- xong'!CO7 -> 0 | CS8: ='[1]PL05- xong'!CS7 -> 0 | CW8: ='[1]PL05- xong'!CW7 -> 0 | DA8: ='[1]PL05- xong'!DA7 -> 0 | DE8: ='[1]PL05- xong'!DE7 -> 0 | DI8: ='[1]PL05- xong'!DI7 -> 0 | DM8: ='[1]PL05- xong'!DM7 -> 0 | DQ8: ='[1]PL05- xong'!DQ7 -> 0 | DU8: ='[1]PL05- xong'!DU7 -> 0 | DY8: ='[1]PL05- xong'!DY7 -> 0 | EC8: ='[1]PL05- xong'!EC7 -> 0 | EG8: ='[1]PL05- xong'!EG7 -> 0 | EK8: ='[1]PL05- xong'!EK7 -> 0 | EO8: ='[1]PL05- xong'!EO7 -> 0 | ES8: ='[1]PL05- xong'!ES7 -> 0 | EW8: ='[1]PL05- xong'!EW7 -> 0 | FA8: ='[1]PL05- xong'!FA7 -> 0 | FE8: ='[1]PL05- xong'!FE7 -> 0 | FI8: ='[1]PL05- xong'!FI7 -> 0 | FM8: ='[1]PL05- xong'!FM7 -> 0 | FQ8: ='[1]PL05- xong'!FQ7 -> 0 | FU8: ='[1]PL05- xong'!FU7 -> 0 | FY8: ='[1]PL05- xong'!FY7 -> 0 | GC8: ='[1]PL05- xong'!GC7 -> 0 | GG8: ='[1]PL05- xong'!GG7 -> 0 | GK8: ='[1]PL05- xong'!GK7 -> 0 | GO8: ='[1]PL05- xong'!GO7 -> 0 | GS8: ='[1]PL05- xong'!GS7 -> 0 | GW8: ='[1]PL05- xong'!GW7 -> 0 | HA8: ='[1]PL05- xong'!HA7 -> 0 | HE8: ='[1]PL05- xong'!HE7 -> 0 | HI8: ='[1]PL05- xong'!HI7 -> 0 | HM8: ='[1]PL05- xong'!HM7 -> 0 | HQ8: ='[1]PL05- xong'!HQ7 -> 0 | HU8: ='[1]PL05- xong'!HU7 -> 0 | HY8: ='[1]PL05- xong'!HY7 -> 0 | IC8: ='[1]PL05- xong'!IC7 -> 0 | IG8: ='[1]PL05- xong'!IG7 -> 0 | IK8: ='[1]PL05- xong'!IK7 -> 0 | IO8: ='[1]PL05- xong'!IO7 -> 0 | IS8: ='[1]PL05- xong'!IS7 -> 0
C9: Đơn vị: Đồng
A10: STT | B10: Nội dung | C10: Số quyết toán | D10: Ghi chú
A11: Tổng cộng | C11: =C12+C18 -> 2759430099
A12: I | B12: Ngân sách cấp huyện, TP | C12: =C13+C14+C15+C16+C17 -> 1214178889
A13: 1 | B13: Thu tiền phạt | C13: 361533000
A14: 2 | B14: Thu tịch thu
A15: 3 | B15: Thu tiền cho thuê, bán tài sản | C15: 13954000
A16: 4 | B16: Thu hồi các khoản chi năm trước | C16: 30702668
A17: 5 | B17: Thu khác còn lại | C17: 807989221
A18: II | B18: Ngân sách cấp xã, phường, thị trấn | C18: =SUM(C19:C24) -> 1545251210
A19: 1 | B19: Thu tiền phạt | C19: 34324000 | E19: M4250 | F19: Thu phạt, tịch thu | I19: 117168738
A20: 2 | B20: Thu tịch thu | E20: M4300
A21: 3 | B21: Thu bán tài sản
A22: 4 | B22: Thu hồi các khoản chi năm trước | C22: 234646730
A23: 5 | B23: Thu tiền cho thuê, bán tài sản khác
A24: 6 | B24: Thu khác còn lại | C24: 1276280480
C26: =+#REF! -> #REF!
C27: TRƯỞNG PHÒNG
C33: Chu Đức Anh
